Workbook

Sheet Rekapitulace stavby
A1: 2012 | D1: List obsahuje: | K1: 1) Souhrnný list stavby | W1: 2) Rekapitulace objektů | BA1: 2.0 | BB1: ZAMOK | BT1: False | BU1: False
C2: optimalizováno pro tisk sestav ve formátu A4 - na výšku | AR2: >> skryté sloupce << | BS2: 0,01 | BT2: 21
BS3: 0,01 | BT3: 15
C4: SOUHRNNÝ LIST STAVBY | AS4: v --- níže se nacházejí doplnkové a pomocné údaje k sestavám --- v | BS4: 0,001
D5: Kód: | K5: hlizov2 | BS5: 0,01
D6: Stavba: | K6: Údržba a obnova hřbitovních staveb | BS6: 0,1
D7: JKSO: | AK7: CC-CZ: | BS7: 1
D8: Místo: | K8: Hlízov | AK8: Datum: | BS8: 10
BS9: 100
D10: Objednavatel: | AK10: IČ: | AN10: IČ:00640336 | BS10: 0,1
E11: Obec Hlízov,285 32 Hlízov 164 | AK11: DIČ: | BS11: 0,1
BS12: 0,1
D13: Zhotovitel: | AK13: IČ: | BS13: 0,1
E14: dosud neurčen | AK14: DIČ: | BS14: 0,1
BS15: False
D16: Projektant: | AK16: IČ: | BS16: False
E17: Beran Pavel | AK17: DIČ: | BS17: True
BS18: 0,01
D19: Zpracovatel: | AK19: IČ: | BS19: 0,01
E20: Beran Pavel | AK20: DIČ:
D22: Poznámka:
D26: Náklady z rozpočtů | AK26: =AG98 -> 0
D29: Cena bez DPH | AK29: =ROUND($AK$26+$AK$27,2) -> 0
D31: DPH | F31: základní | L31: 0.21 | T31: ze | W31: =AK26 -> 0 | AK31: =W31/100*21 -> 0
F32: snížená | L32: 0.15 | T32: ze | W32: 0 | AK32: 0
F33: zákl. přenesená | L33: 0.21 | T33: ze | W33: =ROUND($BB$87+SUM($CF$100:$CF$100),2) -> #REF! | AK33: 0
F34: sníž. přenesená | L34: 0.15 | T34: ze | W34: =ROUND($BC$87+SUM($CG$100:$CG$100),2) -> #REF! | AK34: 0
F35: nulová | L35: 0 | T35: ze | W35: =ROUND($BD$87+SUM($CH$100:$CH$100),2) -> #REF! | AK35: 0
D37: Cena s DPH | T37: v | X37: CZK | AK37: =AN98 -> 0
D49: Projektant | AC49: Zpracovatel
D58: Datum a podpis: | R58: Razítko | AC58: Datum a podpis: | AM58: Razítko
D60: Objednavatel | AC60: Zhotovitel
D69: Datum a podpis: | R69: Razítko | AC69: Datum a podpis: | AM69: Razítko
C76: REKAPITULACE OBJEKTŮ STAVBY
C77: Kód: | L77: =$K$5 -> hlizov2
C78: Stavba: | L78: Údržba a obnova hřbitovních staveb
C80: Místo: | L80: =IF($K$8="","",$K$8) -> Hlízov | AI80: Datum: | AM80: =IF($AN$8="","",$AN$8)
C82: Objednavatel: | L82: =IF($E$11="","",$E$11) -> Obec Hlízov,285 32 Hlízov 164 | AI82: Projektant: | AM82: =IF($E$17="","",$E$17) -> Beran Pavel | AS82: Informatívní údaje z listů zakázek
C83: Zhotovitel: | L83: =IF($E$14="","",$E$14) -> dosud neurčen | AI83: Zpracovatel: | AM83: =IF($E$20="","",$E$20) -> Beran Pavel
C85: Kód | I85: Objekt | AG85: Cena bez DPH [CZK] | AN85: Cena s DPH [CZK] | AS85: z toho Ostat. náklady [CZK] | AT85: DPH [CZK] | AU85: Normohodiny [h] | AV85: DPH základní [CZK] | AW85: DPH snížená [CZK] | AX85: DPH základní přenesená [CZK] | AY85: DPH snížená přenesená [CZK] | AZ85: Základna DPH základní | BA85: Základna DPH snížená | BB85: Základna DPH zákl. přenesená | BC85: Základna DPH sníž. přenesená | BD85: Základna DPH nulová
C87: 1) Náklady z rozpočtů - uznatelné | AG87: =AG88+AG89 -> 0 | AN87: =AN88+AN89 -> 0 | AS87: =ROUND(SUM($AS$88:$AS$97),2) -> #REF! | AT87: =ROUND(SUM($AV$87:$AW$87),2) -> #REF! | AU87: =ROUND(SUM($AU$88:$AU$97),5) -> #REF! | AV87: =ROUND($AZ$87*$L$31,2) -> #REF! | AW87: =ROUND($BA$87*$L$32,2) -> #REF! | AX87: =ROUND($BB$87*$L$31,2) -> #REF! | AY87: =ROUND($BC$87*$L$32,2) -> #REF! | AZ87: =ROUND(SUM($AZ$88:$AZ$97),2) -> #REF! | BA87: =ROUND(SUM($BA$88:$BA$97),2) -> #REF! | BB87: =ROUND(SUM($BB$88:$BB$97),2) -> #REF! | BC87: =ROUND(SUM($BC$88:$BC$97),2) -> #REF! | BD87: =ROUND(SUM($BD$88:$BD$97),2) -> #REF! | BS87: D | BT87: 0 | BU87: ###NOIMPORT### | BV87: IMPORT | BW87: {E53C5813-DFB5-496D-8789-4916587F87CB} | BX87: {00000000-0000-0000-0000-000000000000}
D88: kaple | J88: SO 01 Kaple | AG88: ='kaple - SO 01 Kaple - uzn.'!M30 -> 0 | AN88: =AG88*1.21 -> 0 | AS88: =#REF! -> #REF! | AT88: =ROUND(SUM($AV$88:$AW$88),2) -> #REF! | AU88: =#REF! -> #REF! | AV88: =#REF! -> #REF! | AW88: =#REF! -> #REF! | AX88: =#REF! -> #REF! | AY88: =#REF! -> #REF! | AZ88: =#REF! -> #REF! | BA88: =#REF! -> #REF! | BB88: =#REF! -> #REF! | ... BD88: =#REF! -> #REF! | BT88: 1 | BV88: IMPORT | BW88: {6629CC38-DF07-43F4-85A4-1B0CCEE4C40F} | BX88: {E53C5813-DFB5-496D-8789-4916587F87CB}
D89: marnice | J89: SO 02 Márnice | AG89: ='marnice - SO 02 Márnice - uzn.'!M30 -> 0 | AN89: =AG89*1.21 -> 0 | AS89: =#REF! -> #REF! | AT89: =ROUND(SUM($AV$89:$AW$89),2) -> #REF! | AU89: =#REF! -> #REF! | AV89: =#REF! -> #REF! | AW89: =#REF! -> #REF! | AX89: =#REF! -> #REF! | AY89: =#REF! -> #REF! | AZ89: =#REF! -> #REF! | BA89: =#REF! -> #REF! | BB89: =#REF! -> #REF! | ... BD89: =#REF! -> #REF! | BT89: 1 | BV89: IMPORT | BW89: {66B8A670-C2B0-4B28-B938-B4F735ED7200} | BX89: {E53C5813-DFB5-496D-8789-4916587F87CB}
B90: 2) Náklady rozpočtů - neuznatelné | AG90: =SUM(AG91:AM95) -> 0 | AN90: =SUM(AN91:AP95) -> 0 | AS90: =ROUND(SUM($AU$90:$AV$90),2) -> #REF! | AT90: =#REF! -> #REF! | AU90: =#REF! -> #REF! | AV90: =#REF! -> #REF! | AW90: =#REF! -> #REF! | AX90: =#REF! -> #REF! | AY90: =#REF! -> #REF! | AZ90: =#REF! -> #REF! | BA90: =#REF! -> #REF! | ... BC90: =#REF! -> #REF! | BS90: 1 | BU90: IMPORT | BV90: {0A6D7EE5-11F1-4CC7-BFA2-B336DF6E3552} | BW90: {E53C5813-DFB5-496D-8789-4916587F87CB}
D91: kaple | J91: SO 01 Kaple | AG91: ='kaple - SO 01 Kaple - neuz.'!M30 -> 0 | AN91: =AG91*1.21 -> 0
D92: marnice | J92: SO 02 Márnice | AG92: ='marnice - SO 02 Márnice - neuz.'!M30 -> 0 | AN92: =AG92*1.21 -> 0
D93: sklad | J93: SO 03 Sklad | AG93: ='sklad - SO 03 Sklad'!M30 -> 0 | AN93: =AG93*1.21 -> 0
D94: kolumbarium | J94: SO 04 Kolumbarium | AG94: ='kolumbarium - SO 04 Kolum...'!M30 -> 0 | AN94: =AG94*1.21 -> 0
D95: kolumbarium 2 | J95: SO 05 Kolumbarium | AG95: ='kolumbarium2 - SO 05 Kolu...'!M30 -> 0 | AN95: =AG95*1.21 -> 0
AS96: =#REF! -> #REF! | AT96: =ROUND(SUM($AV$96:$AW$96),2) -> #REF! | AU96: =#REF! -> #REF! | AV96: =#REF! -> #REF! | AW96: =#REF! -> #REF! | AX96: =#REF! -> #REF! | AY96: =#REF! -> #REF! | AZ96: =#REF! -> #REF! | BA96: =#REF! -> #REF! | BB96: =#REF! -> #REF! | ... BD96: =#REF! -> #REF! | BT96: 1 | BV96: IMPORT | BW96: {C848594C-378B-4F79-9218-12803BE178B1} | BX96: {E53C5813-DFB5-496D-8789-4916587F87CB}
AS97: =#REF! -> #REF! | AT97: =ROUND(SUM($AV$97:$AW$97),2) -> #REF! | AU97: =#REF! -> #REF! | AV97: =#REF! -> #REF! | AW97: =#REF! -> #REF! | AX97: =#REF! -> #REF! | AY97: =#REF! -> #REF! | AZ97: =#REF! -> #REF! | BA97: =#REF! -> #REF! | BB97: =#REF! -> #REF! | ... BD97: =#REF! -> #REF! | BT97: 1 | BV97: IMPORT | BW97: {F35CD5BA-6A2A-44C8-807A-CF6A795EA6D5} | BX97: {E53C5813-DFB5-496D-8789-4916587F87CB}
C98: Celkové náklady za stavbu 1) + 2) | AG98: =AG87+AG90 -> 0 | AN98: =AN87+AN90 -> 0
AS99: Procent. zadání [% nákladů rozpočtu] | AT99: Zařazení nákladů | AU99: DPH | AV99: DPH [CZK]

Sheet kaple - SO 01 Kaple - uzn.
D1: List obsahuje: | F1: 1) Krycí list rozpočtu | H1: 2) Rekapitulace rozpočtu | L1: 3) Rozpočet | O1: Zpět na list: | S1: Rekapitulace stavby
C2: optimalizováno pro tisk sestav ve formátu A4 - na výšku | S2: >> skryté sloupce << | AT2: {6629CC38-DF07-43F4-85A4-1B0CCEE4C40F}
AT3: 2
C4: KRYCÍ LIST ROZPOČTU | T4: v --- níže se nacházejí doplnkové a pomocné údaje k sestavám --- v | AT4: False
D6: Stavba: | F6: ='Rekapitulace stavby'!K6 -> Údržba a obnova hřbitovních staveb
D7: Objekt: | F7: kaple - SO 01 Kaple
D8: JKSO: | M8: CC-CZ:
D9: Místo: | F9: Hlízov | M9: Datum:
D11: Objednavatel: | M11: IČ: | O11: IČ:00640336
E12: Obec Hlízov,285 32 Hlízov 164 | M12: DIČ:
D14: Zhotovitel: | M14: IČ:
E15: dosud neurčen | M15: DIČ:
D17: Projektant: | M17: IČ:
E18: Beran Pavel | M18: DIČ:
D20: Zpracovatel: | M20: IČ:
E21: Beran Pavel | M21: DIČ:
D23: Poznámka:
D27: Náklady z rozpočtu | M27: =$N$88 -> 0
D28: Ostatní náklady | M28: =$N$101 -> 0
D30: Cena bez DPH | M30: =ROUND($M$27+$M$28,2) -> 0
D32: DPH | E32: základní | F32: 0.21 | G32: ze | H32: =ROUND((SUM($BE$101:$BE$102)+SUM($BE$120:$BE$169)),2) -> 0 | M32: =ROUND(ROUND((SUM($BE$101:$BE$102)+SUM($BE$120:$BE$169)),2)*$F$32,2) -> 0
E33: snížená | F33: 0.15 | G33: ze | H33: =ROUND((SUM($BF$101:$BF$102)+SUM($BF$120:$BF$169)),2) -> 0 | M33: =ROUND(ROUND((SUM($BF$101:$BF$102)+SUM($BF$120:$BF$169)),2)*$F$33,2) -> 0
E34: zákl. přenesená | F34: 0.21 | G34: ze | H34: =ROUND((SUM($BG$101:$BG$102)+SUM($BG$120:$BG$169)),2) -> 0 | M34: 0
E35: sníž. přenesená | F35: 0.15 | G35: ze | H35: =ROUND((SUM($BH$101:$BH$102)+SUM($BH$120:$BH$169)),2) -> 0 | M35: 0
E36: nulová | F36: 0 | G36: ze | H36: =ROUND((SUM($BI$101:$BI$102)+SUM($BI$120:$BI$169)),2) -> 0 | M36: 0
D38: Cena s DPH | G38: v | H38: CZK | L38: =SUM($M$30:$M$36) -> 0
D50: Projektant | J50: Zpracovatel
D59: Datum a podpis: | G59: Razítko | J59: Datum a podpis: | N59: Razítko
D61: Objednavatel | J61: Zhotovitel
D70: Datum a podpis: | G70: Razítko | J70: Datum a podpis: | N70: Razítko
C76: REKAPITULACE ROZPOČTU
C78: Stavba: | F78: =$F$6 -> Údržba a obnova hřbitovních staveb
C79: Objekt: | F79: =$F$7 -> kaple - SO 01 Kaple
C81: Místo: | F81: =$F$9 -> Hlízov | K81: Datum: | M81: =IF($O$9="","",$O$9)
C83: Objednavatel: | F83: =$E$12 -> Obec Hlízov,285 32 Hlízov 164 | K83: Projektant: | M83: =$E$18 -> Beran Pavel
C84: Zhotovitel: | F84: =IF($E$15="","",$E$15) -> dosud neurčen | K84: Zpracovatel: | M84: =$E$21 -> Beran Pavel
C86: Kód - Popis | N86: Cena celkem [CZK]
C88: 1) Náklady z rozpočtu | N88: =$N$120 -> 0 | AU88: -1
D89: HSV - Práce a dodávky HSV | N89: =$N$121 -> 0
D90: 1 - Zemní práce | N90: =$N$122 -> 0
D91: 6 - Úpravy povrchů, podlahy a osazování výplní | N91: =$N$126 -> 0
D92: 9 - Ostatní konstrukce a práce, bourání | N92: =$N$137 -> 0
D93: 998 - Přesun hmot | N93: =$N$145 -> 0
D94: PSV - Práce a dodávky PSV | N94: =$N$147 -> 0
D95: 762 - Konstrukce tesařské | N95: =$N$148 -> 0
D96: 764 - Konstrukce klempířské | N96: =$N$153 -> 0
D97: 765 - Krytina skládaná | N97: =$N$156 -> 0
D98: VRN - Vedlejší rozpočtové náklady | N98: =$N$167 -> 0
D99: VRN3 - Zařízení staveniště | N99: =$N$168 -> 0
C101: 2) Ostatní náklady | N101: 0 | U101: DPH
C103: Celkové náklady za stavbu 1) + 2) | L103: =ROUND(SUM($N$88+$N$101),2) -> 0
C109: ROZPOČET
C111: Stavba: | F111: =$F$6 -> Údržba a obnova hřbitovních staveb
C112: Objekt: | F112: =$F$7 -> kaple - SO 01 Kaple
C114: Místo: | F114: =$F$9 -> Hlízov | K114: Datum: | M114: =IF($O$9="","",$O$9)
C116: Objednavatel: | F116: =$E$12 -> Obec Hlízov,285 32 Hlízov 164 | K116: Projektant: | M116: =$E$18 -> Beran Pavel
C117: Zhotovitel: | F117: =IF($E$15="","",$E$15) -> dosud neurčen | K117: Zpracovatel: | M117: =$E$21 -> Beran Pavel
C119: PČ | D119: Typ | E119: Kód | F119: Popis | J119: MJ | K119: Množství | L119: J.cena [CZK] | N119: Cena celkem [CZK] | T119: Poznámka | U119: DPH | V119: J. Nh [h] | W119: Nh celkem [h] | X119: J. hmotnost [t] | Y119: Hmotnost celkem [t] | Z119: J. suť [t] | AA119: Suť Celkem [t]
C120: Náklady z rozpočtu | N120: =$BK$120 -> 0 | W120: =$W$121+$W$147+$W$167 -> 974.32276 | Y120: =$Y$121+$Y$147+$Y$167 -> 16.654772 | AA120: =$AA$121+$AA$147+$AA$167 -> 12.954422 | AT120: D | AU120: -1 | BK120: =$BK$121+$BK$147+$BK$167 -> 0
D121: HSV - Práce a dodávky HSV | N121: =$BK$121 -> 0 | W121: =$W$122+$W$126+$W$137+$W$145 -> 476.98076 | Y121: =$Y$122+$Y$126+$Y$137+$Y$145 -> 11.498874 | AA121: =$AA$122+$AA$126+$AA$137+$AA$145 -> 5.522 | AR121: 1 | AT121: D | AU121: 0 | AY121: ROZPOCET | BK121: =$BK$122+$BK$126+$BK$137+$BK$145 -> 0
D122: 1 - Zemní práce | N122: =$BK$122 -> 0 | W122: =SUM($W$123:$W$125) -> 23.088 | Y122: =SUM($Y$123:$Y$125) -> 0.00234 | AA122: =SUM($AA$123:$AA$125) -> 0 | AR122: 1 | AT122: D | AU122: 1 | AY122: ROZPOCET | BK122: =SUM($BK$123:$BK$125) -> 0
C123: 1 | D123: K | E123: 181111111 | F123: Plošná úprava terénu do 500 m2 zemina tř 1 až 4 nerovnosti do +/- 100 mm v rovinně a svahu do 1:5 | J123: m2 | K123: 156 | N123: =ROUND($L$123*$K$123,2) -> 0 | U123: základní | V123: 0.09 | W123: =$V$123*$K$123 -> 14.04 | X123: 0 | Y123: =$X$123*$K$123 -> 0 | Z123: 0 | AA123: =$Z$123*$K$123 -> 0 | AR123: 4 | AT123: K | AU123: 2 | AY123: ROZPOCET | BE123: =IF($U$123="základní",$N$123,0) -> 0 | BF123: =IF($U$123="snížená",$N$123,0) -> 0 | BG123: =IF($U$123="zákl. přenesená",$N$123,0) -> 0 | BH123: =IF($U$123="sníž. přenesená",$N$123,0) -> 0 | BI123: =IF($U$123="nulová",$N$123,0) -> 0 | BJ123: 1 | BK123: =ROUND($L$123*$K$123,2) -> 0 | BL123: 4 | BM123: -1119446413
C124: 2 | D124: K | E124: 181411131 | F124: Založení parkového trávníku výsevem plochy do 1000 m2 v rovině a ve svahu do 1:5 | J124: m2 | K124: 156 | N124: =ROUND($L$124*$K$124,2) -> 0 | U124: základní | V124: 0.058 | W124: =$V$124*$K$124 -> 9.048 | X124: 0 | Y124: =$X$124*$K$124 -> 0 | Z124: 0 | AA124: =$Z$124*$K$124 -> 0 | AR124: 4 | AT124: K | AU124: 2 | AY124: ROZPOCET | BE124: =IF($U$124="základní",$N$124,0) -> 0 | BF124: =IF($U$124="snížená",$N$124,0) -> 0 | BG124: =IF($U$124="zákl. přenesená",$N$124,0) -> 0 | BH124: =IF($U$124="sníž. přenesená",$N$124,0) -> 0 | BI124: =IF($U$124="nulová",$N$124,0) -> 0 | BJ124: 1 | BK124: =ROUND($L$124*$K$124,2) -> 0 | BL124: 4 | BM124: -1541947265
C125: 3 | D125: M | E125: 005724100 | F125: osivo směs travní parková | J125: kg | K125: 2.34 | N125: =ROUND($L$125*$K$125,2) -> 0 | U125: základní | V125: 0 | W125: =$V$125*$K$125 -> 0 | X125: 0.001 | Y125: =$X$125*$K$125 -> 0.00234 | Z125: 0 | AA125: =$Z$125*$K$125 -> 0 | AR125: 8 | AT125: M | AU125: 2 | AY125: ROZPOCET | BE125: =IF($U$125="základní",$N$125,0) -> 0 | BF125: =IF($U$125="snížená",$N$125,0) -> 0 | BG125: =IF($U$125="zákl. přenesená",$N$125,0) -> 0 | BH125: =IF($U$125="sníž. přenesená",$N$125,0) -> 0 | BI125: =IF($U$125="nulová",$N$125,0) -> 0 | BJ125: 1 | BK125: =ROUND($L$125*$K$125,2) -> 0 | BL125: 4 | BM125: -373545268
D126: 6 - Úpravy povrchů, podlahy a osazování výplní | N126: =$BK$126 -> 0 | W126: =SUM($W$127:$W$136) -> 309.54369 | Y126: =SUM($Y$127:$Y$136) -> 6.6529184 | AA126: =SUM($AA$127:$AA$136) -> 0 | AR126: 1 | AT126: D | AU126: 1 | AY126: ROZPOCET | BK126: =SUM($BK$127:$BK$136) -> 0
C127: 4 | D127: K | E127: 621531021 | F127: Tenkovrstvá silikonová zrnitá omítka tl. 2,0 mm včetně penetrace vnějších podhledů | J127: m2 | K127: 158 | N127: =ROUND($L$127*$K$127,2) -> 0 | U127: základní | V127: 0.285 | W127: =$V$127*$K$127 -> 45.03 | X127: 0.00348 | Y127: =$X$127*$K$127 -> 0.54984 | Z127: 0 | AA127: =$Z$127*$K$127 -> 0 | AR127: 4 | AT127: K | AU127: 2 | AY127: ROZPOCET | BE127: =IF($U$127="základní",$N$127,0) -> 0 | BF127: =IF($U$127="snížená",$N$127,0) -> 0 | BG127: =IF($U$127="zákl. přenesená",$N$127,0) -> 0 | BH127: =IF($U$127="sníž. přenesená",$N$127,0) -> 0 | BI127: =IF($U$127="nulová",$N$127,0) -> 0 | BJ127: 1 | BK127: =ROUND($L$127*$K$127,2) -> 0 | BL127: 4 | BM127: 1447394161
C128: 5 | D128: K | E128: 622135001 | F128: Vyrovnání podkladu vnějších stěn maltou vápenocementovou tl do 10 mm | J128: m2 | K128: 158 | N128: =ROUND($L$128*$K$128,2) -> 0 | U128: základní | V128: 0.424 | W128: =$V$128*$K$128 -> 66.992 | X128: 0.02048 | Y128: =$X$128*$K$128 -> 3.23584 | Z128: 0 | AA128: =$Z$128*$K$128 -> 0 | AR128: 4 | AT128: K | AU128: 2 | AY128: ROZPOCET | BE128: =IF($U$128="základní",$N$128,0) -> 0 | BF128: =IF($U$128="snížená",$N$128,0) -> 0 | BG128: =IF($U$128="zákl. přenesená",$N$128,0) -> 0 | BH128: =IF($U$128="sníž. přenesená",$N$128,0) -> 0 | BI128: =IF($U$128="nulová",$N$128,0) -> 0 | BJ128: 1 | BK128: =ROUND($L$128*$K$128,2) -> 0 | BL128: 4 | BM128: 723640475
C129: 6 | D129: K | E129: 622135091 | F129: Příplatek k vyrovnání vnějších stěn maltou vápenocementovou za každých dalších 5 mm tl | J129: m2 | K129: 158 | N129: =ROUND($L$129*$K$129,2) -> 0 | U129: základní | V129: 0.09 | W129: =$V$129*$K$129 -> 14.22 | X129: 0.0079 | Y129: =$X$129*$K$129 -> 1.2482 | Z129: 0 | AA129: =$Z$129*$K$129 -> 0 | AR129: 4 | AT129: K | AU129: 2 | AY129: ROZPOCET | BE129: =IF($U$129="základní",$N$129,0) -> 0 | BF129: =IF($U$129="snížená",$N$129,0) -> 0 | BG129: =IF($U$129="zákl. přenesená",$N$129,0) -> 0 | BH129: =IF($U$129="sníž. přenesená",$N$129,0) -> 0 | BI129: =IF($U$129="nulová",$N$129,0) -> 0 | BJ129: 1 | BK129: =ROUND($L$129*$K$129,2) -> 0 | BL129: 4 | BM129: -303754975
C130: 7 | D130: K | E130: 622325401 | F130: Oprava vnější vápenné nebo vápenocementové štukové omítky složitosti 3 v rozsahu do 10% | J130: m2 | K130: 158 | N130: =ROUND($L$130*$K$130,2) -> 0 | U130: základní | V130: 0.627 | W130: =$V$130*$K$130 -> 99.066 | X130: 0.00643 | Y130: =$X$130*$K$130 -> 1.01594 | Z130: 0 | AA130: =$Z$130*$K$130 -> 0 | AR130: 4 | AT130: K | AU130: 2 | AY130: ROZPOCET | BE130: =IF($U$130="základní",$N$130,0) -> 0 | BF130: =IF($U$130="snížená",$N$130,0) -> 0 | BG130: =IF($U$130="zákl. přenesená",$N$130,0) -> 0 | BH130: =IF($U$130="sníž. přenesená",$N$130,0) -> 0 | BI130: =IF($U$130="nulová",$N$130,0) -> 0 | BJ130: 1 | BK130: =ROUND($L$130*$K$130,2) -> 0 | BL130: 4 | BM130: 705455456
C131: 8 | D131: K | E131: 622531021 | F131: Tenkovrstvá silikonová zrnitá omítka tl. 2,0 mm včetně penetrace vnějších stěn | J131: m2 | K131: 158 | N131: =ROUND($L$131*$K$131,2) -> 0 | U131: základní | V131: 0.245 | W131: =$V$131*$K$131 -> 38.71 | X131: 0.00348 | Y131: =$X$131*$K$131 -> 0.54984 | Z131: 0 | AA131: =$Z$131*$K$131 -> 0 | AR131: 4 | AT131: K | AU131: 2 | AY131: ROZPOCET | BE131: =IF($U$131="základní",$N$131,0) -> 0 | BF131: =IF($U$131="snížená",$N$131,0) -> 0 | BG131: =IF($U$131="zákl. přenesená",$N$131,0) -> 0 | BH131: =IF($U$131="sníž. přenesená",$N$131,0) -> 0 | BI131: =IF($U$131="nulová",$N$131,0) -> 0 | BJ131: 1 | BK131: =ROUND($L$131*$K$131,2) -> 0 | BL131: 4 | BM131: 1353651792
C132: 9 | D132: K | E132: 622613101 | F132: Hydrofobizační nátěr silikonový vnějších stěn z cihel nebo z přírodního kamene ručně | J132: m2 | K132: 48 | N132: =ROUND($L$132*$K$132,2) -> 0 | U132: základní | V132: 0.09 | W132: =$V$132*$K$132 -> 4.32 | X132: 0.00024 | Y132: =$X$132*$K$132 -> 0.01152 | Z132: 0 | AA132: =$Z$132*$K$132 -> 0 | AR132: 4 | AT132: K | AU132: 2 | AY132: ROZPOCET | BE132: =IF($U$132="základní",$N$132,0) -> 0 | BF132: =IF($U$132="snížená",$N$132,0) -> 0 | BG132: =IF($U$132="zákl. přenesená",$N$132,0) -> 0 | BH132: =IF($U$132="sníž. přenesená",$N$132,0) -> 0 | BI132: =IF($U$132="nulová",$N$132,0) -> 0 | BJ132: 1 | BK132: =ROUND($L$132*$K$132,2) -> 0 | BL132: 4 | BM132: 33162423
C133: 10 | D133: K | E133: 622613301 | F133: Hydrofobizační nátěr silikonový střech z cihel nebo z přírodního kamene strojně | J133: m2 | K133: 166.71 | N133: =ROUND($L$133*$K$133,2) -> 0 | U133: základní | V133: 0.039 | W133: =$V$133*$K$133 -> 6.50169 | X133: 0.00024 | Y133: =$X$133*$K$133 -> 0.0400104 | Z133: 0 | AA133: =$Z$133*$K$133 -> 0 | AR133: 4 | AT133: K | AU133: 2 | AY133: ROZPOCET | BE133: =IF($U$133="základní",$N$133,0) -> 0 | BF133: =IF($U$133="snížená",$N$133,0) -> 0 | BG133: =IF($U$133="zákl. přenesená",$N$133,0) -> 0 | BH133: =IF($U$133="sníž. přenesená",$N$133,0) -> 0 | BI133: =IF($U$133="nulová",$N$133,0) -> 0 | BJ133: 1 | BK133: =ROUND($L$133*$K$133,2) -> 0 | BL133: 4 | BM133: -187403359
C134: 11 | D134: K | E134: 629991011 | F134: Zakrytí výplní otvorů a svislých ploch fólií přilepenou lepící páskou | J134: m2 | K134: 14.4 | N134: =ROUND($L$134*$K$134,2) -> 0 | U134: základní | V134: 0.06 | W134: =$V$134*$K$134 -> 0.864 | X134: 0.00012 | Y134: =$X$134*$K$134 -> 0.001728 | Z134: 0 | AA134: =$Z$134*$K$134 -> 0 | AR134: 4 | AT134: K | AU134: 2 | AY134: ROZPOCET | BE134: =IF($U$134="základní",$N$134,0) -> 0 | BF134: =IF($U$134="snížená",$N$134,0) -> 0 | BG134: =IF($U$134="zákl. přenesená",$N$134,0) -> 0 | BH134: =IF($U$134="sníž. přenesená",$N$134,0) -> 0 | BI134: =IF($U$134="nulová",$N$134,0) -> 0 | BJ134: 1 | BK134: =ROUND($L$134*$K$134,2) -> 0 | BL134: 4 | BM134: 2121546475
C135: 12 | D135: K | E135: 629999022 | F135: Příplatek k omítce za provádění zaoblených ploch poloměru přes 100 mm | J135: m2 | K135: 132 | N135: =ROUND($L$135*$K$135,2) -> 0 | U135: základní | V135: 0.25 | W135: =$V$135*$K$135 -> 33 | X135: 0 | Y135: =$X$135*$K$135 -> 0 | Z135: 0 | AA135: =$Z$135*$K$135 -> 0 | AR135: 4 | AT135: K | AU135: 2 | AY135: ROZPOCET | BE135: =IF($U$135="základní",$N$135,0) -> 0 | BF135: =IF($U$135="snížená",$N$135,0) -> 0 | BG135: =IF($U$135="zákl. přenesená",$N$135,0) -> 0 | BH135: =IF($U$135="sníž. přenesená",$N$135,0) -> 0 | BI135: =IF($U$135="nulová",$N$135,0) -> 0 | BJ135: 1 | BK135: =ROUND($L$135*$K$135,2) -> 0 | BL135: 4 | BM135: 61958405
C136: 13 | D136: K | E136: 629999042 | F136: Příplatek k úpravám vnějších povrchů za provádění prací v nadstřešní části | J136: m2 | K136: 12 | N136: =ROUND($L$136*$K$136,2) -> 0 | U136: základní | V136: 0.07 | W136: =$V$136*$K$136 -> 0.84 | X136: 0 | Y136: =$X$136*$K$136 -> 0 | Z136: 0 | AA136: =$Z$136*$K$136 -> 0 | AR136: 4 | AT136: K | AU136: 2 | AY136: ROZPOCET | BE136: =IF($U$136="základní",$N$136,0) -> 0 | BF136: =IF($U$136="snížená",$N$136,0) -> 0 | BG136: =IF($U$136="zákl. přenesená",$N$136,0) -> 0 | BH136: =IF($U$136="sníž. přenesená",$N$136,0) -> 0 | BI136: =IF($U$136="nulová",$N$136,0) -> 0 | BJ136: 1 | BK136: =ROUND($L$136*$K$136,2) -> 0 | BL136: 4 | BM136: -2069494208
D137: 9 - Ostatní konstrukce a práce, bourání | N137: =$BK$137 -> 0 | W137: =SUM($W$138:$W$144) -> 137.7742 | Y137: =SUM($Y$138:$Y$144) -> 4.843616 | AA137: =SUM($AA$138:$AA$144) -> 5.522 | AR137: 1 | AT137: D | AU137: 1 | AY137: ROZPOCET | BK137: =SUM($BK$138:$BK$144) -> 0
C138: 14 | D138: K | E138: 941111111 | F138: Montáž lešení řadového trubkového lehkého s podlahami zatížení do 200 kg/m2 š do 0,9 m v do 10 m | J138: m2 | K138: 195 | N138: =ROUND($L$138*$K$138,2) -> 0 | U138: základní | V138: 0.14 | W138: =$V$138*$K$138 -> 27.3 | X138: 0 | Y138: =$X$138*$K$138 -> 0 | Z138: 0 | AA138: =$Z$138*$K$138 -> 0 | AR138: 4 | AT138: K | AU138: 2 | AY138: ROZPOCET | BE138: =IF($U$138="základní",$N$138,0) -> 0 | BF138: =IF($U$138="snížená",$N$138,0) -> 0 | BG138: =IF($U$138="zákl. přenesená",$N$138,0) -> 0 | BH138: =IF($U$138="sníž. přenesená",$N$138,0) -> 0 | BI138: =IF($U$138="nulová",$N$138,0) -> 0 | BJ138: 1 | BK138: =ROUND($L$138*$K$138,2) -> 0 | BL138: 4 | BM138: 806016066
C139: 15 | D139: K | E139: 941111211 | F139: Příplatek k lešení řadovému trubkovému lehkému s podlahami š 0,9 m v 10 m za první a ZKD den použití | J139: m2 | K139: 5400 | N139: =ROUND($L$139*$K$139,2) -> 0 | U139: základní | V139: 0 | W139: =$V$139*$K$139 -> 0 | X139: 0 | Y139: =$X$139*$K$139 -> 0 | Z139: 0 | AA139: =$Z$139*$K$139 -> 0 | AR139: 4 | AT139: K | AU139: 2 | AY139: ROZPOCET | BE139: =IF($U$139="základní",$N$139,0) -> 0 | BF139: =IF($U$139="snížená",$N$139,0) -> 0 | BG139: =IF($U$139="zákl. přenesená",$N$139,0) -> 0 | BH139: =IF($U$139="sníž. přenesená",$N$139,0) -> 0 | BI139: =IF($U$139="nulová",$N$139,0) -> 0 | BJ139: 1 | BK139: =ROUND($L$139*$K$139,2) -> 0 | BL139: 4 | BM139: 398997511
C140: 16 | D140: K | E140: 941111811 | F140: Demontáž lešení řadového trubkového lehkého s podlahami zatížení do 200 kg/m2 š do 0,9 m v do 10 m | J140: m2 | K140: 195 | N140: =ROUND($L$140*$K$140,2) -> 0 | U140: základní | V140: 0.087 | W140: =$V$140*$K$140 -> 16.965 | X140: 0 | Y140: =$X$140*$K$140 -> 0 | Z140: 0 | AA140: =$Z$140*$K$140 -> 0 | AR140: 4 | AT140: K | AU140: 2 | AY140: ROZPOCET | BE140: =IF($U$140="základní",$N$140,0) -> 0 | BF140: =IF($U$140="snížená",$N$140,0) -> 0 | BG140: =IF($U$140="zákl. přenesená",$N$140,0) -> 0 | BH140: =IF($U$140="sníž. přenesená",$N$140,0) -> 0 | BI140: =IF($U$140="nulová",$N$140,0) -> 0 | BJ140: 1 | BK140: =ROUND($L$140*$K$140,2) -> 0 | BL140: 4 | BM140: -55227688
C141: 17 | D141: K | E141: 978019321 | F141: Otlučení vnější vápenné nebo vápenocementové vnější omítky stupně členitosti 3 až 5 rozsahu do 10% | J141: m2 | K141: 158 | N141: =ROUND($L$141*$K$141,2) -> 0 | U141: základní | V141: 0.032 | W141: =$V$141*$K$141 -> 5.056 | X141: 0 | Y141: =$X$141*$K$141 -> 0 | Z141: 0.007 | AA141: =$Z$141*$K$141 -> 1.106 | AR141: 4 | AT141: K | AU141: 2 | AY141: ROZPOCET | BE141: =IF($U$141="základní",$N$141,0) -> 0 | BF141: =IF($U$141="snížená",$N$141,0) -> 0 | BG141: =IF($U$141="zákl. přenesená",$N$141,0) -> 0 | BH141: =IF($U$141="sníž. přenesená",$N$141,0) -> 0 | BI141: =IF($U$141="nulová",$N$141,0) -> 0 | BJ141: 1 | BK141: =ROUND($L$141*$K$141,2) -> 0 | BL141: 4 | BM141: -593767435
C142: 18 | D142: K | E142: 985131111 | F142: Očištění ploch stěn, rubu kleneb a podlah tlakovou vodou | J142: m2 | K142: 158 | N142: =ROUND($L$142*$K$142,2) -> 0 | U142: základní | V142: 0.273 | W142: =$V$142*$K$142 -> 43.134 | X142: 0 | Y142: =$X$142*$K$142 -> 0 | Z142: 0 | AA142: =$Z$142*$K$142 -> 0 | AR142: 4 | AT142: K | AU142: 2 | AY142: ROZPOCET | BE142: =IF($U$142="základní",$N$142,0) -> 0 | BF142: =IF($U$142="snížená",$N$142,0) -> 0 | BG142: =IF($U$142="zákl. přenesená",$N$142,0) -> 0 | BH142: =IF($U$142="sníž. přenesená",$N$142,0) -> 0 | BI142: =IF($U$142="nulová",$N$142,0) -> 0 | BJ142: 1 | BK142: =ROUND($L$142*$K$142,2) -> 0 | BL142: 4 | BM142: -1897030984
C143: 19 | D143: K | E143: 985131211 | F143: Očištění ploch stěn, rubu kleneb a podlah sušeným křemičitým pískem | J143: m2 | K143: 92 | N143: =ROUND($L$143*$K$143,2) -> 0 | U143: základní | V143: 0.247 | W143: =$V$143*$K$143 -> 22.724 | X143: 0.048 | Y143: =$X$143*$K$143 -> 4.416 | Z143: 0.048 | AA143: =$Z$143*$K$143 -> 4.416 | AR143: 4 | AT143: K | AU143: 2 | AY143: ROZPOCET | BE143: =IF($U$143="základní",$N$143,0) -> 0 | BF143: =IF($U$143="snížená",$N$143,0) -> 0 | BG143: =IF($U$143="zákl. přenesená",$N$143,0) -> 0 | BH143: =IF($U$143="sníž. přenesená",$N$143,0) -> 0 | BI143: =IF($U$143="nulová",$N$143,0) -> 0 | BJ143: 1 | BK143: =ROUND($L$143*$K$143,2) -> 0 | BL143: 4 | BM143: -2104887647
C144: 20 | D144: K | E144: 985231111 | F144: Spárování zdiva aktivovanou maltou spára hl do 40 mm dl do 6 m/m2 | J144: m2 | K144: 36.8 | N144: =ROUND($L$144*$K$144,2) -> 0 | U144: základní | V144: 0.614 | W144: =$V$144*$K$144 -> 22.5952 | X144: 0.01162 | Y144: =$X$144*$K$144 -> 0.427616 | Z144: 0 | AA144: =$Z$144*$K$144 -> 0 | AR144: 4 | AT144: K | AU144: 2 | AY144: ROZPOCET | BE144: =IF($U$144="základní",$N$144,0) -> 0 | BF144: =IF($U$144="snížená",$N$144,0) -> 0 | BG144: =IF($U$144="zákl. přenesená",$N$144,0) -> 0 | BH144: =IF($U$144="sníž. přenesená",$N$144,0) -> 0 | BI144: =IF($U$144="nulová",$N$144,0) -> 0 | BJ144: 1 | BK144: =ROUND($L$144*$K$144,2) -> 0 | BL144: 4 | BM144: -2084453490
D145: 998 - Přesun hmot | N145: =$BK$145 -> 0 | W145: =$W$146 -> 6.574872 | Y145: =$Y$146 -> 0 | AA145: =$AA$146 -> 0 | AR145: 1 | AT145: D | AU145: 1 | AY145: ROZPOCET | BK145: =$BK$146 -> 0
C146: 21 | D146: K | E146: 998011001 | F146: Přesun hmot pro budovy zděné v do 6 m | J146: t | K146: 7.912 | N146: =ROUND($L$146*$K$146,2) -> 0 | U146: základní | V146: 0.831 | W146: =$V$146*$K$146 -> 6.574872 | X146: 0 | Y146: =$X$146*$K$146 -> 0 | Z146: 0 | AA146: =$Z$146*$K$146 -> 0 | AR146: 4 | AT146: K | AU146: 2 | AY146: ROZPOCET | BE146: =IF($U$146="základní",$N$146,0) -> 0 | BF146: =IF($U$146="snížená",$N$146,0) -> 0 | BG146: =IF($U$146="zákl. přenesená",$N$146,0) -> 0 | BH146: =IF($U$146="sníž. přenesená",$N$146,0) -> 0 | BI146: =IF($U$146="nulová",$N$146,0) -> 0 | BJ146: 1 | BK146: =ROUND($L$146*$K$146,2) -> 0 | BL146: 4 | BM146: 589424846
D147: PSV - Práce a dodávky PSV | N147: =$BK$147 -> 0 | W147: =$W$148+$W$153+$W$156 -> 497.342 | Y147: =$Y$148+$Y$153+$Y$156 -> 5.1558971 | AA147: =$AA$148+$AA$153+$AA$156 -> 7.4324217 | AR147: 2 | AT147: D | AU147: 0 | AY147: ROZPOCET | BK147: =$BK$148+$BK$153+$BK$156 -> 0
D148: 762 - Konstrukce tesařské | N148: =$BK$148 -> 0 | W148: =SUM($W$149:$W$152) -> 52.81913 | Y148: =SUM($Y$149:$Y$152) -> 0.4554171 | AA148: =SUM($AA$149:$AA$152) -> 1.16697 | AR148: 2 | AT148: D | AU148: 1 | AY148: ROZPOCET | BK148: =SUM($BK$149:$BK$152) -> 0
C149: 22 | D149: K | E149: 762341914 | F149: Vyřezání části laťování střech průřezu latí do 25 cm2 plochy jednotlivě přes 4 m2 | J149: m2 | K149: 166.71 | N149: =ROUND($L$149*$K$149,2) -> 0 | U149: základní | V149: 0.12 | W149: =$V$149*$K$149 -> 20.0052 | X149: 0 | Y149: =$X$149*$K$149 -> 0 | Z149: 0.007 | AA149: =$Z$149*$K$149 -> 1.16697 | AR149: 16 | AT149: K | AU149: 2 | AY149: ROZPOCET | BE149: =IF($U$149="základní",$N$149,0) -> 0 | BF149: =IF($U$149="snížená",$N$149,0) -> 0 | BG149: =IF($U$149="zákl. přenesená",$N$149,0) -> 0 | BH149: =IF($U$149="sníž. přenesená",$N$149,0) -> 0 | BI149: =IF($U$149="nulová",$N$149,0) -> 0 | BJ149: 1 | BK149: =ROUND($L$149*$K$149,2) -> 0 | BL149: 16 | BM149: -1319665538
C150: 23 | D150: K | E150: 762342914 | F150: Zalaťování otvorů ve střeše latěmi na vzdálenost do 0,22 m plochy jednotlivě do 8 m2 | J150: m2 | K150: 166.71 | N150: =ROUND($L$150*$K$150,2) -> 0 | U150: základní | V150: 0.188 | W150: =$V$150*$K$150 -> 31.34148 | X150: 1e-05 | Y150: =$X$150*$K$150 -> 0.0016671 | Z150: 0 | AA150: =$Z$150*$K$150 -> 0 | AR150: 16 | AT150: K | AU150: 2 | AY150: ROZPOCET | BE150: =IF($U$150="základní",$N$150,0) -> 0 | BF150: =IF($U$150="snížená",$N$150,0) -> 0 | BG150: =IF($U$150="zákl. přenesená",$N$150,0) -> 0 | BH150: =IF($U$150="sníž. přenesená",$N$150,0) -> 0 | BI150: =IF($U$150="nulová",$N$150,0) -> 0 | BJ150: 1 | BK150: =ROUND($L$150*$K$150,2) -> 0 | BL150: 16 | BM150: -1164790560
C151: 24 | D151: M | E151: 605141130 | F151: řezivo jehličnaté,střešní latě impregnované dl 2 - 3,5 m | J151: m3 | K151: 0.825 | N151: =ROUND($L$151*$K$151,2) -> 0 | U151: základní | V151: 0 | W151: =$V$151*$K$151 -> 0 | X151: 0.55 | Y151: =$X$151*$K$151 -> 0.45375 | Z151: 0 | AA151: =$Z$151*$K$151 -> 0 | AR151: 32 | AT151: M | AU151: 2 | AY151: ROZPOCET | BE151: =IF($U$151="základní",$N$151,0) -> 0 | BF151: =IF($U$151="snížená",$N$151,0) -> 0 | BG151: =IF($U$151="zákl. přenesená",$N$151,0) -> 0 | BH151: =IF($U$151="sníž. přenesená",$N$151,0) -> 0 | BI151: =IF($U$151="nulová",$N$151,0) -> 0 | BJ151: 1 | BK151: =ROUND($L$151*$K$151,2) -> 0 | BL151: 16 | BM151: 2051109056
C152: 25 | D152: K | E152: 998762101 | F152: Přesun hmot tonážní pro kce tesařské v objektech v do 6 m | J152: t | K152: 0.35 | N152: =ROUND($L$152*$K$152,2) -> 0 | U152: základní | V152: 4.207 | W152: =$V$152*$K$152 -> 1.47245 | X152: 0 | Y152: =$X$152*$K$152 -> 0 | Z152: 0 | AA152: =$Z$152*$K$152 -> 0 | AR152: 16 | AT152: K | AU152: 2 | AY152: ROZPOCET | BE152: =IF($U$152="základní",$N$152,0) -> 0 | BF152: =IF($U$152="snížená",$N$152,0) -> 0 | BG152: =IF($U$152="zákl. přenesená",$N$152,0) -> 0 | BH152: =IF($U$152="sníž. přenesená",$N$152,0) -> 0 | BI152: =IF($U$152="nulová",$N$152,0) -> 0 | BJ152: 1 | BK152: =ROUND($L$152*$K$152,2) -> 0 | BL152: 16 | BM152: 572310817
D153: 764 - Konstrukce klempířské | N153: =$BK$153 -> 0 | W153: =SUM($W$154:$W$155) -> 15.29877 | Y153: =SUM($Y$154:$Y$155) -> 0.21024 | AA153: =SUM($AA$154:$AA$155) -> 0 | AR153: 2 | AT153: D | AU153: 1 | AY153: ROZPOCET | BK153: =SUM($BK$154:$BK$155) -> 0
C154: 26 | D154: K | E154: 764218606 | F154: Oplechování rovné římsy mechanicky kotvené z Pz s upraveným povrchem rš 500 mm | J154: m | K154: 48 | N154: =ROUND($L$154*$K$154,2) -> 0 | U154: základní | V154: 0.298 | W154: =$V$154*$K$154 -> 14.304 | X154: 0.00438 | Y154: =$X$154*$K$154 -> 0.21024 | Z154: 0 | AA154: =$Z$154*$K$154 -> 0 | AR154: 16 | AT154: K | AU154: 2 | AY154: ROZPOCET | BE154: =IF($U$154="základní",$N$154,0) -> 0 | BF154: =IF($U$154="snížená",$N$154,0) -> 0 | BG154: =IF($U$154="zákl. přenesená",$N$154,0) -> 0 | BH154: =IF($U$154="sníž. přenesená",$N$154,0) -> 0 | BI154: =IF($U$154="nulová",$N$154,0) -> 0 | BJ154: 1 | BK154: =ROUND($L$154*$K$154,2) -> 0 | BL154: 16 | BM154: -1759727952
C155: 27 | D155: K | E155: 998764101 | F155: Přesun hmot tonážní pro konstrukce klempířské v objektech v do 6 m | J155: t | K155: 0.21 | N155: =ROUND($L$155*$K$155,2) -> 0 | U155: základní | V155: 4.737 | W155: =$V$155*$K$155 -> 0.99477 | X155: 0 | Y155: =$X$155*$K$155 -> 0 | Z155: 0 | AA155: =$Z$155*$K$155 -> 0 | AR155: 16 | AT155: K | AU155: 2 | AY155: ROZPOCET | BE155: =IF($U$155="základní",$N$155,0) -> 0 | BF155: =IF($U$155="snížená",$N$155,0) -> 0 | BG155: =IF($U$155="zákl. přenesená",$N$155,0) -> 0 | BH155: =IF($U$155="sníž. přenesená",$N$155,0) -> 0 | BI155: =IF($U$155="nulová",$N$155,0) -> 0 | BJ155: 1 | BK155: =ROUND($L$155*$K$155,2) -> 0 | BL155: 16 | BM155: -1431275559
D156: 765 - Krytina skládaná | N156: =$BK$156 -> 0 | W156: =SUM($W$157:$W$166) -> 429.2241 | Y156: =SUM($Y$157:$Y$166) -> 4.49024 | AA156: =SUM($AA$157:$AA$166) -> 6.2654517 | AR156: 2 | AT156: D | AU156: 1 | AY156: ROZPOCET | BK156: =SUM($BK$157:$BK$166) -> 0
C157: 28 | D157: K | E157: 765111152 | F157: Montáž krytiny keramické prejzové sklonu do 30° do malty 16 ks/m2 | J157: m2 | K157: 78 | N157: =ROUND($L$157*$K$157,2) -> 0 | U157: základní | V157: 2.178 | W157: =$V$157*$K$157 -> 169.884 | X157: 0.05 | Y157: =$X$157*$K$157 -> 3.9 | Z157: 0 | AA157: =$Z$157*$K$157 -> 0 | AR157: 16 | AT157: K | AU157: 2 | AY157: ROZPOCET | BE157: =IF($U$157="základní",$N$157,0) -> 0 | BF157: =IF($U$157="snížená",$N$157,0) -> 0 | BG157: =IF($U$157="zákl. přenesená",$N$157,0) -> 0 | BH157: =IF($U$157="sníž. přenesená",$N$157,0) -> 0 | BI157: =IF($U$157="nulová",$N$157,0) -> 0 | BJ157: 1 | BK157: =ROUND($L$157*$K$157,2) -> 0 | BL157: 16 | BM157: 365701129
C158: 29 | D158: K | E158: 765111231 | F158: Montáž krytiny keramické nároží do malty | J158: m | K158: 73.45 | N158: =ROUND($L$158*$K$158,2) -> 0 | U158: základní | V158: 2.367 | W158: =$V$158*$K$158 -> 173.85615 | X158: 0.008 | Y158: =$X$158*$K$158 -> 0.5876 | Z158: 0 | AA158: =$Z$158*$K$158 -> 0 | AR158: 16 | AT158: K | AU158: 2 | AY158: ROZPOCET | BE158: =IF($U$158="základní",$N$158,0) -> 0 | BF158: =IF($U$158="snížená",$N$158,0) -> 0 | BG158: =IF($U$158="zákl. přenesená",$N$158,0) -> 0 | BH158: =IF($U$158="sníž. přenesená",$N$158,0) -> 0 | BI158: =IF($U$158="nulová",$N$158,0) -> 0 | BJ158: 1 | BK158: =ROUND($L$158*$K$158,2) -> 0 | BL158: 16 | BM158: -593385293
C159: 30 | D159: K | E159: 765111504 | F159: Příplatek k montáži krytiny keramické za připevňovací prostředky za sklon přes 40° do 50° | J159: m2 | K159: 66 | N159: =ROUND($L$159*$K$159,2) -> 0 | U159: základní | V159: 0.207 | W159: =$V$159*$K$159 -> 13.662 | X159: 4e-05 | Y159: =$X$159*$K$159 -> 0.00264 | Z159: 0 | AA159: =$Z$159*$K$159 -> 0 | AR159: 16 | AT159: K | AU159: 2 | AY159: ROZPOCET | BE159: =IF($U$159="základní",$N$159,0) -> 0 | BF159: =IF($U$159="snížená",$N$159,0) -> 0 | BG159: =IF($U$159="zákl. přenesená",$N$159,0) -> 0 | BH159: =IF($U$159="sníž. přenesená",$N$159,0) -> 0 | BI159: =IF($U$159="nulová",$N$159,0) -> 0 | BJ159: 1 | BK159: =ROUND($L$159*$K$159,2) -> 0 | BL159: 16 | BM159: -1651655469
C160: 31 | D160: K | E160: 765111847 | F160: Demontáž krytiny keramické prejzové sklonu do 30° se zvětralou maltou k dalšímu použití | J160: m2 | K160: 42.56 | N160: =ROUND($L$160*$K$160,2) -> 0 | U160: základní | V160: 0.418 | W160: =$V$160*$K$160 -> 17.79008 | X160: 0 | Y160: =$X$160*$K$160 -> 0 | Z160: 0.12062 | AA160: =$Z$160*$K$160 -> 5.1335872 | AR160: 16 | AT160: K | AU160: 2 | AY160: ROZPOCET | BE160: =IF($U$160="základní",$N$160,0) -> 0 | BF160: =IF($U$160="snížená",$N$160,0) -> 0 | BG160: =IF($U$160="zákl. přenesená",$N$160,0) -> 0 | BH160: =IF($U$160="sníž. přenesená",$N$160,0) -> 0 | BI160: =IF($U$160="nulová",$N$160,0) -> 0 | BJ160: 1 | BK160: =ROUND($L$160*$K$160,2) -> 0 | BL160: 16 | BM160: 659553704
C161: 32 | D161: K | E161: 765111853 | F161: Příplatek k demontáži krytiny keramické prejzové k dalšímu použití za sklon přes 30° | J161: m2 | K161: 42.56 | N161: =ROUND($L$161*$K$161,2) -> 0 | U161: základní | V161: 0.05 | W161: =$V$161*$K$161 -> 2.128 | X161: 0 | Y161: =$X$161*$K$161 -> 0 | Z161: 0 | AA161: =$Z$161*$K$161 -> 0 | AR161: 16 | AT161: K | AU161: 2 | AY161: ROZPOCET | BE161: =IF($U$161="základní",$N$161,0) -> 0 | BF161: =IF($U$161="snížená",$N$161,0) -> 0 | BG161: =IF($U$161="zákl. přenesená",$N$161,0) -> 0 | BH161: =IF($U$161="sníž. přenesená",$N$161,0) -> 0 | BI161: =IF($U$161="nulová",$N$161,0) -> 0 | BJ161: 1 | BK161: =ROUND($L$161*$K$161,2) -> 0 | BL161: 16 | BM161: 771843737
...

Sheet kaple - SO 01 Kaple - neuz.
D1: List obsahuje: | F1: 1) Krycí list rozpočtu | H1: 2) Rekapitulace rozpočtu | L1: 3) Rozpočet | O1: Zpět na list: | S1: Rekapitulace stavby
C2: optimalizováno pro tisk sestav ve formátu A4 - na výšku | S2: >> skryté sloupce << | AT2: {FCA85B61-BE78-4A94-845D-4117161C93A8}
AT3: 2
C4: KRYCÍ LIST ROZPOČTU | T4: v --- níže se nacházejí doplnkové a pomocné údaje k sestavám --- v | AT4: False
D6: Stavba: | F6: ='Rekapitulace stavby'!K6 -> Údržba a obnova hřbitovních staveb
D7: Objekt: | F7: kaple - SO 01 Kaple
D8: JKSO: | M8: CC-CZ:
D9: Místo: | F9: Hlízov | M9: Datum:
D11: Objednavatel: | M11: IČ: | O11: IČ:00640336
E12: Obec Hlízov,285 32 Hlízov 164 | M12: DIČ:
D14: Zhotovitel: | M14: IČ:
E15: dosud neurčen | M15: DIČ:
D17: Projektant: | M17: IČ:
E18: Beran Pavel | M18: DIČ:
D20: Zpracovatel: | M20: IČ:
E21: Beran Pavel | M21: DIČ:
D23: Poznámka:
D27: Náklady z rozpočtu | M27: =$N$88 -> 0
D28: Ostatní náklady | M28: =$N$92 -> 0
D30: Cena bez DPH | M30: =ROUND($M$27+$M$28,2) -> 0
D32: DPH | E32: základní | F32: 0.21 | G32: ze | H32: =ROUND((SUM($BE$92:$BE$93)+SUM($BE$111:$BE$117)),2) -> 0 | M32: =ROUND(ROUND((SUM($BE$92:$BE$93)+SUM($BE$111:$BE$117)),2)*$F$32,2) -> 0
E33: snížená | F33: 0.15 | G33: ze | H33: =ROUND((SUM($BF$92:$BF$93)+SUM($BF$111:$BF$117)),2) -> 0 | M33: =ROUND(ROUND((SUM($BF$92:$BF$93)+SUM($BF$111:$BF$117)),2)*$F$33,2) -> 0
E34: zákl. přenesená | F34: 0.21 | G34: ze | H34: =ROUND((SUM($BG$92:$BG$93)+SUM($BG$111:$BG$117)),2) -> 0 | M34: 0
E35: sníž. přenesená | F35: 0.15 | G35: ze | H35: =ROUND((SUM($BH$92:$BH$93)+SUM($BH$111:$BH$117)),2) -> 0 | M35: 0
E36: nulová | F36: 0 | G36: ze | H36: =ROUND((SUM($BI$92:$BI$93)+SUM($BI$111:$BI$117)),2) -> 0 | M36: 0
D38: Cena s DPH | G38: v | H38: CZK | L38: =SUM($M$30:$M$36) -> 0
D50: Projektant | J50: Zpracovatel
D59: Datum a podpis: | G59: Razítko | J59: Datum a podpis: | N59: Razítko
D61: Objednavatel | J61: Zhotovitel
D70: Datum a podpis: | G70: Razítko | J70: Datum a podpis: | N70: Razítko
C76: REKAPITULACE ROZPOČTU
C78: Stavba: | F78: =$F$6 -> Údržba a obnova hřbitovních staveb
C79: Objekt: | F79: =$F$7 -> kaple - SO 01 Kaple
C81: Místo: | F81: =$F$9 -> Hlízov | K81: Datum: | M81: =IF($O$9="","",$O$9)
C83: Objednavatel: | F83: =$E$12 -> Obec Hlízov,285 32 Hlízov 164 | K83: Projektant: | M83: =$E$18 -> Beran Pavel
C84: Zhotovitel: | F84: =IF($E$15="","",$E$15) -> dosud neurčen | K84: Zpracovatel: | M84: =$E$21 -> Beran Pavel
C86: Kód - Popis | N86: Cena celkem [CZK]
C88: 1) Náklady z rozpočtu | N88: =$N$111 -> 0 | AU88: -1
D89: HSV - Práce a dodávky HSV | N89: =$N$112 -> 0
D90: 997 - Přesun sutě | N90: =$N$113 -> 0
C92: 2) Ostatní náklady | N92: 0 | U92: DPH
C94: Celkové náklady za stavbu 1) + 2) | L94: =ROUND(SUM($N$88+$N$92),2) -> 0
C100: ROZPOČET
C102: Stavba: | F102: =$F$6 -> Údržba a obnova hřbitovních staveb
C103: Objekt: | F103: =$F$7 -> kaple - SO 01 Kaple
C105: Místo: | F105: =$F$9 -> Hlízov | K105: Datum: | M105: =IF($O$9="","",$O$9)
C107: Objednavatel: | F107: =$E$12 -> Obec Hlízov,285 32 Hlízov 164 | K107: Projektant: | M107: =$E$18 -> Beran Pavel
C108: Zhotovitel: | F108: =IF($E$15="","",$E$15) -> dosud neurčen | K108: Zpracovatel: | M108: =$E$21 -> Beran Pavel
C110: PČ | D110: Typ | E110: Kód | F110: Popis | J110: MJ | K110: Množství | L110: J.cena [CZK] | N110: Cena celkem [CZK] | T110: Poznámka | U110: DPH | V110: J. Nh [h] | W110: Nh celkem [h] | X110: J. hmotnost [t] | Y110: Hmotnost celkem [t] | Z110: J. suť [t] | AA110: Suť Celkem [t]
C111: Náklady z rozpočtu | N111: =$BK$111 -> 0 | W111: =$W$112 -> 16.26944 | Y111: =$Y$112 -> 0 | AA111: =$AA$112 -> 0 | AT111: D | AU111: -1 | BK111: =$BK$112 -> 0
D112: HSV - Práce a dodávky HSV | N112: =$BK$112 -> 0 | W112: =$W$113 -> 16.26944 | Y112: =$Y$113 -> 0 | AA112: =$AA$113 -> 0 | AR112: 1 | AT112: D | AU112: 0 | AY112: ROZPOCET | BK112: =$BK$113 -> 0
D113: 997 - Přesun sutě | N113: =$BK$113 -> 0 | W113: =SUM($W$114:$W$117) -> 16.26944 | Y113: =SUM($Y$114:$Y$117) -> 0 | AA113: =SUM($AA$114:$AA$117) -> 0 | AR113: 1 | AT113: D | AU113: 1 | AY113: ROZPOCET | BK113: =SUM($BK$114:$BK$117) -> 0
C114: 21 | D114: K | E114: 997013111 | F114: Vnitrostaveništní doprava suti a vybouraných hmot pro budovy v do 6 m s použitím mechanizace | J114: t | K114: 9.244 | N114: =ROUND($L$114*$K$114,2) -> 0 | U114: základní | V114: 1.569 | W114: =$V$114*$K$114 -> 14.503836 | X114: 0 | Y114: =$X$114*$K$114 -> 0 | Z114: 0 | AA114: =$Z$114*$K$114 -> 0 | AR114: 4 | AT114: K | AU114: 2 | AY114: ROZPOCET | BE114: =IF($U$114="základní",$N$114,0) -> 0 | BF114: =IF($U$114="snížená",$N$114,0) -> 0 | BG114: =IF($U$114="zákl. přenesená",$N$114,0) -> 0 | BH114: =IF($U$114="sníž. přenesená",$N$114,0) -> 0 | BI114: =IF($U$114="nulová",$N$114,0) -> 0 | BJ114: 1 | BK114: =ROUND($L$114*$K$114,2) -> 0 | BL114: 4 | BM114: 2027807083
C115: 22 | D115: K | E115: 997013501 | F115: Odvoz suti a vybouraných hmot na skládku nebo meziskládku do 1 km se složením | J115: t | K115: 9.244 | N115: =ROUND($L$115*$K$115,2) -> 0 | U115: základní | V115: 0.125 | W115: =$V$115*$K$115 -> 1.1555 | X115: 0 | Y115: =$X$115*$K$115 -> 0 | Z115: 0 | AA115: =$Z$115*$K$115 -> 0 | AR115: 4 | AT115: K | AU115: 2 | AY115: ROZPOCET | BE115: =IF($U$115="základní",$N$115,0) -> 0 | BF115: =IF($U$115="snížená",$N$115,0) -> 0 | BG115: =IF($U$115="zákl. přenesená",$N$115,0) -> 0 | BH115: =IF($U$115="sníž. přenesená",$N$115,0) -> 0 | BI115: =IF($U$115="nulová",$N$115,0) -> 0 | BJ115: 1 | BK115: =ROUND($L$115*$K$115,2) -> 0 | BL115: 4 | BM115: 495179870
C116: 23 | D116: K | E116: 997013509 | F116: Příplatek k odvozu suti a vybouraných hmot na skládku ZKD 1 km přes 1 km | J116: t | K116: 101.684 | N116: =ROUND($L$116*$K$116,2) -> 0 | U116: základní | V116: 0.006 | W116: =$V$116*$K$116 -> 0.610104 | X116: 0 | Y116: =$X$116*$K$116 -> 0 | Z116: 0 | AA116: =$Z$116*$K$116 -> 0 | AR116: 4 | AT116: K | AU116: 2 | AY116: ROZPOCET | BE116: =IF($U$116="základní",$N$116,0) -> 0 | BF116: =IF($U$116="snížená",$N$116,0) -> 0 | BG116: =IF($U$116="zákl. přenesená",$N$116,0) -> 0 | BH116: =IF($U$116="sníž. přenesená",$N$116,0) -> 0 | BI116: =IF($U$116="nulová",$N$116,0) -> 0 | BJ116: 1 | BK116: =ROUND($L$116*$K$116,2) -> 0 | BL116: 4 | BM116: -173167948
C117: 24 | D117: K | E117: 997013801 | F117: Poplatek za uložení stavebního betonového odpadu na skládce (skládkovné) | J117: t | K117: 9.244 | N117: =ROUND($L$117*$K$117,2) -> 0 | U117: základní | V117: 0 | W117: =$V$117*$K$117 -> 0 | X117: 0 | Y117: =$X$117*$K$117 -> 0 | Z117: 0 | AA117: =$Z$117*$K$117 -> 0 | AR117: 4 | AT117: K | AU117: 2 | AY117: ROZPOCET | BE117: =IF($U$117="základní",$N$117,0) -> 0 | BF117: =IF($U$117="snížená",$N$117,0) -> 0 | BG117: =IF($U$117="zákl. přenesená",$N$117,0) -> 0 | BH117: =IF($U$117="sníž. přenesená",$N$117,0) -> 0 | BI117: =IF($U$117="nulová",$N$117,0) -> 0 | BJ117: 1 | BK117: =ROUND($L$117*$K$117,2) -> 0 | BL117: 4 | BM117: -743538556

Sheet marnice - SO 02 Márnice - uzn.
D1: List obsahuje: | F1: 1) Krycí list rozpočtu | H1: 2) Rekapitulace rozpočtu | L1: 3) Rozpočet | O1: Zpět na list: | S1: Rekapitulace stavby
C2: optimalizováno pro tisk sestav ve formátu A4 - na výšku | S2: >> skryté sloupce << | AT2: {C848594C-378B-4F79-9218-12803BE178B1}
AT3: 2
C4: KRYCÍ LIST ROZPOČTU | T4: v --- níže se nacházejí doplnkové a pomocné údaje k sestavám --- v | AT4: False
D6: Stavba: | F6: ='Rekapitulace stavby'!K6 -> Údržba a obnova hřbitovních staveb
D7: Objekt: | F7: marnice - SO 02 Márnice
D8: JKSO: | M8: CC-CZ:
D9: Místo: | F9: Hlízov | M9: Datum:
D11: Objednavatel: | M11: IČ: | O11: IČ:00640336
E12: Obec Hlízov,285 32 Hlízov 164 | M12: DIČ:
D14: Zhotovitel: | M14: IČ:
E15: dosud neurčen | M15: DIČ:
D17: Projektant: | M17: IČ:
E18: Beran Pavel | M18: DIČ:
D20: Zpracovatel: | M20: IČ:
E21: Beran Pavel | M21: DIČ:
D23: Poznámka:
D27: Náklady z rozpočtu | M27: =$N$88 -> 0
D28: Ostatní náklady | M28: =$N$102 -> 0
D30: Cena bez DPH | M30: =ROUND($M$27+$M$28,2) -> 0
D32: DPH | E32: základní | F32: 0.21 | G32: ze | H32: =ROUND((SUM($BE$102:$BE$103)+SUM($BE$121:$BE$175)),2) -> 0 | M32: =ROUND(ROUND((SUM($BE$102:$BE$103)+SUM($BE$121:$BE$175)),2)*$F$32,2) -> 0
E33: snížená | F33: 0.15 | G33: ze | H33: =ROUND((SUM($BF$102:$BF$103)+SUM($BF$121:$BF$175)),2) -> 0 | M33: =ROUND(ROUND((SUM($BF$102:$BF$103)+SUM($BF$121:$BF$175)),2)*$F$33,2) -> 0
E34: zákl. přenesená | F34: 0.21 | G34: ze | H34: =ROUND((SUM($BG$102:$BG$103)+SUM($BG$121:$BG$175)),2) -> 0 | M34: 0
E35: sníž. přenesená | F35: 0.15 | G35: ze | H35: =ROUND((SUM($BH$102:$BH$103)+SUM($BH$121:$BH$175)),2) -> 0 | M35: 0
E36: nulová | F36: 0 | G36: ze | H36: =ROUND((SUM($BI$102:$BI$103)+SUM($BI$121:$BI$175)),2) -> 0 | M36: 0
D38: Cena s DPH | G38: v | H38: CZK | L38: =SUM($M$30:$M$36) -> 0
D50: Projektant | J50: Zpracovatel
D59: Datum a podpis: | G59: Razítko | J59: Datum a podpis: | N59: Razítko
D61: Objednavatel | J61: Zhotovitel
D70: Datum a podpis: | G70: Razítko | J70: Datum a podpis: | N70: Razítko
C76: REKAPITULACE ROZPOČTU
C78: Stavba: | F78: =$F$6 -> Údržba a obnova hřbitovních staveb
C79: Objekt: | F79: =$F$7 -> marnice - SO 02 Márnice
C81: Místo: | F81: =$F$9 -> Hlízov | K81: Datum: | M81: =IF($O$9="","",$O$9)
C83: Objednavatel: | F83: =$E$12 -> Obec Hlízov,285 32 Hlízov 164 | K83: Projektant: | M83: =$E$18 -> Beran Pavel
C84: Zhotovitel: | F84: =IF($E$15="","",$E$15) -> dosud neurčen | K84: Zpracovatel: | M84: =$E$21 -> Beran Pavel
C86: Kód - Popis | N86: Cena celkem [CZK]
C88: 1) Náklady z rozpočtu | N88: =$N$121 -> 0 | AU88: -1
D89: HSV - Práce a dodávky HSV | N89: =$N$122 -> 0
D90: 1 - Zemní práce | N90: =$N$123 -> 0
D91: 6 - Úpravy povrchů, podlahy a osazování výplní | N91: =$N$127 -> 0
D92: 9 - Ostatní konstrukce a práce, bourání | N92: =$N$138 -> 0
D93: 998 - Přesun hmot | N93: =$N$147 -> 0
D94: PSV - Práce a dodávky PSV | N94: =$N$149 -> 0
D95: 762 - Konstrukce tesařské | N95: =$N$150 -> 0
D96: 764 - Konstrukce klempířské | N96: =$N$155 -> 0
D97: 765 - Krytina skládaná | N97: =$N$158 -> 0
D98: 783 - Dokončovací práce - nátěry | N98: =$N$169 -> 0
D99: VRN - Vedlejší rozpočtové náklady | N99: =$N$173 -> 0
D100: VRN3 - Zařízení staveniště | N100: =$N$174 -> 0
C102: 2) Ostatní náklady | N102: 0 | U102: DPH
C104: Celkové náklady za stavbu 1) + 2) | L104: =ROUND(SUM($N$88+$N$102),2) -> 0
C110: ROZPOČET
C112: Stavba: | F112: =$F$6 -> Údržba a obnova hřbitovních staveb
C113: Objekt: | F113: =$F$7 -> marnice - SO 02 Márnice
C115: Místo: | F115: =$F$9 -> Hlízov | K115: Datum: | M115: =IF($O$9="","",$O$9)
C117: Objednavatel: | F117: =$E$12 -> Obec Hlízov,285 32 Hlízov 164 | K117: Projektant: | M117: =$E$18 -> Beran Pavel
C118: Zhotovitel: | F118: =IF($E$15="","",$E$15) -> dosud neurčen | K118: Zpracovatel: | M118: =$E$21 -> Beran Pavel
C120: PČ | D120: Typ | E120: Kód | F120: Popis | J120: MJ | K120: Množství | L120: J.cena [CZK] | N120: Cena celkem [CZK] | T120: Poznámka | U120: DPH | V120: J. Nh [h] | W120: Nh celkem [h] | X120: J. hmotnost [t] | Y120: Hmotnost celkem [t] | Z120: J. suť [t] | AA120: Suť Celkem [t]
C121: Náklady z rozpočtu | N121: =$BK$121 -> 0 | W121: =$W$122+$W$149+$W$173 -> 454.47655 | Y121: =$Y$122+$Y$149+$Y$173 -> 6.818874 | AA121: =$AA$122+$AA$149+$AA$173 -> 5.8586763 | AT121: D | AU121: -1 | BK121: =$BK$122+$BK$149+$BK$173 -> 0
D122: HSV - Práce a dodávky HSV | N122: =$BK$122 -> 0 | W122: =$W$123+$W$127+$W$138+$W$147 -> 267.97382 | Y122: =$Y$123+$Y$127+$Y$138+$Y$147 -> 5.3460304 | AA122: =$AA$123+$AA$127+$AA$138+$AA$147 -> 2.48606 | AR122: 1 | AT122: D | AU122: 0 | AY122: ROZPOCET | BK122: =$BK$123+$BK$127+$BK$138+$BK$147 -> 0
D123: 1 - Zemní práce | N123: =$BK$123 -> 0 | W123: =SUM($W$124:$W$126) -> 7.548 | Y123: =SUM($Y$124:$Y$126) -> 0.000765 | AA123: =SUM($AA$124:$AA$126) -> 0 | AR123: 1 | AT123: D | AU123: 1 | AY123: ROZPOCET | BK123: =SUM($BK$124:$BK$126) -> 0
C124: 1 | D124: K | E124: 181111111 | F124: Plošná úprava terénu do 500 m2 zemina tř 1 až 4 nerovnosti do +/- 100 mm v rovinně a svahu do 1:5 | J124: m2 | K124: 51 | N124: =ROUND($L$124*$K$124,2) -> 0 | U124: základní | V124: 0.09 | W124: =$V$124*$K$124 -> 4.59 | X124: 0 | Y124: =$X$124*$K$124 -> 0 | Z124: 0 | AA124: =$Z$124*$K$124 -> 0 | AR124: 4 | AT124: K | AU124: 2 | AY124: ROZPOCET | BE124: =IF($U$124="základní",$N$124,0) -> 0 | BF124: =IF($U$124="snížená",$N$124,0) -> 0 | BG124: =IF($U$124="zákl. přenesená",$N$124,0) -> 0 | BH124: =IF($U$124="sníž. přenesená",$N$124,0) -> 0 | BI124: =IF($U$124="nulová",$N$124,0) -> 0 | BJ124: 1 | BK124: =ROUND($L$124*$K$124,2) -> 0 | BL124: 4 | BM124: -1119446413
C125: 2 | D125: K | E125: 181411131 | F125: Založení parkového trávníku výsevem plochy do 1000 m2 v rovině a ve svahu do 1:5 | J125: m2 | K125: 51 | N125: =ROUND($L$125*$K$125,2) -> 0 | U125: základní | V125: 0.058 | W125: =$V$125*$K$125 -> 2.958 | X125: 0 | Y125: =$X$125*$K$125 -> 0 | Z125: 0 | AA125: =$Z$125*$K$125 -> 0 | AR125: 4 | AT125: K | AU125: 2 | AY125: ROZPOCET | BE125: =IF($U$125="základní",$N$125,0) -> 0 | BF125: =IF($U$125="snížená",$N$125,0) -> 0 | BG125: =IF($U$125="zákl. přenesená",$N$125,0) -> 0 | BH125: =IF($U$125="sníž. přenesená",$N$125,0) -> 0 | BI125: =IF($U$125="nulová",$N$125,0) -> 0 | BJ125: 1 | BK125: =ROUND($L$125*$K$125,2) -> 0 | BL125: 4 | BM125: -1541947265
C126: 3 | D126: M | E126: 005724100 | F126: osivo směs travní parková | J126: kg | K126: 0.765 | N126: =ROUND($L$126*$K$126,2) -> 0 | U126: základní | V126: 0 | W126: =$V$126*$K$126 -> 0 | X126: 0.001 | Y126: =$X$126*$K$126 -> 0.000765 | Z126: 0 | AA126: =$Z$126*$K$126 -> 0 | AR126: 8 | AT126: M | AU126: 2 | AY126: ROZPOCET | BE126: =IF($U$126="základní",$N$126,0) -> 0 | BF126: =IF($U$126="snížená",$N$126,0) -> 0 | BG126: =IF($U$126="zákl. přenesená",$N$126,0) -> 0 | BH126: =IF($U$126="sníž. přenesená",$N$126,0) -> 0 | BI126: =IF($U$126="nulová",$N$126,0) -> 0 | BJ126: 1 | BK126: =ROUND($L$126*$K$126,2) -> 0 | BL126: 4 | BM126: -373545268
D127: 6 - Úpravy povrchů, podlahy a osazování výplní | N127: =$BK$127 -> 0 | W127: =SUM($W$128:$W$137) -> 182.55891 | Y127: =SUM($Y$128:$Y$137) -> 4.7407186 | AA127: =SUM($AA$128:$AA$137) -> 0 | AR127: 1 | AT127: D | AU127: 1 | AY127: ROZPOCET | BK127: =SUM($BK$128:$BK$137) -> 0
C128: 4 | D128: K | E128: 621335113 | F128: Oprava cementové štukové omítky vnějších podhledů v rozsahu do 50% | J128: m2 | K128: 38.56 | N128: =ROUND($L$128*$K$128,2) -> 0 | U128: základní | V128: 0.442 | W128: =$V$128*$K$128 -> 17.04352 | X128: 0.02659 | Y128: =$X$128*$K$128 -> 1.0253104 | Z128: 0 | AA128: =$Z$128*$K$128 -> 0 | AR128: 4 | AT128: K | AU128: 2 | AY128: ROZPOCET | BE128: =IF($U$128="základní",$N$128,0) -> 0 | BF128: =IF($U$128="snížená",$N$128,0) -> 0 | BG128: =IF($U$128="zákl. přenesená",$N$128,0) -> 0 | BH128: =IF($U$128="sníž. přenesená",$N$128,0) -> 0 | BI128: =IF($U$128="nulová",$N$128,0) -> 0 | BJ128: 1 | BK128: =ROUND($L$128*$K$128,2) -> 0 | BL128: 4 | BM128: -1401549911
C129: 5 | D129: K | E129: 621531021 | F129: Tenkovrstvá silikonová zrnitá omítka tl. 2,0 mm včetně penetrace vnějších podhledů | J129: m2 | K129: 38.56 | N129: =ROUND($L$129*$K$129,2) -> 0 | U129: základní | V129: 0.285 | W129: =$V$129*$K$129 -> 10.9896 | X129: 0.00348 | Y129: =$X$129*$K$129 -> 0.1341888 | Z129: 0 | AA129: =$Z$129*$K$129 -> 0 | AR129: 4 | AT129: K | AU129: 2 | AY129: ROZPOCET | BE129: =IF($U$129="základní",$N$129,0) -> 0 | BF129: =IF($U$129="snížená",$N$129,0) -> 0 | BG129: =IF($U$129="zákl. přenesená",$N$129,0) -> 0 | BH129: =IF($U$129="sníž. přenesená",$N$129,0) -> 0 | BI129: =IF($U$129="nulová",$N$129,0) -> 0 | BJ129: 1 | BK129: =ROUND($L$129*$K$129,2) -> 0 | BL129: 4 | BM129: 1447394161
C130: 6 | D130: K | E130: 622135001 | F130: Vyrovnání podkladu vnějších stěn maltou vápenocementovou tl do 10 mm | J130: m2 | K130: 92.82 | N130: =ROUND($L$130*$K$130,2) -> 0 | U130: základní | V130: 0.424 | W130: =$V$130*$K$130 -> 39.35568 | X130: 0.02048 | Y130: =$X$130*$K$130 -> 1.9009536 | Z130: 0 | AA130: =$Z$130*$K$130 -> 0 | AR130: 4 | AT130: K | AU130: 2 | AY130: ROZPOCET | BE130: =IF($U$130="základní",$N$130,0) -> 0 | BF130: =IF($U$130="snížená",$N$130,0) -> 0 | BG130: =IF($U$130="zákl. přenesená",$N$130,0) -> 0 | BH130: =IF($U$130="sníž. přenesená",$N$130,0) -> 0 | BI130: =IF($U$130="nulová",$N$130,0) -> 0 | BJ130: 1 | BK130: =ROUND($L$130*$K$130,2) -> 0 | BL130: 4 | BM130: 723640475
C131: 7 | D131: K | E131: 622135091 | F131: Příplatek k vyrovnání vnějších stěn maltou vápenocementovou za každých dalších 5 mm tl | J131: m2 | K131: 92.82 | N131: =ROUND($L$131*$K$131,2) -> 0 | U131: základní | V131: 0.09 | W131: =$V$131*$K$131 -> 8.3538 | X131: 0.0079 | Y131: =$X$131*$K$131 -> 0.733278 | Z131: 0 | AA131: =$Z$131*$K$131 -> 0 | AR131: 4 | AT131: K | AU131: 2 | AY131: ROZPOCET | BE131: =IF($U$131="základní",$N$131,0) -> 0 | BF131: =IF($U$131="snížená",$N$131,0) -> 0 | BG131: =IF($U$131="zákl. přenesená",$N$131,0) -> 0 | BH131: =IF($U$131="sníž. přenesená",$N$131,0) -> 0 | BI131: =IF($U$131="nulová",$N$131,0) -> 0 | BJ131: 1 | BK131: =ROUND($L$131*$K$131,2) -> 0 | BL131: 4 | BM131: -303754975
C132: 8 | D132: K | E132: 622325401 | F132: Oprava vnější vápenné nebo vápenocementové štukové omítky složitosti 3 v rozsahu do 10% | J132: m2 | K132: 92.82 | N132: =ROUND($L$132*$K$132,2) -> 0 | U132: základní | V132: 0.627 | W132: =$V$132*$K$132 -> 58.19814 | X132: 0.00643 | Y132: =$X$132*$K$132 -> 0.5968326 | Z132: 0 | AA132: =$Z$132*$K$132 -> 0 | AR132: 4 | AT132: K | AU132: 2 | AY132: ROZPOCET | BE132: =IF($U$132="základní",$N$132,0) -> 0 | BF132: =IF($U$132="snížená",$N$132,0) -> 0 | BG132: =IF($U$132="zákl. přenesená",$N$132,0) -> 0 | BH132: =IF($U$132="sníž. přenesená",$N$132,0) -> 0 | BI132: =IF($U$132="nulová",$N$132,0) -> 0 | BJ132: 1 | BK132: =ROUND($L$132*$K$132,2) -> 0 | BL132: 4 | BM132: 705455456
C133: 9 | D133: K | E133: 622531021 | F133: Tenkovrstvá silikonová zrnitá omítka tl. 2,0 mm včetně penetrace vnějších stěn | J133: m2 | K133: 92.82 | N133: =ROUND($L$133*$K$133,2) -> 0 | U133: základní | V133: 0.245 | W133: =$V$133*$K$133 -> 22.7409 | X133: 0.00348 | Y133: =$X$133*$K$133 -> 0.3230136 | Z133: 0 | AA133: =$Z$133*$K$133 -> 0 | AR133: 4 | AT133: K | AU133: 2 | AY133: ROZPOCET | BE133: =IF($U$133="základní",$N$133,0) -> 0 | BF133: =IF($U$133="snížená",$N$133,0) -> 0 | BG133: =IF($U$133="zákl. přenesená",$N$133,0) -> 0 | BH133: =IF($U$133="sníž. přenesená",$N$133,0) -> 0 | BI133: =IF($U$133="nulová",$N$133,0) -> 0 | BJ133: 1 | BK133: =ROUND($L$133*$K$133,2) -> 0 | BL133: 4 | BM133: 1353651792
C134: 10 | D134: K | E134: 622613101 | F134: Hydrofobizační nátěr silikonový vnějších stěn z cihel nebo z přírodního kamene ručně | J134: m2 | K134: 10.14 | N134: =ROUND($L$134*$K$134,2) -> 0 | U134: základní | V134: 0.09 | W134: =$V$134*$K$134 -> 0.9126 | X134: 0.00024 | Y134: =$X$134*$K$134 -> 0.0024336 | Z134: 0 | AA134: =$Z$134*$K$134 -> 0 | AR134: 4 | AT134: K | AU134: 2 | AY134: ROZPOCET | BE134: =IF($U$134="základní",$N$134,0) -> 0 | BF134: =IF($U$134="snížená",$N$134,0) -> 0 | BG134: =IF($U$134="zákl. přenesená",$N$134,0) -> 0 | BH134: =IF($U$134="sníž. přenesená",$N$134,0) -> 0 | BI134: =IF($U$134="nulová",$N$134,0) -> 0 | BJ134: 1 | BK134: =ROUND($L$134*$K$134,2) -> 0 | BL134: 4 | BM134: 33162423
C135: 11 | D135: K | E135: 622613301 | F135: Hydrofobizační nátěr silikonový střech z cihel nebo z přírodního kamene strojně | J135: m2 | K135: 99.93 | N135: =ROUND($L$135*$K$135,2) -> 0 | U135: základní | V135: 0.039 | W135: =$V$135*$K$135 -> 3.89727 | X135: 0.00024 | Y135: =$X$135*$K$135 -> 0.0239832 | Z135: 0 | AA135: =$Z$135*$K$135 -> 0 | AR135: 4 | AT135: K | AU135: 2 | AY135: ROZPOCET | BE135: =IF($U$135="základní",$N$135,0) -> 0 | BF135: =IF($U$135="snížená",$N$135,0) -> 0 | BG135: =IF($U$135="zákl. přenesená",$N$135,0) -> 0 | BH135: =IF($U$135="sníž. přenesená",$N$135,0) -> 0 | BI135: =IF($U$135="nulová",$N$135,0) -> 0 | BJ135: 1 | BK135: =ROUND($L$135*$K$135,2) -> 0 | BL135: 4 | BM135: -187403359
C136: 12 | D136: K | E136: 629991011 | F136: Zakrytí výplní otvorů a svislých ploch fólií přilepenou lepící páskou | J136: m2 | K136: 6.04 | N136: =ROUND($L$136*$K$136,2) -> 0 | U136: základní | V136: 0.06 | W136: =$V$136*$K$136 -> 0.3624 | X136: 0.00012 | Y136: =$X$136*$K$136 -> 0.0007248 | Z136: 0 | AA136: =$Z$136*$K$136 -> 0 | AR136: 4 | AT136: K | AU136: 2 | AY136: ROZPOCET | BE136: =IF($U$136="základní",$N$136,0) -> 0 | BF136: =IF($U$136="snížená",$N$136,0) -> 0 | BG136: =IF($U$136="zákl. přenesená",$N$136,0) -> 0 | BH136: =IF($U$136="sníž. přenesená",$N$136,0) -> 0 | BI136: =IF($U$136="nulová",$N$136,0) -> 0 | BJ136: 1 | BK136: =ROUND($L$136*$K$136,2) -> 0 | BL136: 4 | BM136: 2121546475
C137: 13 | D137: K | E137: 629999022 | F137: Příplatek k omítce za provádění zaoblených ploch poloměru přes 100 mm | J137: m2 | K137: 82.82 | N137: =ROUND($L$137*$K$137,2) -> 0 | U137: základní | V137: 0.25 | W137: =$V$137*$K$137 -> 20.705 | X137: 0 | Y137: =$X$137*$K$137 -> 0 | Z137: 0 | AA137: =$Z$137*$K$137 -> 0 | AR137: 4 | AT137: K | AU137: 2 | AY137: ROZPOCET | BE137: =IF($U$137="základní",$N$137,0) -> 0 | BF137: =IF($U$137="snížená",$N$137,0) -> 0 | BG137: =IF($U$137="zákl. přenesená",$N$137,0) -> 0 | BH137: =IF($U$137="sníž. přenesená",$N$137,0) -> 0 | BI137: =IF($U$137="nulová",$N$137,0) -> 0 | BJ137: 1 | BK137: =ROUND($L$137*$K$137,2) -> 0 | BL137: 4 | BM137: 61958405
D138: 9 - Ostatní konstrukce a práce, bourání | N138: =$BK$138 -> 0 | W138: =SUM($W$139:$W$146) -> 74.04182 | Y138: =SUM($Y$139:$Y$146) -> 0.6045468 | AA138: =SUM($AA$139:$AA$146) -> 2.48606 | AR138: 1 | AT138: D | AU138: 1 | AY138: ROZPOCET | BK138: =SUM($BK$139:$BK$146) -> 0
C139: 14 | D139: K | E139: 941111111 | F139: Montáž lešení řadového trubkového lehkého s podlahami zatížení do 200 kg/m2 š do 0,9 m v do 10 m | J139: m2 | K139: 104 | N139: =ROUND($L$139*$K$139,2) -> 0 | U139: základní | V139: 0.14 | W139: =$V$139*$K$139 -> 14.56 | X139: 0 | Y139: =$X$139*$K$139 -> 0 | Z139: 0 | AA139: =$Z$139*$K$139 -> 0 | AR139: 4 | AT139: K | AU139: 2 | AY139: ROZPOCET | BE139: =IF($U$139="základní",$N$139,0) -> 0 | BF139: =IF($U$139="snížená",$N$139,0) -> 0 | BG139: =IF($U$139="zákl. přenesená",$N$139,0) -> 0 | BH139: =IF($U$139="sníž. přenesená",$N$139,0) -> 0 | BI139: =IF($U$139="nulová",$N$139,0) -> 0 | BJ139: 1 | BK139: =ROUND($L$139*$K$139,2) -> 0 | BL139: 4 | BM139: 806016066
C140: 15 | D140: K | E140: 941111211 | F140: Příplatek k lešení řadovému trubkovému lehkému s podlahami š 0,9 m v 10 m za první a ZKD den použití | J140: m2 | K140: 3120 | N140: =ROUND($L$140*$K$140,2) -> 0 | U140: základní | V140: 0 | W140: =$V$140*$K$140 -> 0 | X140: 0 | Y140: =$X$140*$K$140 -> 0 | Z140: 0 | AA140: =$Z$140*$K$140 -> 0 | AR140: 4 | AT140: K | AU140: 2 | AY140: ROZPOCET | BE140: =IF($U$140="základní",$N$140,0) -> 0 | BF140: =IF($U$140="snížená",$N$140,0) -> 0 | BG140: =IF($U$140="zákl. přenesená",$N$140,0) -> 0 | BH140: =IF($U$140="sníž. přenesená",$N$140,0) -> 0 | BI140: =IF($U$140="nulová",$N$140,0) -> 0 | BJ140: 1 | BK140: =ROUND($L$140*$K$140,2) -> 0 | BL140: 4 | BM140: 398997511
C141: 16 | D141: K | E141: 941111811 | F141: Demontáž lešení řadového trubkového lehkého s podlahami zatížení do 200 kg/m2 š do 0,9 m v do 10 m | J141: m2 | K141: 104 | N141: =ROUND($L$141*$K$141,2) -> 0 | U141: základní | V141: 0.087 | W141: =$V$141*$K$141 -> 9.048 | X141: 0 | Y141: =$X$141*$K$141 -> 0 | Z141: 0 | AA141: =$Z$141*$K$141 -> 0 | AR141: 4 | AT141: K | AU141: 2 | AY141: ROZPOCET | BE141: =IF($U$141="základní",$N$141,0) -> 0 | BF141: =IF($U$141="snížená",$N$141,0) -> 0 | BG141: =IF($U$141="zákl. přenesená",$N$141,0) -> 0 | BH141: =IF($U$141="sníž. přenesená",$N$141,0) -> 0 | BI141: =IF($U$141="nulová",$N$141,0) -> 0 | BJ141: 1 | BK141: =ROUND($L$141*$K$141,2) -> 0 | BL141: 4 | BM141: -55227688
C142: 17 | D142: K | E142: 978019321 | F142: Otlučení vnější vápenné nebo vápenocementové vnější omítky stupně členitosti 3 až 5 rozsahu do 10% | J142: m2 | K142: 92.82 | N142: =ROUND($L$142*$K$142,2) -> 0 | U142: základní | V142: 0.032 | W142: =$V$142*$K$142 -> 2.97024 | X142: 0 | Y142: =$X$142*$K$142 -> 0 | Z142: 0.007 | AA142: =$Z$142*$K$142 -> 0.64974 | AR142: 4 | AT142: K | AU142: 2 | AY142: ROZPOCET | BE142: =IF($U$142="základní",$N$142,0) -> 0 | BF142: =IF($U$142="snížená",$N$142,0) -> 0 | BG142: =IF($U$142="zákl. přenesená",$N$142,0) -> 0 | BH142: =IF($U$142="sníž. přenesená",$N$142,0) -> 0 | BI142: =IF($U$142="nulová",$N$142,0) -> 0 | BJ142: 1 | BK142: =ROUND($L$142*$K$142,2) -> 0 | BL142: 4 | BM142: -593767435
C143: 18 | D143: K | E143: 978019361 | F143: Otlučení vnější vápenné nebo vápenocementové vnější omítky stupně členitosti 3 až 5 rozsahu do 50% | J143: m2 | K143: 38.56 | N143: =ROUND($L$143*$K$143,2) -> 0 | U143: základní | V143: 0.16 | W143: =$V$143*$K$143 -> 6.1696 | X143: 0 | Y143: =$X$143*$K$143 -> 0 | Z143: 0.035 | AA143: =$Z$143*$K$143 -> 1.3496 | AR143: 4 | AT143: K | AU143: 2 | AY143: ROZPOCET | BE143: =IF($U$143="základní",$N$143,0) -> 0 | BF143: =IF($U$143="snížená",$N$143,0) -> 0 | BG143: =IF($U$143="zákl. přenesená",$N$143,0) -> 0 | BH143: =IF($U$143="sníž. přenesená",$N$143,0) -> 0 | BI143: =IF($U$143="nulová",$N$143,0) -> 0 | BJ143: 1 | BK143: =ROUND($L$143*$K$143,2) -> 0 | BL143: 4 | BM143: -374028730
C144: 19 | D144: K | E144: 985131111 | F144: Očištění ploch stěn, rubu kleneb a podlah tlakovou vodou | J144: m2 | K144: 119.28 | N144: =ROUND($L$144*$K$144,2) -> 0 | U144: základní | V144: 0.273 | W144: =$V$144*$K$144 -> 32.56344 | X144: 0 | Y144: =$X$144*$K$144 -> 0 | Z144: 0 | AA144: =$Z$144*$K$144 -> 0 | AR144: 4 | AT144: K | AU144: 2 | AY144: ROZPOCET | BE144: =IF($U$144="základní",$N$144,0) -> 0 | BF144: =IF($U$144="snížená",$N$144,0) -> 0 | BG144: =IF($U$144="zákl. přenesená",$N$144,0) -> 0 | BH144: =IF($U$144="sníž. přenesená",$N$144,0) -> 0 | BI144: =IF($U$144="nulová",$N$144,0) -> 0 | BJ144: 1 | BK144: =ROUND($L$144*$K$144,2) -> 0 | BL144: 4 | BM144: -1897030984
C145: 20 | D145: K | E145: 985131211 | F145: Očištění ploch stěn, rubu kleneb a podlah sušeným křemičitým pískem | J145: m2 | K145: 10.14 | N145: =ROUND($L$145*$K$145,2) -> 0 | U145: základní | V145: 0.247 | W145: =$V$145*$K$145 -> 2.50458 | X145: 0.048 | Y145: =$X$145*$K$145 -> 0.48672 | Z145: 0.048 | AA145: =$Z$145*$K$145 -> 0.48672 | AR145: 4 | AT145: K | AU145: 2 | AY145: ROZPOCET | BE145: =IF($U$145="základní",$N$145,0) -> 0 | BF145: =IF($U$145="snížená",$N$145,0) -> 0 | BG145: =IF($U$145="zákl. přenesená",$N$145,0) -> 0 | BH145: =IF($U$145="sníž. přenesená",$N$145,0) -> 0 | BI145: =IF($U$145="nulová",$N$145,0) -> 0 | BJ145: 1 | BK145: =ROUND($L$145*$K$145,2) -> 0 | BL145: 4 | BM145: -2104887647
C146: 21 | D146: K | E146: 985231111 | F146: Spárování zdiva aktivovanou maltou spára hl do 40 mm dl do 6 m/m2 | J146: m2 | K146: 10.14 | N146: =ROUND($L$146*$K$146,2) -> 0 | U146: základní | V146: 0.614 | W146: =$V$146*$K$146 -> 6.22596 | X146: 0.01162 | Y146: =$X$146*$K$146 -> 0.1178268 | Z146: 0 | AA146: =$Z$146*$K$146 -> 0 | AR146: 4 | AT146: K | AU146: 2 | AY146: ROZPOCET | BE146: =IF($U$146="základní",$N$146,0) -> 0 | BF146: =IF($U$146="snížená",$N$146,0) -> 0 | BG146: =IF($U$146="zákl. přenesená",$N$146,0) -> 0 | BH146: =IF($U$146="sníž. přenesená",$N$146,0) -> 0 | BI146: =IF($U$146="nulová",$N$146,0) -> 0 | BJ146: 1 | BK146: =ROUND($L$146*$K$146,2) -> 0 | BL146: 4 | BM146: -2084453490
D147: 998 - Přesun hmot | N147: =$BK$147 -> 0 | W147: =$W$148 -> 3.825093 | Y147: =$Y$148 -> 0 | AA147: =$AA$148 -> 0 | AR147: 1 | AT147: D | AU147: 1 | AY147: ROZPOCET | BK147: =$BK$148 -> 0
C148: 22 | D148: K | E148: 998011001 | F148: Přesun hmot pro budovy zděné v do 6 m | J148: t | K148: 4.603 | N148: =ROUND($L$148*$K$148,2) -> 0 | U148: základní | V148: 0.831 | W148: =$V$148*$K$148 -> 3.825093 | X148: 0 | Y148: =$X$148*$K$148 -> 0 | Z148: 0 | AA148: =$Z$148*$K$148 -> 0 | AR148: 4 | AT148: K | AU148: 2 | AY148: ROZPOCET | BE148: =IF($U$148="základní",$N$148,0) -> 0 | BF148: =IF($U$148="snížená",$N$148,0) -> 0 | BG148: =IF($U$148="zákl. přenesená",$N$148,0) -> 0 | BH148: =IF($U$148="sníž. přenesená",$N$148,0) -> 0 | BI148: =IF($U$148="nulová",$N$148,0) -> 0 | BJ148: 1 | BK148: =ROUND($L$148*$K$148,2) -> 0 | BL148: 4 | BM148: 589424846
D149: PSV - Práce a dodávky PSV | N149: =$BK$149 -> 0 | W149: =$W$150+$W$155+$W$158+$W$169 -> 186.50272 | Y149: =$Y$150+$Y$155+$Y$158+$Y$169 -> 1.4728436 | AA149: =$AA$150+$AA$155+$AA$158+$AA$169 -> 3.3726163 | AR149: 2 | AT149: D | AU149: 0 | AY149: ROZPOCET | BK149: =$BK$150+$BK$155+$BK$158+$BK$169 -> 0
D150: 762 - Konstrukce tesařské | N150: =$BK$150 -> 0 | W150: =SUM($W$151:$W$154) -> 7.355502 | Y150: =SUM($Y$151:$Y$154) -> 0.0662298 | AA150: =SUM($AA$151:$AA$154) -> 0.16086 | AR150: 2 | AT150: D | AU150: 1 | AY150: ROZPOCET | BK150: =SUM($BK$151:$BK$154) -> 0
C151: 23 | D151: K | E151: 762341914 | F151: Vyřezání části laťování střech průřezu latí do 25 cm2 plochy jednotlivě přes 4 m2 | J151: m2 | K151: 22.98 | N151: =ROUND($L$151*$K$151,2) -> 0 | U151: základní | V151: 0.12 | W151: =$V$151*$K$151 -> 2.7576 | X151: 0 | Y151: =$X$151*$K$151 -> 0 | Z151: 0.007 | AA151: =$Z$151*$K$151 -> 0.16086 | AR151: 16 | AT151: K | AU151: 2 | AY151: ROZPOCET | BE151: =IF($U$151="základní",$N$151,0) -> 0 | BF151: =IF($U$151="snížená",$N$151,0) -> 0 | BG151: =IF($U$151="zákl. přenesená",$N$151,0) -> 0 | BH151: =IF($U$151="sníž. přenesená",$N$151,0) -> 0 | BI151: =IF($U$151="nulová",$N$151,0) -> 0 | BJ151: 1 | BK151: =ROUND($L$151*$K$151,2) -> 0 | BL151: 16 | BM151: -1319665538
C152: 24 | D152: K | E152: 762342914 | F152: Zalaťování otvorů ve střeše latěmi na vzdálenost do 0,22 m plochy jednotlivě do 8 m2 | J152: m2 | K152: 22.98 | N152: =ROUND($L$152*$K$152,2) -> 0 | U152: základní | V152: 0.188 | W152: =$V$152*$K$152 -> 4.32024 | X152: 1e-05 | Y152: =$X$152*$K$152 -> 0.0002298 | Z152: 0 | AA152: =$Z$152*$K$152 -> 0 | AR152: 16 | AT152: K | AU152: 2 | AY152: ROZPOCET | BE152: =IF($U$152="základní",$N$152,0) -> 0 | BF152: =IF($U$152="snížená",$N$152,0) -> 0 | BG152: =IF($U$152="zákl. přenesená",$N$152,0) -> 0 | BH152: =IF($U$152="sníž. přenesená",$N$152,0) -> 0 | BI152: =IF($U$152="nulová",$N$152,0) -> 0 | BJ152: 1 | BK152: =ROUND($L$152*$K$152,2) -> 0 | BL152: 16 | BM152: -1164790560
C153: 25 | D153: M | E153: 605141130 | F153: řezivo jehličnaté,střešní latě impregnované dl 2 - 3,5 m | J153: m3 | K153: 0.12 | N153: =ROUND($L$153*$K$153,2) -> 0 | U153: základní | V153: 0 | W153: =$V$153*$K$153 -> 0 | X153: 0.55 | Y153: =$X$153*$K$153 -> 0.066 | Z153: 0 | AA153: =$Z$153*$K$153 -> 0 | AR153: 32 | AT153: M | AU153: 2 | AY153: ROZPOCET | BE153: =IF($U$153="základní",$N$153,0) -> 0 | BF153: =IF($U$153="snížená",$N$153,0) -> 0 | BG153: =IF($U$153="zákl. přenesená",$N$153,0) -> 0 | BH153: =IF($U$153="sníž. přenesená",$N$153,0) -> 0 | BI153: =IF($U$153="nulová",$N$153,0) -> 0 | BJ153: 1 | BK153: =ROUND($L$153*$K$153,2) -> 0 | BL153: 16 | BM153: 2051109056
C154: 26 | D154: K | E154: 998762101 | F154: Přesun hmot tonážní pro kce tesařské v objektech v do 6 m | J154: t | K154: 0.066 | N154: =ROUND($L$154*$K$154,2) -> 0 | U154: základní | V154: 4.207 | W154: =$V$154*$K$154 -> 0.277662 | X154: 0 | Y154: =$X$154*$K$154 -> 0 | Z154: 0 | AA154: =$Z$154*$K$154 -> 0 | AR154: 16 | AT154: K | AU154: 2 | AY154: ROZPOCET | BE154: =IF($U$154="základní",$N$154,0) -> 0 | BF154: =IF($U$154="snížená",$N$154,0) -> 0 | BG154: =IF($U$154="zákl. přenesená",$N$154,0) -> 0 | BH154: =IF($U$154="sníž. přenesená",$N$154,0) -> 0 | BI154: =IF($U$154="nulová",$N$154,0) -> 0 | BJ154: 1 | BK154: =ROUND($L$154*$K$154,2) -> 0 | BL154: 16 | BM154: 572310817
D155: 764 - Konstrukce klempířské | N155: =$BK$155 -> 0 | W155: =SUM($W$156:$W$157) -> 12.26072 | Y155: =SUM($Y$156:$Y$157) -> 0.169068 | AA155: =SUM($AA$156:$AA$157) -> 0 | AR155: 2 | AT155: D | AU155: 1 | AY155: ROZPOCET | BK155: =SUM($BK$156:$BK$157) -> 0
C156: 27 | D156: K | E156: 764218606 | F156: Oplechování rovné římsy mechanicky kotvené z Pz s upraveným povrchem rš 500 mm | J156: m | K156: 38.6 | N156: =ROUND($L$156*$K$156,2) -> 0 | U156: základní | V156: 0.298 | W156: =$V$156*$K$156 -> 11.5028 | X156: 0.00438 | Y156: =$X$156*$K$156 -> 0.169068 | Z156: 0 | AA156: =$Z$156*$K$156 -> 0 | AR156: 16 | AT156: K | AU156: 2 | AY156: ROZPOCET | BE156: =IF($U$156="základní",$N$156,0) -> 0 | BF156: =IF($U$156="snížená",$N$156,0) -> 0 | BG156: =IF($U$156="zákl. přenesená",$N$156,0) -> 0 | BH156: =IF($U$156="sníž. přenesená",$N$156,0) -> 0 | BI156: =IF($U$156="nulová",$N$156,0) -> 0 | BJ156: 1 | BK156: =ROUND($L$156*$K$156,2) -> 0 | BL156: 16 | BM156: -1759727952
C157: 28 | D157: K | E157: 998764101 | F157: Přesun hmot tonážní pro konstrukce klempířské v objektech v do 6 m | J157: t | K157: 0.16 | N157: =ROUND($L$157*$K$157,2) -> 0 | U157: základní | V157: 4.737 | W157: =$V$157*$K$157 -> 0.75792 | X157: 0 | Y157: =$X$157*$K$157 -> 0 | Z157: 0 | AA157: =$Z$157*$K$157 -> 0 | AR157: 16 | AT157: K | AU157: 2 | AY157: ROZPOCET | BE157: =IF($U$157="základní",$N$157,0) -> 0 | BF157: =IF($U$157="snížená",$N$157,0) -> 0 | BG157: =IF($U$157="zákl. přenesená",$N$157,0) -> 0 | BH157: =IF($U$157="sníž. přenesená",$N$157,0) -> 0 | BI157: =IF($U$157="nulová",$N$157,0) -> 0 | BJ157: 1 | BK157: =ROUND($L$157*$K$157,2) -> 0 | BL157: 16 | BM157: -1431275559
D158: 765 - Krytina skládaná | N158: =$BK$158 -> 0 | W158: =SUM($W$159:$W$168) -> 152.34634 | Y158: =SUM($Y$159:$Y$168) -> 1.2282194 | AA158: =SUM($AA$159:$AA$168) -> 3.2117563 | AR158: 2 | AT158: D | AU158: 1 | AY158: ROZPOCET | BK158: =SUM($BK$159:$BK$168) -> 0
C159: 29 | D159: K | E159: 765111152 | F159: Montáž krytiny keramické prejzové sklonu do 30° do malty 16 ks/m2 | J159: m2 | K159: 19.986 | N159: =ROUND($L$159*$K$159,2) -> 0 | U159: základní | V159: 2.178 | W159: =$V$159*$K$159 -> 43.529508 | X159: 0.05 | Y159: =$X$159*$K$159 -> 0.9993 | Z159: 0 | AA159: =$Z$159*$K$159 -> 0 | AR159: 16 | AT159: K | AU159: 2 | AY159: ROZPOCET | BE159: =IF($U$159="základní",$N$159,0) -> 0 | BF159: =IF($U$159="snížená",$N$159,0) -> 0 | BG159: =IF($U$159="zákl. přenesená",$N$159,0) -> 0 | BH159: =IF($U$159="sníž. přenesená",$N$159,0) -> 0 | BI159: =IF($U$159="nulová",$N$159,0) -> 0 | BJ159: 1 | BK159: =ROUND($L$159*$K$159,2) -> 0 | BL159: 16 | BM159: 365701129
C160: 30 | D160: K | E160: 765111231 | F160: Montáž krytiny keramické nároží do malty | J160: m | K160: 28.5 | N160: =ROUND($L$160*$K$160,2) -> 0 | U160: základní | V160: 2.367 | W160: =$V$160*$K$160 -> 67.4595 | X160: 0.008 | Y160: =$X$160*$K$160 -> 0.228 | Z160: 0 | AA160: =$Z$160*$K$160 -> 0 | AR160: 16 | AT160: K | AU160: 2 | AY160: ROZPOCET | BE160: =IF($U$160="základní",$N$160,0) -> 0 | BF160: =IF($U$160="snížená",$N$160,0) -> 0 | BG160: =IF($U$160="zákl. přenesená",$N$160,0) -> 0 | BH160: =IF($U$160="sníž. přenesená",$N$160,0) -> 0 | BI160: =IF($U$160="nulová",$N$160,0) -> 0 | BJ160: 1 | BK160: =ROUND($L$160*$K$160,2) -> 0 | BL160: 16 | BM160: -593385293
C161: 31 | D161: K | E161: 765111504 | F161: Příplatek k montáži krytiny keramické za připevňovací prostředky za sklon přes 40° do 50° | J161: m2 | K161: 22.986 | N161: =ROUND($L$161*$K$161,2) -> 0 | U161: základní | V161: 0.207 | W161: =$V$161*$K$161 -> 4.758102 | X161: 4e-05 | Y161: =$X$161*$K$161 -> 0.00091944 | Z161: 0 | AA161: =$Z$161*$K$161 -> 0 | AR161: 16 | AT161: K | AU161: 2 | AY161: ROZPOCET | BE161: =IF($U$161="základní",$N$161,0) -> 0 | BF161: =IF($U$161="snížená",$N$161,0) -> 0 | BG161: =IF($U$161="zákl. přenesená",$N$161,0) -> 0 | BH161: =IF($U$161="sníž. přenesená",$N$161,0) -> 0 | BI161: =IF($U$161="nulová",$N$161,0) -> 0 | BJ161: 1 | BK161: =ROUND($L$161*$K$161,2) -> 0 | BL161: 16 | BM161: -1651655469
...

Sheet marnice - SO 02 Márnice - neuz.
D1: List obsahuje: | F1: 1) Krycí list rozpočtu | H1: 2) Rekapitulace rozpočtu | L1: 3) Rozpočet | O1: Zpět na list: | S1: Rekapitulace stavby
C2: optimalizováno pro tisk sestav ve formátu A4 - na výšku | S2: >> skryté sloupce << | AT2: {CE762D09-F09F-4608-ACD4-05696435777D}
AT3: 2
C4: KRYCÍ LIST ROZPOČTU | T4: v --- níže se nacházejí doplnkové a pomocné údaje k sestavám --- v | AT4: False
D6: Stavba: | F6: ='Rekapitulace stavby'!K6 -> Údržba a obnova hřbitovních staveb
D7: Objekt: | F7: marnice - SO 02 Márnice
D8: JKSO: | M8: CC-CZ:
D9: Místo: | F9: Hlízov | M9: Datum:
D11: Objednavatel: | M11: IČ: | O11: IČ:00640336
E12: Obec Hlízov,285 32 Hlízov 164 | M12: DIČ:
D14: Zhotovitel: | M14: IČ:
E15: dosud neurčen | M15: DIČ:
D17: Projektant: | M17: IČ:
E18: Beran Pavel | M18: DIČ:
D20: Zpracovatel: | M20: IČ:
E21: Beran Pavel | M21: DIČ:
D23: Poznámka:
D27: Náklady z rozpočtu | M27: =$N$88 -> 0
D28: Ostatní náklady | M28: =$N$92 -> 0
D30: Cena bez DPH | M30: =ROUND($M$27+$M$28,2) -> 0
D32: DPH | E32: základní | F32: 0.21 | G32: ze | H32: =ROUND((SUM($BE$92:$BE$93)+SUM($BE$111:$BE$117)),2) -> 0 | M32: =ROUND(ROUND((SUM($BE$92:$BE$93)+SUM($BE$111:$BE$117)),2)*$F$32,2) -> 0
E33: snížená | F33: 0.15 | G33: ze | H33: =ROUND((SUM($BF$92:$BF$93)+SUM($BF$111:$BF$117)),2) -> 0 | M33: =ROUND(ROUND((SUM($BF$92:$BF$93)+SUM($BF$111:$BF$117)),2)*$F$33,2) -> 0
E34: zákl. přenesená | F34: 0.21 | G34: ze | H34: =ROUND((SUM($BG$92:$BG$93)+SUM($BG$111:$BG$117)),2) -> 0 | M34: 0
E35: sníž. přenesená | F35: 0.15 | G35: ze | H35: =ROUND((SUM($BH$92:$BH$93)+SUM($BH$111:$BH$117)),2) -> 0 | M35: 0
E36: nulová | F36: 0 | G36: ze | H36: =ROUND((SUM($BI$92:$BI$93)+SUM($BI$111:$BI$117)),2) -> 0 | M36: 0
D38: Cena s DPH | G38: v | H38: CZK | L38: =SUM($M$30:$M$36) -> 0
D50: Projektant | J50: Zpracovatel
D59: Datum a podpis: | G59: Razítko | J59: Datum a podpis: | N59: Razítko
D61: Objednavatel | J61: Zhotovitel
D70: Datum a podpis: | G70: Razítko | J70: Datum a podpis: | N70: Razítko
C76: REKAPITULACE ROZPOČTU
C78: Stavba: | F78: =$F$6 -> Údržba a obnova hřbitovních staveb
C79: Objekt: | F79: =$F$7 -> marnice - SO 02 Márnice
C81: Místo: | F81: =$F$9 -> Hlízov | K81: Datum: | M81: =IF($O$9="","",$O$9)
C83: Objednavatel: | F83: =$E$12 -> Obec Hlízov,285 32 Hlízov 164 | K83: Projektant: | M83: =$E$18 -> Beran Pavel
C84: Zhotovitel: | F84: =IF($E$15="","",$E$15) -> dosud neurčen | K84: Zpracovatel: | M84: =$E$21 -> Beran Pavel
C86: Kód - Popis | N86: Cena celkem [CZK]
C88: 1) Náklady z rozpočtu | N88: =$N$111 -> 0 | AU88: -1
D89: HSV - Práce a dodávky HSV | N89: =$N$112 -> 0
D90: 997 - Přesun sutě | N90: =$N$113 -> 0
C92: 2) Ostatní náklady | N92: 0 | U92: DPH
C94: Celkové náklady za stavbu 1) + 2) | L94: =ROUND(SUM($N$88+$N$92),2) -> 0
C100: ROZPOČET
C102: Stavba: | F102: =$F$6 -> Údržba a obnova hřbitovních staveb
C103: Objekt: | F103: =$F$7 -> marnice - SO 02 Márnice
C105: Místo: | F105: =$F$9 -> Hlízov | K105: Datum: | M105: =IF($O$9="","",$O$9)
C107: Objednavatel: | F107: =$E$12 -> Obec Hlízov,285 32 Hlízov 164 | K107: Projektant: | M107: =$E$18 -> Beran Pavel
C108: Zhotovitel: | F108: =IF($E$15="","",$E$15) -> dosud neurčen | K108: Zpracovatel: | M108: =$E$21 -> Beran Pavel
C110: PČ | D110: Typ | E110: Kód | F110: Popis | J110: MJ | K110: Množství | L110: J.cena [CZK] | N110: Cena celkem [CZK] | T110: Poznámka | U110: DPH | V110: J. Nh [h] | W110: Nh celkem [h] | X110: J. hmotnost [t] | Y110: Hmotnost celkem [t] | Z110: J. suť [t] | AA110: Suť Celkem [t]
C111: Náklady z rozpočtu | N111: =$BK$111 -> 0 | W111: =$W$112 -> 8.89152 | Y111: =$Y$112 -> 0 | AA111: =$AA$112 -> 0 | AT111: D | AU111: -1 | BK111: =$BK$112 -> 0
D112: HSV - Práce a dodávky HSV | N112: =$BK$112 -> 0 | W112: =$W$113 -> 8.89152 | Y112: =$Y$113 -> 0 | AA112: =$AA$113 -> 0 | AR112: 1 | AT112: D | AU112: 0 | AY112: ROZPOCET | BK112: =$BK$113 -> 0
D113: 997 - Přesun sutě | N113: =$BK$113 -> 0 | W113: =SUM($W$114:$W$117) -> 8.89152 | Y113: =SUM($Y$114:$Y$117) -> 0 | AA113: =SUM($AA$114:$AA$117) -> 0 | AR113: 1 | AT113: D | AU113: 1 | AY113: ROZPOCET | BK113: =SUM($BK$114:$BK$117) -> 0
C114: 22 | D114: K | E114: 997013111 | F114: Vnitrostaveništní doprava suti a vybouraných hmot pro budovy v do 6 m s použitím mechanizace | J114: t | K114: 5.052 | N114: =ROUND($L$114*$K$114,2) -> 0 | U114: základní | V114: 1.569 | W114: =$V$114*$K$114 -> 7.926588 | X114: 0 | Y114: =$X$114*$K$114 -> 0 | Z114: 0 | AA114: =$Z$114*$K$114 -> 0 | AR114: 4 | AT114: K | AU114: 2 | AY114: ROZPOCET | BE114: =IF($U$114="základní",$N$114,0) -> 0 | BF114: =IF($U$114="snížená",$N$114,0) -> 0 | BG114: =IF($U$114="zákl. přenesená",$N$114,0) -> 0 | BH114: =IF($U$114="sníž. přenesená",$N$114,0) -> 0 | BI114: =IF($U$114="nulová",$N$114,0) -> 0 | BJ114: 1 | BK114: =ROUND($L$114*$K$114,2) -> 0 | BL114: 4 | BM114: 2027807083
C115: 23 | D115: K | E115: 997013501 | F115: Odvoz suti a vybouraných hmot na skládku nebo meziskládku do 1 km se složením | J115: t | K115: 5.052 | N115: =ROUND($L$115*$K$115,2) -> 0 | U115: základní | V115: 0.125 | W115: =$V$115*$K$115 -> 0.6315 | X115: 0 | Y115: =$X$115*$K$115 -> 0 | Z115: 0 | AA115: =$Z$115*$K$115 -> 0 | AR115: 4 | AT115: K | AU115: 2 | AY115: ROZPOCET | BE115: =IF($U$115="základní",$N$115,0) -> 0 | BF115: =IF($U$115="snížená",$N$115,0) -> 0 | BG115: =IF($U$115="zákl. přenesená",$N$115,0) -> 0 | BH115: =IF($U$115="sníž. přenesená",$N$115,0) -> 0 | BI115: =IF($U$115="nulová",$N$115,0) -> 0 | BJ115: 1 | BK115: =ROUND($L$115*$K$115,2) -> 0 | BL115: 4 | BM115: 495179870
C116: 24 | D116: K | E116: 997013509 | F116: Příplatek k odvozu suti a vybouraných hmot na skládku ZKD 1 km přes 1 km | J116: t | K116: 55.572 | N116: =ROUND($L$116*$K$116,2) -> 0 | U116: základní | V116: 0.006 | W116: =$V$116*$K$116 -> 0.333432 | X116: 0 | Y116: =$X$116*$K$116 -> 0 | Z116: 0 | AA116: =$Z$116*$K$116 -> 0 | AR116: 4 | AT116: K | AU116: 2 | AY116: ROZPOCET | BE116: =IF($U$116="základní",$N$116,0) -> 0 | BF116: =IF($U$116="snížená",$N$116,0) -> 0 | BG116: =IF($U$116="zákl. přenesená",$N$116,0) -> 0 | BH116: =IF($U$116="sníž. přenesená",$N$116,0) -> 0 | BI116: =IF($U$116="nulová",$N$116,0) -> 0 | BJ116: 1 | BK116: =ROUND($L$116*$K$116,2) -> 0 | BL116: 4 | BM116: -173167948
C117: 25 | D117: K | E117: 997013801 | F117: Poplatek za uložení stavebního betonového odpadu na skládce (skládkovné) | J117: t | K117: 5.052 | N117: =ROUND($L$117*$K$117,2) -> 0 | U117: základní | V117: 0 | W117: =$V$117*$K$117 -> 0 | X117: 0 | Y117: =$X$117*$K$117 -> 0 | Z117: 0 | AA117: =$Z$117*$K$117 -> 0 | AR117: 4 | AT117: K | AU117: 2 | AY117: ROZPOCET | BE117: =IF($U$117="základní",$N$117,0) -> 0 | BF117: =IF($U$117="snížená",$N$117,0) -> 0 | BG117: =IF($U$117="zákl. přenesená",$N$117,0) -> 0 | BH117: =IF($U$117="sníž. přenesená",$N$117,0) -> 0 | BI117: =IF($U$117="nulová",$N$117,0) -> 0 | BJ117: 1 | BK117: =ROUND($L$117*$K$117,2) -> 0 | BL117: 4 | BM117: -743538556

Sheet sklad - SO 03 Sklad
D1: List obsahuje: | F1: 1) Krycí list rozpočtu | H1: 2) Rekapitulace rozpočtu | L1: 3) Rozpočet | O1: Zpět na list: | S1: Rekapitulace stavby
C2: optimalizováno pro tisk sestav ve formátu A4 - na výšku | S2: >> skryté sloupce << | AT2: {0666B8E1-AFC8-458E-9371-C98E14235B05}
AT3: 2
C4: KRYCÍ LIST ROZPOČTU | T4: v --- níže se nacházejí doplnkové a pomocné údaje k sestavám --- v | AT4: False
D6: Stavba: | F6: ='Rekapitulace stavby'!K6 -> Údržba a obnova hřbitovních staveb
D7: Objekt: | F7: sklad - SO 03 Sklad
D8: JKSO: | M8: CC-CZ:
D9: Místo: | F9: Hlízov | M9: Datum:
D11: Objednavatel: | M11: IČ: | O11: IČ:00640336
E12: Obec Hlízov,285 32 Hlízov 164 | M12: DIČ:
D14: Zhotovitel: | M14: IČ:
E15: dosud neurčen | M15: DIČ:
D17: Projektant: | M17: IČ:
E18: Beran Pavel | M18: DIČ:
D20: Zpracovatel: | M20: IČ:
E21: Beran Pavel | M21: DIČ:
D23: Poznámka:
D27: Náklady z rozpočtu | M27: =$N$88 -> 0
D28: Ostatní náklady | M28: =$N$103 -> 0
D30: Cena bez DPH | M30: =ROUND($M$27+$M$28,2) -> 0
D32: DPH | E32: základní | F32: 0.21 | G32: ze | H32: =ROUND((SUM($BE$103:$BE$104)+SUM($BE$122:$BE$181)),2) -> 0 | M32: =ROUND(ROUND((SUM($BE$103:$BE$104)+SUM($BE$122:$BE$181)),2)*$F$32,2) -> 0
E33: snížená | F33: 0.15 | G33: ze | H33: =ROUND((SUM($BF$103:$BF$104)+SUM($BF$122:$BF$181)),2) -> 0 | M33: =ROUND(ROUND((SUM($BF$103:$BF$104)+SUM($BF$122:$BF$181)),2)*$F$33,2) -> 0
E34: zákl. přenesená | F34: 0.21 | G34: ze | H34: =ROUND((SUM($BG$103:$BG$104)+SUM($BG$122:$BG$181)),2) -> 0 | M34: 0
E35: sníž. přenesená | F35: 0.15 | G35: ze | H35: =ROUND((SUM($BH$103:$BH$104)+SUM($BH$122:$BH$181)),2) -> 0 | M35: 0
E36: nulová | F36: 0 | G36: ze | H36: =ROUND((SUM($BI$103:$BI$104)+SUM($BI$122:$BI$181)),2) -> 0 | M36: 0
D38: Cena s DPH | G38: v | H38: CZK | L38: =SUM($M$30:$M$36) -> 0
D50: Projektant | J50: Zpracovatel
D59: Datum a podpis: | G59: Razítko | J59: Datum a podpis: | N59: Razítko
D61: Objednavatel | J61: Zhotovitel
D70: Datum a podpis: | G70: Razítko | J70: Datum a podpis: | N70: Razítko
C76: REKAPITULACE ROZPOČTU
C78: Stavba: | F78: =$F$6 -> Údržba a obnova hřbitovních staveb
C79: Objekt: | F79: =$F$7 -> sklad - SO 03 Sklad
C81: Místo: | F81: =$F$9 -> Hlízov | K81: Datum: | M81: =IF($O$9="","",$O$9)
C83: Objednavatel: | F83: =$E$12 -> Obec Hlízov,285 32 Hlízov 164 | K83: Projektant: | M83: =$E$18 -> Beran Pavel
C84: Zhotovitel: | F84: =IF($E$15="","",$E$15) -> dosud neurčen | K84: Zpracovatel: | M84: =$E$21 -> Beran Pavel
C86: Kód - Popis | N86: Cena celkem [CZK]
C88: 1) Náklady z rozpočtu | N88: =$N$122 -> 0 | AU88: -1
D89: HSV - Práce a dodávky HSV | N89: =$N$123 -> 0
D90: 1 - Zemní práce | N90: =$N$124 -> 0
D91: 6 - Úpravy povrchů, podlahy a osazování výplní | N91: =$N$128 -> 0
D92: 9 - Ostatní konstrukce a práce, bourání | N92: =$N$139 -> 0
D93: 997 - Přesun sutě | N93: =$N$148 -> 0
D94: 998 - Přesun hmot | N94: =$N$153 -> 0
D95: PSV - Práce a dodávky PSV | N95: =$N$155 -> 0
D96: 762 - Konstrukce tesařské | N96: =$N$156 -> 0
D97: 764 - Konstrukce klempířské | N97: =$N$161 -> 0
D98: 765 - Krytina skládaná | N98: =$N$164 -> 0
D99: 783 - Dokončovací práce - nátěry | N99: =$N$175 -> 0
D100: VRN - Vedlejší rozpočtové náklady | N100: =$N$179 -> 0
D101: VRN3 - Zařízení staveniště | N101: =$N$180 -> 0
C103: 2) Ostatní náklady | N103: 0 | U103: DPH
C105: Celkové náklady za stavbu 1) + 2) | L105: =ROUND(SUM($N$88+$N$103),2) -> 0
C111: ROZPOČET
C113: Stavba: | F113: =$F$6 -> Údržba a obnova hřbitovních staveb
C114: Objekt: | F114: =$F$7 -> sklad - SO 03 Sklad
C116: Místo: | F116: =$F$9 -> Hlízov | K116: Datum: | M116: =IF($O$9="","",$O$9)
C118: Objednavatel: | F118: =$E$12 -> Obec Hlízov,285 32 Hlízov 164 | K118: Projektant: | M118: =$E$18 -> Beran Pavel
C119: Zhotovitel: | F119: =IF($E$15="","",$E$15) -> dosud neurčen | K119: Zpracovatel: | M119: =$E$21 -> Beran Pavel
C121: PČ | D121: Typ | E121: Kód | F121: Popis | J121: MJ | K121: Množství | L121: J.cena [CZK] | N121: Cena celkem [CZK] | T121: Poznámka | U121: DPH | V121: J. Nh [h] | W121: Nh celkem [h] | X121: J. hmotnost [t] | Y121: Hmotnost celkem [t] | Z121: J. suť [t] | AA121: Suť Celkem [t]
C122: Náklady z rozpočtu | N122: =$BK$122 -> 0 | W122: =$W$123+$W$155+$W$179 -> 521.56596 | Y122: =$Y$123+$Y$155+$Y$179 -> 7.13272 | AA122: =$AA$123+$AA$155+$AA$179 -> 6.2941163 | AT122: D | AU122: -1 | BK122: =$BK$123+$BK$155+$BK$179 -> 0
D123: HSV - Práce a dodávky HSV | N123: =$BK$123 -> 0 | W123: =$W$124+$W$128+$W$139+$W$148+$W$153 -> 339.72832 | Y123: =$Y$124+$Y$128+$Y$139+$Y$148+$Y$153 -> 5.6699696 | AA123: =$AA$124+$AA$128+$AA$139+$AA$148+$AA$153 -> 3.30436 | AR123: 1 | AT123: D | AU123: 0 | AY123: ROZPOCET | BK123: =$BK$124+$BK$128+$BK$139+$BK$148+$BK$153 -> 0
D124: 1 - Zemní práce | N124: =$BK$124 -> 0 | W124: =SUM($W$125:$W$127) -> 7.548 | Y124: =SUM($Y$125:$Y$127) -> 0.000765 | AA124: =SUM($AA$125:$AA$127) -> 0 | AR124: 1 | AT124: D | AU124: 1 | AY124: ROZPOCET | BK124: =SUM($BK$125:$BK$127) -> 0
C125: 1 | D125: K | E125: 181111111 | F125: Plošná úprava terénu do 500 m2 zemina tř 1 až 4 nerovnosti do +/- 100 mm v rovinně a svahu do 1:5 | J125: m2 | K125: 51 | N125: =ROUND($L$125*$K$125,2) -> 0 | U125: základní | V125: 0.09 | W125: =$V$125*$K$125 -> 4.59 | X125: 0 | Y125: =$X$125*$K$125 -> 0 | Z125: 0 | AA125: =$Z$125*$K$125 -> 0 | AR125: 4 | AT125: K | AU125: 2 | AY125: ROZPOCET | BE125: =IF($U$125="základní",$N$125,0) -> 0 | BF125: =IF($U$125="snížená",$N$125,0) -> 0 | BG125: =IF($U$125="zákl. přenesená",$N$125,0) -> 0 | BH125: =IF($U$125="sníž. přenesená",$N$125,0) -> 0 | BI125: =IF($U$125="nulová",$N$125,0) -> 0 | BJ125: 1 | BK125: =ROUND($L$125*$K$125,2) -> 0 | BL125: 4 | BM125: -1119446413
C126: 2 | D126: K | E126: 181411131 | F126: Založení parkového trávníku výsevem plochy do 1000 m2 v rovině a ve svahu do 1:5 | J126: m2 | K126: 51 | N126: =ROUND($L$126*$K$126,2) -> 0 | U126: základní | V126: 0.058 | W126: =$V$126*$K$126 -> 2.958 | X126: 0 | Y126: =$X$126*$K$126 -> 0 | Z126: 0 | AA126: =$Z$126*$K$126 -> 0 | AR126: 4 | AT126: K | AU126: 2 | AY126: ROZPOCET | BE126: =IF($U$126="základní",$N$126,0) -> 0 | BF126: =IF($U$126="snížená",$N$126,0) -> 0 | BG126: =IF($U$126="zákl. přenesená",$N$126,0) -> 0 | BH126: =IF($U$126="sníž. přenesená",$N$126,0) -> 0 | BI126: =IF($U$126="nulová",$N$126,0) -> 0 | BJ126: 1 | BK126: =ROUND($L$126*$K$126,2) -> 0 | BL126: 4 | BM126: -1541947265
C127: 3 | D127: M | E127: 005724100 | F127: osivo směs travní parková | J127: kg | K127: 0.765 | N127: =ROUND($L$127*$K$127,2) -> 0 | U127: základní | V127: 0 | W127: =$V$127*$K$127 -> 0 | X127: 0.001 | Y127: =$X$127*$K$127 -> 0.000765 | Z127: 0 | AA127: =$Z$127*$K$127 -> 0 | AR127: 8 | AT127: M | AU127: 2 | AY127: ROZPOCET | BE127: =IF($U$127="základní",$N$127,0) -> 0 | BF127: =IF($U$127="snížená",$N$127,0) -> 0 | BG127: =IF($U$127="zákl. přenesená",$N$127,0) -> 0 | BH127: =IF($U$127="sníž. přenesená",$N$127,0) -> 0 | BI127: =IF($U$127="nulová",$N$127,0) -> 0 | BJ127: 1 | BK127: =ROUND($L$127*$K$127,2) -> 0 | BL127: 4 | BM127: -373545268
D128: 6 - Úpravy povrchů, podlahy a osazování výplní | N128: =$BK$128 -> 0 | W128: =SUM($W$129:$W$138) -> 241.97651 | Y128: =SUM($Y$129:$Y$138) -> 5.2435178 | AA128: =SUM($AA$129:$AA$138) -> 0 | AR128: 1 | AT128: D | AU128: 1 | AY128: ROZPOCET | BK128: =SUM($BK$129:$BK$138) -> 0
C129: 4 | D129: K | E129: 621335113 | F129: Oprava cementové štukové omítky vnějších podhledů v rozsahu do 50% | J129: m2 | K129: 32.56 | N129: =ROUND($L$129*$K$129,2) -> 0 | U129: základní | V129: 0.442 | W129: =$V$129*$K$129 -> 14.39152 | X129: 0.02659 | Y129: =$X$129*$K$129 -> 0.8657704 | Z129: 0 | AA129: =$Z$129*$K$129 -> 0 | AR129: 4 | AT129: K | AU129: 2 | AY129: ROZPOCET | BE129: =IF($U$129="základní",$N$129,0) -> 0 | BF129: =IF($U$129="snížená",$N$129,0) -> 0 | BG129: =IF($U$129="zákl. přenesená",$N$129,0) -> 0 | BH129: =IF($U$129="sníž. přenesená",$N$129,0) -> 0 | BI129: =IF($U$129="nulová",$N$129,0) -> 0 | BJ129: 1 | BK129: =ROUND($L$129*$K$129,2) -> 0 | BL129: 4 | BM129: -1401549911
C130: 5 | D130: K | E130: 621531021 | F130: Tenkovrstvá silikonová zrnitá omítka tl. 2,0 mm včetně penetrace vnějších podhledů | J130: m2 | K130: 32.56 | N130: =ROUND($L$130*$K$130,2) -> 0 | U130: základní | V130: 0.285 | W130: =$V$130*$K$130 -> 9.2796 | X130: 0.00348 | Y130: =$X$130*$K$130 -> 0.1133088 | Z130: 0 | AA130: =$Z$130*$K$130 -> 0 | AR130: 4 | AT130: K | AU130: 2 | AY130: ROZPOCET | BE130: =IF($U$130="základní",$N$130,0) -> 0 | BF130: =IF($U$130="snížená",$N$130,0) -> 0 | BG130: =IF($U$130="zákl. přenesená",$N$130,0) -> 0 | BH130: =IF($U$130="sníž. přenesená",$N$130,0) -> 0 | BI130: =IF($U$130="nulová",$N$130,0) -> 0 | BJ130: 1 | BK130: =ROUND($L$130*$K$130,2) -> 0 | BL130: 4 | BM130: 1447394161
C131: 6 | D131: K | E131: 622135001 | F131: Vyrovnání podkladu vnějších stěn maltou vápenocementovou tl do 10 mm | J131: m2 | K131: 82.82 | N131: =ROUND($L$131*$K$131,2) -> 0 | U131: základní | V131: 0.424 | W131: =$V$131*$K$131 -> 35.11568 | X131: 0.02048 | Y131: =$X$131*$K$131 -> 1.6961536 | Z131: 0 | AA131: =$Z$131*$K$131 -> 0 | AR131: 4 | AT131: K | AU131: 2 | AY131: ROZPOCET | BE131: =IF($U$131="základní",$N$131,0) -> 0 | BF131: =IF($U$131="snížená",$N$131,0) -> 0 | BG131: =IF($U$131="zákl. přenesená",$N$131,0) -> 0 | BH131: =IF($U$131="sníž. přenesená",$N$131,0) -> 0 | BI131: =IF($U$131="nulová",$N$131,0) -> 0 | BJ131: 1 | BK131: =ROUND($L$131*$K$131,2) -> 0 | BL131: 4 | BM131: 723640475
C132: 7 | D132: K | E132: 622135091 | F132: Příplatek k vyrovnání vnějších stěn maltou vápenocementovou za každých dalších 5 mm tl | J132: m2 | K132: 82.82 | N132: =ROUND($L$132*$K$132,2) -> 0 | U132: základní | V132: 0.09 | W132: =$V$132*$K$132 -> 7.4538 | X132: 0.0079 | Y132: =$X$132*$K$132 -> 0.654278 | Z132: 0 | AA132: =$Z$132*$K$132 -> 0 | AR132: 4 | AT132: K | AU132: 2 | AY132: ROZPOCET | BE132: =IF($U$132="základní",$N$132,0) -> 0 | BF132: =IF($U$132="snížená",$N$132,0) -> 0 | BG132: =IF($U$132="zákl. přenesená",$N$132,0) -> 0 | BH132: =IF($U$132="sníž. přenesená",$N$132,0) -> 0 | BI132: =IF($U$132="nulová",$N$132,0) -> 0 | BJ132: 1 | BK132: =ROUND($L$132*$K$132,2) -> 0 | BL132: 4 | BM132: -303754975
C133: 8 | D133: K | E133: 622325403 | F133: Oprava vnější vápenné nebo vápenocementové štukové omítky složitosti 3 v rozsahu do 30% | J133: m2 | K133: 82.82 | N133: =ROUND($L$133*$K$133,2) -> 0 | U133: základní | V133: 1.567 | W133: =$V$133*$K$133 -> 129.77894 | X133: 0.01931 | Y133: =$X$133*$K$133 -> 1.5992542 | Z133: 0 | AA133: =$Z$133*$K$133 -> 0 | AR133: 4 | AT133: K | AU133: 2 | AY133: ROZPOCET | BE133: =IF($U$133="základní",$N$133,0) -> 0 | BF133: =IF($U$133="snížená",$N$133,0) -> 0 | BG133: =IF($U$133="zákl. přenesená",$N$133,0) -> 0 | BH133: =IF($U$133="sníž. přenesená",$N$133,0) -> 0 | BI133: =IF($U$133="nulová",$N$133,0) -> 0 | BJ133: 1 | BK133: =ROUND($L$133*$K$133,2) -> 0 | BL133: 4 | BM133: 723842504
C134: 9 | D134: K | E134: 622531021 | F134: Tenkovrstvá silikonová zrnitá omítka tl. 2,0 mm včetně penetrace vnějších stěn | J134: m2 | K134: 82.82 | N134: =ROUND($L$134*$K$134,2) -> 0 | U134: základní | V134: 0.245 | W134: =$V$134*$K$134 -> 20.2909 | X134: 0.00348 | Y134: =$X$134*$K$134 -> 0.2882136 | Z134: 0 | AA134: =$Z$134*$K$134 -> 0 | AR134: 4 | AT134: K | AU134: 2 | AY134: ROZPOCET | BE134: =IF($U$134="základní",$N$134,0) -> 0 | BF134: =IF($U$134="snížená",$N$134,0) -> 0 | BG134: =IF($U$134="zákl. přenesená",$N$134,0) -> 0 | BH134: =IF($U$134="sníž. přenesená",$N$134,0) -> 0 | BI134: =IF($U$134="nulová",$N$134,0) -> 0 | BJ134: 1 | BK134: =ROUND($L$134*$K$134,2) -> 0 | BL134: 4 | BM134: 1353651792
C135: 10 | D135: K | E135: 622613101 | F135: Hydrofobizační nátěr silikonový vnějších stěn z cihel nebo z přírodního kamene ručně | J135: m2 | K135: 7.14 | N135: =ROUND($L$135*$K$135,2) -> 0 | U135: základní | V135: 0.09 | W135: =$V$135*$K$135 -> 0.6426 | X135: 0.00024 | Y135: =$X$135*$K$135 -> 0.0017136 | Z135: 0 | AA135: =$Z$135*$K$135 -> 0 | AR135: 4 | AT135: K | AU135: 2 | AY135: ROZPOCET | BE135: =IF($U$135="základní",$N$135,0) -> 0 | BF135: =IF($U$135="snížená",$N$135,0) -> 0 | BG135: =IF($U$135="zákl. přenesená",$N$135,0) -> 0 | BH135: =IF($U$135="sníž. přenesená",$N$135,0) -> 0 | BI135: =IF($U$135="nulová",$N$135,0) -> 0 | BJ135: 1 | BK135: =ROUND($L$135*$K$135,2) -> 0 | BL135: 4 | BM135: 33162423
C136: 11 | D136: K | E136: 622613301 | F136: Hydrofobizační nátěr silikonový střech z cihel nebo z přírodního kamene strojně | J136: m2 | K136: 99.93 | N136: =ROUND($L$136*$K$136,2) -> 0 | U136: základní | V136: 0.039 | W136: =$V$136*$K$136 -> 3.89727 | X136: 0.00024 | Y136: =$X$136*$K$136 -> 0.0239832 | Z136: 0 | AA136: =$Z$136*$K$136 -> 0 | AR136: 4 | AT136: K | AU136: 2 | AY136: ROZPOCET | BE136: =IF($U$136="základní",$N$136,0) -> 0 | BF136: =IF($U$136="snížená",$N$136,0) -> 0 | BG136: =IF($U$136="zákl. přenesená",$N$136,0) -> 0 | BH136: =IF($U$136="sníž. přenesená",$N$136,0) -> 0 | BI136: =IF($U$136="nulová",$N$136,0) -> 0 | BJ136: 1 | BK136: =ROUND($L$136*$K$136,2) -> 0 | BL136: 4 | BM136: -187403359
C137: 12 | D137: K | E137: 629991011 | F137: Zakrytí výplní otvorů a svislých ploch fólií přilepenou lepící páskou | J137: m2 | K137: 7.02 | N137: =ROUND($L$137*$K$137,2) -> 0 | U137: základní | V137: 0.06 | W137: =$V$137*$K$137 -> 0.4212 | X137: 0.00012 | Y137: =$X$137*$K$137 -> 0.0008424 | Z137: 0 | AA137: =$Z$137*$K$137 -> 0 | AR137: 4 | AT137: K | AU137: 2 | AY137: ROZPOCET | BE137: =IF($U$137="základní",$N$137,0) -> 0 | BF137: =IF($U$137="snížená",$N$137,0) -> 0 | BG137: =IF($U$137="zákl. přenesená",$N$137,0) -> 0 | BH137: =IF($U$137="sníž. přenesená",$N$137,0) -> 0 | BI137: =IF($U$137="nulová",$N$137,0) -> 0 | BJ137: 1 | BK137: =ROUND($L$137*$K$137,2) -> 0 | BL137: 4 | BM137: 2121546475
C138: 13 | D138: K | E138: 629999022 | F138: Příplatek k omítce za provádění zaoblených ploch poloměru přes 100 mm | J138: m2 | K138: 82.82 | N138: =ROUND($L$138*$K$138,2) -> 0 | U138: základní | V138: 0.25 | W138: =$V$138*$K$138 -> 20.705 | X138: 0 | Y138: =$X$138*$K$138 -> 0 | Z138: 0 | AA138: =$Z$138*$K$138 -> 0 | AR138: 4 | AT138: K | AU138: 2 | AY138: ROZPOCET | BE138: =IF($U$138="základní",$N$138,0) -> 0 | BF138: =IF($U$138="snížená",$N$138,0) -> 0 | BG138: =IF($U$138="zákl. přenesená",$N$138,0) -> 0 | BH138: =IF($U$138="sníž. přenesená",$N$138,0) -> 0 | BI138: =IF($U$138="nulová",$N$138,0) -> 0 | BJ138: 1 | BK138: =ROUND($L$138*$K$138,2) -> 0 | BL138: 4 | BM138: 61958405
D139: 9 - Ostatní konstrukce a práce, bourání | N139: =$BK$139 -> 0 | W139: =SUM($W$140:$W$147) -> 74.4146 | Y139: =SUM($Y$140:$Y$147) -> 0.4256868 | AA139: =SUM($AA$140:$AA$147) -> 3.30436 | AR139: 1 | AT139: D | AU139: 1 | AY139: ROZPOCET | BK139: =SUM($BK$140:$BK$147) -> 0
C140: 14 | D140: K | E140: 941111111 | F140: Montáž lešení řadového trubkového lehkého s podlahami zatížení do 200 kg/m2 š do 0,9 m v do 10 m | J140: m2 | K140: 104 | N140: =ROUND($L$140*$K$140,2) -> 0 | U140: základní | V140: 0.14 | W140: =$V$140*$K$140 -> 14.56 | X140: 0 | Y140: =$X$140*$K$140 -> 0 | Z140: 0 | AA140: =$Z$140*$K$140 -> 0 | AR140: 4 | AT140: K | AU140: 2 | AY140: ROZPOCET | BE140: =IF($U$140="základní",$N$140,0) -> 0 | BF140: =IF($U$140="snížená",$N$140,0) -> 0 | BG140: =IF($U$140="zákl. přenesená",$N$140,0) -> 0 | BH140: =IF($U$140="sníž. přenesená",$N$140,0) -> 0 | BI140: =IF($U$140="nulová",$N$140,0) -> 0 | BJ140: 1 | BK140: =ROUND($L$140*$K$140,2) -> 0 | BL140: 4 | BM140: 806016066
C141: 15 | D141: K | E141: 941111211 | F141: Příplatek k lešení řadovému trubkovému lehkému s podlahami š 0,9 m v 10 m za první a ZKD den použití | J141: m2 | K141: 3120 | N141: =ROUND($L$141*$K$141,2) -> 0 | U141: základní | V141: 0 | W141: =$V$141*$K$141 -> 0 | X141: 0 | Y141: =$X$141*$K$141 -> 0 | Z141: 0 | AA141: =$Z$141*$K$141 -> 0 | AR141: 4 | AT141: K | AU141: 2 | AY141: ROZPOCET | BE141: =IF($U$141="základní",$N$141,0) -> 0 | BF141: =IF($U$141="snížená",$N$141,0) -> 0 | BG141: =IF($U$141="zákl. přenesená",$N$141,0) -> 0 | BH141: =IF($U$141="sníž. přenesená",$N$141,0) -> 0 | BI141: =IF($U$141="nulová",$N$141,0) -> 0 | BJ141: 1 | BK141: =ROUND($L$141*$K$141,2) -> 0 | BL141: 4 | BM141: 398997511
C142: 16 | D142: K | E142: 941111811 | F142: Demontáž lešení řadového trubkového lehkého s podlahami zatížení do 200 kg/m2 š do 0,9 m v do 10 m | J142: m2 | K142: 104 | N142: =ROUND($L$142*$K$142,2) -> 0 | U142: základní | V142: 0.087 | W142: =$V$142*$K$142 -> 9.048 | X142: 0 | Y142: =$X$142*$K$142 -> 0 | Z142: 0 | AA142: =$Z$142*$K$142 -> 0 | AR142: 4 | AT142: K | AU142: 2 | AY142: ROZPOCET | BE142: =IF($U$142="základní",$N$142,0) -> 0 | BF142: =IF($U$142="snížená",$N$142,0) -> 0 | BG142: =IF($U$142="zákl. přenesená",$N$142,0) -> 0 | BH142: =IF($U$142="sníž. přenesená",$N$142,0) -> 0 | BI142: =IF($U$142="nulová",$N$142,0) -> 0 | BJ142: 1 | BK142: =ROUND($L$142*$K$142,2) -> 0 | BL142: 4 | BM142: -55227688
C143: 17 | D143: K | E143: 978019341 | F143: Otlučení vnější vápenné nebo vápenocementové vnější omítky stupně členitosti 3 až 5 rozsahu do 30% | J143: m2 | K143: 82.82 | N143: =ROUND($L$143*$K$143,2) -> 0 | U143: základní | V143: 0.096 | W143: =$V$143*$K$143 -> 7.95072 | X143: 0 | Y143: =$X$143*$K$143 -> 0 | Z143: 0.022 | AA143: =$Z$143*$K$143 -> 1.82204 | AR143: 4 | AT143: K | AU143: 2 | AY143: ROZPOCET | BE143: =IF($U$143="základní",$N$143,0) -> 0 | BF143: =IF($U$143="snížená",$N$143,0) -> 0 | BG143: =IF($U$143="zákl. přenesená",$N$143,0) -> 0 | BH143: =IF($U$143="sníž. přenesená",$N$143,0) -> 0 | BI143: =IF($U$143="nulová",$N$143,0) -> 0 | BJ143: 1 | BK143: =ROUND($L$143*$K$143,2) -> 0 | BL143: 4 | BM143: -674733804
C144: 18 | D144: K | E144: 978019361 | F144: Otlučení vnější vápenné nebo vápenocementové vnější omítky stupně členitosti 3 až 5 rozsahu do 50% | J144: m2 | K144: 32.56 | N144: =ROUND($L$144*$K$144,2) -> 0 | U144: základní | V144: 0.16 | W144: =$V$144*$K$144 -> 5.2096 | X144: 0 | Y144: =$X$144*$K$144 -> 0 | Z144: 0.035 | AA144: =$Z$144*$K$144 -> 1.1396 | AR144: 4 | AT144: K | AU144: 2 | AY144: ROZPOCET | BE144: =IF($U$144="základní",$N$144,0) -> 0 | BF144: =IF($U$144="snížená",$N$144,0) -> 0 | BG144: =IF($U$144="zákl. přenesená",$N$144,0) -> 0 | BH144: =IF($U$144="sníž. přenesená",$N$144,0) -> 0 | BI144: =IF($U$144="nulová",$N$144,0) -> 0 | BJ144: 1 | BK144: =ROUND($L$144*$K$144,2) -> 0 | BL144: 4 | BM144: -374028730
C145: 19 | D145: K | E145: 985131111 | F145: Očištění ploch stěn, rubu kleneb a podlah tlakovou vodou | J145: m2 | K145: 115.38 | N145: =ROUND($L$145*$K$145,2) -> 0 | U145: základní | V145: 0.273 | W145: =$V$145*$K$145 -> 31.49874 | X145: 0 | Y145: =$X$145*$K$145 -> 0 | Z145: 0 | AA145: =$Z$145*$K$145 -> 0 | AR145: 4 | AT145: K | AU145: 2 | AY145: ROZPOCET | BE145: =IF($U$145="základní",$N$145,0) -> 0 | BF145: =IF($U$145="snížená",$N$145,0) -> 0 | BG145: =IF($U$145="zákl. přenesená",$N$145,0) -> 0 | BH145: =IF($U$145="sníž. přenesená",$N$145,0) -> 0 | BI145: =IF($U$145="nulová",$N$145,0) -> 0 | BJ145: 1 | BK145: =ROUND($L$145*$K$145,2) -> 0 | BL145: 4 | BM145: -1897030984
C146: 20 | D146: K | E146: 985131211 | F146: Očištění ploch stěn, rubu kleneb a podlah sušeným křemičitým pískem | J146: m2 | K146: 7.14 | N146: =ROUND($L$146*$K$146,2) -> 0 | U146: základní | V146: 0.247 | W146: =$V$146*$K$146 -> 1.76358 | X146: 0.048 | Y146: =$X$146*$K$146 -> 0.34272 | Z146: 0.048 | AA146: =$Z$146*$K$146 -> 0.34272 | AR146: 4 | AT146: K | AU146: 2 | AY146: ROZPOCET | BE146: =IF($U$146="základní",$N$146,0) -> 0 | BF146: =IF($U$146="snížená",$N$146,0) -> 0 | BG146: =IF($U$146="zákl. přenesená",$N$146,0) -> 0 | BH146: =IF($U$146="sníž. přenesená",$N$146,0) -> 0 | BI146: =IF($U$146="nulová",$N$146,0) -> 0 | BJ146: 1 | BK146: =ROUND($L$146*$K$146,2) -> 0 | BL146: 4 | BM146: -2104887647
C147: 21 | D147: K | E147: 985231111 | F147: Spárování zdiva aktivovanou maltou spára hl do 40 mm dl do 6 m/m2 | J147: m2 | K147: 7.14 | N147: =ROUND($L$147*$K$147,2) -> 0 | U147: základní | V147: 0.614 | W147: =$V$147*$K$147 -> 4.38396 | X147: 0.01162 | Y147: =$X$147*$K$147 -> 0.0829668 | Z147: 0 | AA147: =$Z$147*$K$147 -> 0 | AR147: 4 | AT147: K | AU147: 2 | AY147: ROZPOCET | BE147: =IF($U$147="základní",$N$147,0) -> 0 | BF147: =IF($U$147="snížená",$N$147,0) -> 0 | BG147: =IF($U$147="zákl. přenesená",$N$147,0) -> 0 | BH147: =IF($U$147="sníž. přenesená",$N$147,0) -> 0 | BI147: =IF($U$147="nulová",$N$147,0) -> 0 | BJ147: 1 | BK147: =ROUND($L$147*$K$147,2) -> 0 | BL147: 4 | BM147: -2084453490
D148: 997 - Přesun sutě | N148: =$BK$148 -> 0 | W148: =SUM($W$149:$W$152) -> 11.07744 | Y148: =SUM($Y$149:$Y$152) -> 0 | AA148: =SUM($AA$149:$AA$152) -> 0 | AR148: 1 | AT148: D | AU148: 1 | AY148: ROZPOCET | BK148: =SUM($BK$149:$BK$152) -> 0
C149: 22 | D149: K | E149: 997013111 | F149: Vnitrostaveništní doprava suti a vybouraných hmot pro budovy v do 6 m s použitím mechanizace | J149: t | K149: 6.294 | N149: =ROUND($L$149*$K$149,2) -> 0 | U149: základní | V149: 1.569 | W149: =$V$149*$K$149 -> 9.875286 | X149: 0 | Y149: =$X$149*$K$149 -> 0 | Z149: 0 | AA149: =$Z$149*$K$149 -> 0 | AR149: 4 | AT149: K | AU149: 2 | AY149: ROZPOCET | BE149: =IF($U$149="základní",$N$149,0) -> 0 | BF149: =IF($U$149="snížená",$N$149,0) -> 0 | BG149: =IF($U$149="zákl. přenesená",$N$149,0) -> 0 | BH149: =IF($U$149="sníž. přenesená",$N$149,0) -> 0 | BI149: =IF($U$149="nulová",$N$149,0) -> 0 | BJ149: 1 | BK149: =ROUND($L$149*$K$149,2) -> 0 | BL149: 4 | BM149: 2027807083
C150: 23 | D150: K | E150: 997013501 | F150: Odvoz suti a vybouraných hmot na skládku nebo meziskládku do 1 km se složením | J150: t | K150: 6.294 | N150: =ROUND($L$150*$K$150,2) -> 0 | U150: základní | V150: 0.125 | W150: =$V$150*$K$150 -> 0.78675 | X150: 0 | Y150: =$X$150*$K$150 -> 0 | Z150: 0 | AA150: =$Z$150*$K$150 -> 0 | AR150: 4 | AT150: K | AU150: 2 | AY150: ROZPOCET | BE150: =IF($U$150="základní",$N$150,0) -> 0 | BF150: =IF($U$150="snížená",$N$150,0) -> 0 | BG150: =IF($U$150="zákl. přenesená",$N$150,0) -> 0 | BH150: =IF($U$150="sníž. přenesená",$N$150,0) -> 0 | BI150: =IF($U$150="nulová",$N$150,0) -> 0 | BJ150: 1 | BK150: =ROUND($L$150*$K$150,2) -> 0 | BL150: 4 | BM150: 495179870
C151: 24 | D151: K | E151: 997013509 | F151: Příplatek k odvozu suti a vybouraných hmot na skládku ZKD 1 km přes 1 km | J151: t | K151: 69.234 | N151: =ROUND($L$151*$K$151,2) -> 0 | U151: základní | V151: 0.006 | W151: =$V$151*$K$151 -> 0.415404 | X151: 0 | Y151: =$X$151*$K$151 -> 0 | Z151: 0 | AA151: =$Z$151*$K$151 -> 0 | AR151: 4 | AT151: K | AU151: 2 | AY151: ROZPOCET | BE151: =IF($U$151="základní",$N$151,0) -> 0 | BF151: =IF($U$151="snížená",$N$151,0) -> 0 | BG151: =IF($U$151="zákl. přenesená",$N$151,0) -> 0 | BH151: =IF($U$151="sníž. přenesená",$N$151,0) -> 0 | BI151: =IF($U$151="nulová",$N$151,0) -> 0 | BJ151: 1 | BK151: =ROUND($L$151*$K$151,2) -> 0 | BL151: 4 | BM151: -173167948
C152: 25 | D152: K | E152: 997013801 | F152: Poplatek za uložení stavebního betonového odpadu na skládce (skládkovné) | J152: t | K152: 6.294 | N152: =ROUND($L$152*$K$152,2) -> 0 | U152: základní | V152: 0 | W152: =$V$152*$K$152 -> 0 | X152: 0 | Y152: =$X$152*$K$152 -> 0 | Z152: 0 | AA152: =$Z$152*$K$152 -> 0 | AR152: 4 | AT152: K | AU152: 2 | AY152: ROZPOCET | BE152: =IF($U$152="základní",$N$152,0) -> 0 | BF152: =IF($U$152="snížená",$N$152,0) -> 0 | BG152: =IF($U$152="zákl. přenesená",$N$152,0) -> 0 | BH152: =IF($U$152="sníž. přenesená",$N$152,0) -> 0 | BI152: =IF($U$152="nulová",$N$152,0) -> 0 | BJ152: 1 | BK152: =ROUND($L$152*$K$152,2) -> 0 | BL152: 4 | BM152: -743538556
D153: 998 - Přesun hmot | N153: =$BK$153 -> 0 | W153: =$W$154 -> 4.71177 | Y153: =$Y$154 -> 0 | AA153: =$AA$154 -> 0 | AR153: 1 | AT153: D | AU153: 1 | AY153: ROZPOCET | BK153: =$BK$154 -> 0
C154: 26 | D154: K | E154: 998011001 | F154: Přesun hmot pro budovy zděné v do 6 m | J154: t | K154: 5.67 | N154: =ROUND($L$154*$K$154,2) -> 0 | U154: základní | V154: 0.831 | W154: =$V$154*$K$154 -> 4.71177 | X154: 0 | Y154: =$X$154*$K$154 -> 0 | Z154: 0 | AA154: =$Z$154*$K$154 -> 0 | AR154: 4 | AT154: K | AU154: 2 | AY154: ROZPOCET | BE154: =IF($U$154="základní",$N$154,0) -> 0 | BF154: =IF($U$154="snížená",$N$154,0) -> 0 | BG154: =IF($U$154="zákl. přenesená",$N$154,0) -> 0 | BH154: =IF($U$154="sníž. přenesená",$N$154,0) -> 0 | BI154: =IF($U$154="nulová",$N$154,0) -> 0 | BJ154: 1 | BK154: =ROUND($L$154*$K$154,2) -> 0 | BL154: 4 | BM154: 589424846
D155: PSV - Práce a dodávky PSV | N155: =$BK$155 -> 0 | W155: =$W$156+$W$161+$W$164+$W$175 -> 181.83764 | Y155: =$Y$156+$Y$161+$Y$164+$Y$175 -> 1.4627504 | AA155: =$AA$156+$AA$161+$AA$164+$AA$175 -> 2.9897563 | AR155: 2 | AT155: D | AU155: 0 | AY155: ROZPOCET | BK155: =$BK$156+$BK$161+$BK$164+$BK$175 -> 0
D156: 762 - Konstrukce tesařské | N156: =$BK$156 -> 0 | W156: =SUM($W$157:$W$160) -> 6.431502 | Y156: =SUM($Y$157:$Y$160) -> 0.0661998 | AA156: =SUM($AA$157:$AA$160) -> 0.13986 | AR156: 2 | AT156: D | AU156: 1 | AY156: ROZPOCET | BK156: =SUM($BK$157:$BK$160) -> 0
C157: 27 | D157: K | E157: 762341914 | F157: Vyřezání části laťování střech průřezu latí do 25 cm2 plochy jednotlivě přes 4 m2 | J157: m2 | K157: 19.98 | N157: =ROUND($L$157*$K$157,2) -> 0 | U157: základní | V157: 0.12 | W157: =$V$157*$K$157 -> 2.3976 | X157: 0 | Y157: =$X$157*$K$157 -> 0 | Z157: 0.007 | AA157: =$Z$157*$K$157 -> 0.13986 | AR157: 16 | AT157: K | AU157: 2 | AY157: ROZPOCET | BE157: =IF($U$157="základní",$N$157,0) -> 0 | BF157: =IF($U$157="snížená",$N$157,0) -> 0 | BG157: =IF($U$157="zákl. přenesená",$N$157,0) -> 0 | BH157: =IF($U$157="sníž. přenesená",$N$157,0) -> 0 | BI157: =IF($U$157="nulová",$N$157,0) -> 0 | BJ157: 1 | BK157: =ROUND($L$157*$K$157,2) -> 0 | BL157: 16 | BM157: -1319665538
C158: 28 | D158: K | E158: 762342914 | F158: Zalaťování otvorů ve střeše latěmi na vzdálenost do 0,22 m plochy jednotlivě do 8 m2 | J158: m2 | K158: 19.98 | N158: =ROUND($L$158*$K$158,2) -> 0 | U158: základní | V158: 0.188 | W158: =$V$158*$K$158 -> 3.75624 | X158: 1e-05 | Y158: =$X$158*$K$158 -> 0.0001998 | Z158: 0 | AA158: =$Z$158*$K$158 -> 0 | AR158: 16 | AT158: K | AU158: 2 | AY158: ROZPOCET | BE158: =IF($U$158="základní",$N$158,0) -> 0 | BF158: =IF($U$158="snížená",$N$158,0) -> 0 | BG158: =IF($U$158="zákl. přenesená",$N$158,0) -> 0 | BH158: =IF($U$158="sníž. přenesená",$N$158,0) -> 0 | BI158: =IF($U$158="nulová",$N$158,0) -> 0 | BJ158: 1 | BK158: =ROUND($L$158*$K$158,2) -> 0 | BL158: 16 | BM158: -1164790560
C159: 29 | D159: M | E159: 605141130 | F159: řezivo jehličnaté,střešní latě impregnované dl 2 - 3,5 m | J159: m3 | K159: 0.12 | N159: =ROUND($L$159*$K$159,2) -> 0 | U159: základní | V159: 0 | W159: =$V$159*$K$159 -> 0 | X159: 0.55 | Y159: =$X$159*$K$159 -> 0.066 | Z159: 0 | AA159: =$Z$159*$K$159 -> 0 | AR159: 32 | AT159: M | AU159: 2 | AY159: ROZPOCET | BE159: =IF($U$159="základní",$N$159,0) -> 0 | BF159: =IF($U$159="snížená",$N$159,0) -> 0 | BG159: =IF($U$159="zákl. přenesená",$N$159,0) -> 0 | BH159: =IF($U$159="sníž. přenesená",$N$159,0) -> 0 | BI159: =IF($U$159="nulová",$N$159,0) -> 0 | BJ159: 1 | BK159: =ROUND($L$159*$K$159,2) -> 0 | BL159: 16 | BM159: 2051109056
C160: 30 | D160: K | E160: 998762101 | F160: Přesun hmot tonážní pro kce tesařské v objektech v do 6 m | J160: t | K160: 0.066 | N160: =ROUND($L$160*$K$160,2) -> 0 | U160: základní | V160: 4.207 | W160: =$V$160*$K$160 -> 0.277662 | X160: 0 | Y160: =$X$160*$K$160 -> 0 | Z160: 0 | AA160: =$Z$160*$K$160 -> 0 | AR160: 16 | AT160: K | AU160: 2 | AY160: ROZPOCET | BE160: =IF($U$160="základní",$N$160,0) -> 0 | BF160: =IF($U$160="snížená",$N$160,0) -> 0 | BG160: =IF($U$160="zákl. přenesená",$N$160,0) -> 0 | BH160: =IF($U$160="sníž. přenesená",$N$160,0) -> 0 | BI160: =IF($U$160="nulová",$N$160,0) -> 0 | BJ160: 1 | BK160: =ROUND($L$160*$K$160,2) -> 0 | BL160: 16 | BM160: 572310817
D161: 764 - Konstrukce klempířské | N161: =$BK$161 -> 0 | W161: =SUM($W$162:$W$163) -> 11.66472 | Y161: =SUM($Y$162:$Y$163) -> 0.160308 | AA161: =SUM($AA$162:$AA$163) -> 0 | AR161: 2 | AT161: D | AU161: 1 | AY161: ROZPOCET | BK161: =SUM($BK$162:$BK$163) -> 0
...

Sheet kolumbarium - SO 04 Kolum...
D1: List obsahuje: | F1: 1) Krycí list rozpočtu | H1: 2) Rekapitulace rozpočtu | L1: 3) Rozpočet | O1: Zpět na list: | S1: Rekapitulace stavby
C2: optimalizováno pro tisk sestav ve formátu A4 - na výšku | S2: >> skryté sloupce << | AT2: {27103560-14AE-4569-A58D-95D2F881EB00}
AT3: 2
C4: KRYCÍ LIST ROZPOČTU | T4: v --- níže se nacházejí doplnkové a pomocné údaje k sestavám --- v | AT4: False
D6: Stavba: | F6: ='Rekapitulace stavby'!K6 -> Údržba a obnova hřbitovních staveb
D7: Objekt: | F7: kolumbarium - SO 04 Kolumbárium_1
D8: JKSO: | M8: CC-CZ:
D9: Místo: | F9: Hlízov | M9: Datum:
D11: Objednavatel: | M11: IČ: | O11: IČ:00640336
E12: Obec Hlízov,285 32 Hlízov 164 | M12: DIČ:
D14: Zhotovitel: | M14: IČ:
E15: dosud neurčen | M15: DIČ:
D17: Projektant: | M17: IČ:
E18: Beran Pavel | M18: DIČ:
D20: Zpracovatel: | M20: IČ:
E21: Beran Pavel | M21: DIČ:
D23: Poznámka:
D27: Náklady z rozpočtu | M27: =$N$88 -> 0
D28: Ostatní náklady | M28: =$N$103 -> 0
D30: Cena bez DPH | M30: =ROUND($M$27+$M$28,2) -> 0
D32: DPH | E32: základní | F32: 0.21 | G32: ze | H32: =ROUND((SUM($BE$103:$BE$104)+SUM($BE$122:$BE$184)),2) -> 0 | M32: =ROUND(ROUND((SUM($BE$103:$BE$104)+SUM($BE$122:$BE$184)),2)*$F$32,2) -> 0
E33: snížená | F33: 0.15 | G33: ze | H33: =ROUND((SUM($BF$103:$BF$104)+SUM($BF$122:$BF$184)),2) -> 0 | M33: =ROUND(ROUND((SUM($BF$103:$BF$104)+SUM($BF$122:$BF$184)),2)*$F$33,2) -> 0
E34: zákl. přenesená | F34: 0.21 | G34: ze | H34: =ROUND((SUM($BG$103:$BG$104)+SUM($BG$122:$BG$184)),2) -> 0 | M34: 0
E35: sníž. přenesená | F35: 0.15 | G35: ze | H35: =ROUND((SUM($BH$103:$BH$104)+SUM($BH$122:$BH$184)),2) -> 0 | M35: 0
E36: nulová | F36: 0 | G36: ze | H36: =ROUND((SUM($BI$103:$BI$104)+SUM($BI$122:$BI$184)),2) -> 0 | M36: 0
D38: Cena s DPH | G38: v | H38: CZK | L38: =SUM($M$30:$M$36) -> 0
D50: Projektant | J50: Zpracovatel
D59: Datum a podpis: | G59: Razítko | J59: Datum a podpis: | N59: Razítko
D61: Objednavatel | J61: Zhotovitel
D70: Datum a podpis: | G70: Razítko | J70: Datum a podpis: | N70: Razítko
C76: REKAPITULACE ROZPOČTU
C78: Stavba: | F78: =$F$6 -> Údržba a obnova hřbitovních staveb
C79: Objekt: | F79: =$F$7 -> kolumbarium - SO 04 Kolumbárium_1
C81: Místo: | F81: =$F$9 -> Hlízov | K81: Datum: | M81: =IF($O$9="","",$O$9)
C83: Objednavatel: | F83: =$E$12 -> Obec Hlízov,285 32 Hlízov 164 | K83: Projektant: | M83: =$E$18 -> Beran Pavel
C84: Zhotovitel: | F84: =IF($E$15="","",$E$15) -> dosud neurčen | K84: Zpracovatel: | M84: =$E$21 -> Beran Pavel
C86: Kód - Popis | N86: Cena celkem [CZK]
C88: 1) Náklady z rozpočtu | N88: =$N$122 -> 0 | AU88: -1
D89: HSV - Práce a dodávky HSV | N89: =$N$123 -> 0
D90: 1 - Zemní práce | N90: =$N$124 -> 0
D91: 6 - Úpravy povrchů, podlahy a osazování výplní | N91: =$N$128 -> 0
D92: 9 - Ostatní konstrukce a práce, bourání | N92: =$N$140 -> 0
D93: 997 - Přesun sutě | N93: =$N$152 -> 0
D94: 998 - Přesun hmot | N94: =$N$157 -> 0
D95: PSV - Práce a dodávky PSV | N95: =$N$159 -> 0
D96: 762 - Konstrukce tesařské | N96: =$N$160 -> 0
D97: 764 - Konstrukce klempířské | N97: =$N$165 -> 0
D98: 765 - Krytina skládaná | N98: =$N$168 -> 0
D99: 784 - Dokončovací práce - malby a tapety | N99: =$N$179 -> 0
D100: VRN - Vedlejší rozpočtové náklady | N100: =$N$182 -> 0
D101: VRN3 - Zařízení staveniště | N101: =$N$183 -> 0
C103: 2) Ostatní náklady | N103: 0 | U103: DPH
C105: Celkové náklady za stavbu 1) + 2) | L105: =ROUND(SUM($N$88+$N$103),2) -> 0
C111: ROZPOČET
C113: Stavba: | F113: =$F$6 -> Údržba a obnova hřbitovních staveb
C114: Objekt: | F114: =$F$7 -> kolumbarium - SO 04 Kolumbárium_1
C116: Místo: | F116: =$F$9 -> Hlízov | K116: Datum: | M116: =IF($O$9="","",$O$9)
C118: Objednavatel: | F118: =$E$12 -> Obec Hlízov,285 32 Hlízov 164 | K118: Projektant: | M118: =$E$18 -> Beran Pavel
C119: Zhotovitel: | F119: =IF($E$15="","",$E$15) -> dosud neurčen | K119: Zpracovatel: | M119: =$E$21 -> Beran Pavel
C121: PČ | D121: Typ | E121: Kód | F121: Popis | J121: MJ | K121: Množství | L121: J.cena [CZK] | N121: Cena celkem [CZK] | T121: Poznámka | U121: DPH | V121: J. Nh [h] | W121: Nh celkem [h] | X121: J. hmotnost [t] | Y121: Hmotnost celkem [t] | Z121: J. suť [t] | AA121: Suť Celkem [t]
C122: Náklady z rozpočtu | N122: =$BK$122 -> 0 | W122: =$W$123+$W$159+$W$182 -> 535.07498 | Y122: =$Y$123+$Y$159+$Y$182 -> 8.7420168 | AA122: =$AA$123+$AA$159+$AA$182 -> 9.2596163 | AT122: D | AU122: -1 | BK122: =$BK$123+$BK$159+$BK$182 -> 0
D123: HSV - Práce a dodávky HSV | N123: =$BK$123 -> 0 | W123: =$W$124+$W$128+$W$140+$W$152+$W$157 -> 351.38054 | Y123: =$Y$124+$Y$128+$Y$140+$Y$152+$Y$157 -> 7.2349999 | AA123: =$AA$124+$AA$128+$AA$140+$AA$152+$AA$157 -> 6.26986 | AR123: 1 | AT123: D | AU123: 0 | AY123: ROZPOCET | BK123: =$BK$124+$BK$128+$BK$140+$BK$152+$BK$157 -> 0
D124: 1 - Zemní práce | N124: =$BK$124 -> 0 | W124: =SUM($W$125:$W$127) -> 7.548 | Y124: =SUM($Y$125:$Y$127) -> 0.000765 | AA124: =SUM($AA$125:$AA$127) -> 0 | AR124: 1 | AT124: D | AU124: 1 | AY124: ROZPOCET | BK124: =SUM($BK$125:$BK$127) -> 0
C125: 1 | D125: K | E125: 181111111 | F125: Plošná úprava terénu do 500 m2 zemina tř 1 až 4 nerovnosti do +/- 100 mm v rovinně a svahu do 1:5 | J125: m2 | K125: 51 | N125: =ROUND($L$125*$K$125,2) -> 0 | U125: základní | V125: 0.09 | W125: =$V$125*$K$125 -> 4.59 | X125: 0 | Y125: =$X$125*$K$125 -> 0 | Z125: 0 | AA125: =$Z$125*$K$125 -> 0 | AR125: 4 | AT125: K | AU125: 2 | AY125: ROZPOCET | BE125: =IF($U$125="základní",$N$125,0) -> 0 | BF125: =IF($U$125="snížená",$N$125,0) -> 0 | BG125: =IF($U$125="zákl. přenesená",$N$125,0) -> 0 | BH125: =IF($U$125="sníž. přenesená",$N$125,0) -> 0 | BI125: =IF($U$125="nulová",$N$125,0) -> 0 | BJ125: 1 | BK125: =ROUND($L$125*$K$125,2) -> 0 | BL125: 4 | BM125: -1119446413
C126: 2 | D126: K | E126: 181411131 | F126: Založení parkového trávníku výsevem plochy do 1000 m2 v rovině a ve svahu do 1:5 | J126: m2 | K126: 51 | N126: =ROUND($L$126*$K$126,2) -> 0 | U126: základní | V126: 0.058 | W126: =$V$126*$K$126 -> 2.958 | X126: 0 | Y126: =$X$126*$K$126 -> 0 | Z126: 0 | AA126: =$Z$126*$K$126 -> 0 | AR126: 4 | AT126: K | AU126: 2 | AY126: ROZPOCET | BE126: =IF($U$126="základní",$N$126,0) -> 0 | BF126: =IF($U$126="snížená",$N$126,0) -> 0 | BG126: =IF($U$126="zákl. přenesená",$N$126,0) -> 0 | BH126: =IF($U$126="sníž. přenesená",$N$126,0) -> 0 | BI126: =IF($U$126="nulová",$N$126,0) -> 0 | BJ126: 1 | BK126: =ROUND($L$126*$K$126,2) -> 0 | BL126: 4 | BM126: -1541947265
C127: 3 | D127: M | E127: 005724100 | F127: osivo směs travní parková | J127: kg | K127: 0.765 | N127: =ROUND($L$127*$K$127,2) -> 0 | U127: základní | V127: 0 | W127: =$V$127*$K$127 -> 0 | X127: 0.001 | Y127: =$X$127*$K$127 -> 0.000765 | Z127: 0 | AA127: =$Z$127*$K$127 -> 0 | AR127: 8 | AT127: M | AU127: 2 | AY127: ROZPOCET | BE127: =IF($U$127="základní",$N$127,0) -> 0 | BF127: =IF($U$127="snížená",$N$127,0) -> 0 | BG127: =IF($U$127="zákl. přenesená",$N$127,0) -> 0 | BH127: =IF($U$127="sníž. přenesená",$N$127,0) -> 0 | BI127: =IF($U$127="nulová",$N$127,0) -> 0 | BJ127: 1 | BK127: =ROUND($L$127*$K$127,2) -> 0 | BL127: 4 | BM127: -373545268
D128: 6 - Úpravy povrchů, podlahy a osazování výplní | N128: =$BK$128 -> 0 | W128: =SUM($W$129:$W$139) -> 220.97094 | Y128: =SUM($Y$129:$Y$139) -> 6.6341058 | AA128: =SUM($AA$129:$AA$139) -> 0 | AR128: 1 | AT128: D | AU128: 1 | AY128: ROZPOCET | BK128: =SUM($BK$129:$BK$139) -> 0
C129: 4 | D129: K | E129: 611325423 | F129: Oprava vnitřní vápenocementové štukové omítky stropů v rozsahu plochy do 50% | J129: m2 | K129: 40.71 | N129: =ROUND($L$129*$K$129,2) -> 0 | U129: základní | V129: 0.583 | W129: =$V$129*$K$129 -> 23.73393 | X129: 0.0284 | Y129: =$X$129*$K$129 -> 1.156164 | Z129: 0 | AA129: =$Z$129*$K$129 -> 0 | AR129: 4 | AT129: K | AU129: 2 | AY129: ROZPOCET | BE129: =IF($U$129="základní",$N$129,0) -> 0 | BF129: =IF($U$129="snížená",$N$129,0) -> 0 | BG129: =IF($U$129="zákl. přenesená",$N$129,0) -> 0 | BH129: =IF($U$129="sníž. přenesená",$N$129,0) -> 0 | BI129: =IF($U$129="nulová",$N$129,0) -> 0 | BJ129: 1 | BK129: =ROUND($L$129*$K$129,2) -> 0 | BL129: 4 | BM129: -1584609643
C130: 5 | D130: K | E130: 612321141 | F130: Vápenocementová omítka štuková dvouvrstvá vnitřních stěn nanášená ručně | J130: m2 | K130: 70.8 | N130: =ROUND($L$130*$K$130,2) -> 0 | U130: základní | V130: 0.47 | W130: =$V$130*$K$130 -> 33.276 | X130: 0.01838 | Y130: =$X$130*$K$130 -> 1.301304 | Z130: 0 | AA130: =$Z$130*$K$130 -> 0 | AR130: 4 | AT130: K | AU130: 2 | AY130: ROZPOCET | BE130: =IF($U$130="základní",$N$130,0) -> 0 | BF130: =IF($U$130="snížená",$N$130,0) -> 0 | BG130: =IF($U$130="zákl. přenesená",$N$130,0) -> 0 | BH130: =IF($U$130="sníž. přenesená",$N$130,0) -> 0 | BI130: =IF($U$130="nulová",$N$130,0) -> 0 | BJ130: 1 | BK130: =ROUND($L$130*$K$130,2) -> 0 | BL130: 4 | BM130: 1826231264
C131: 6 | D131: K | E131: 621335113 | F131: Oprava cementové štukové omítky vnějších podhledů v rozsahu do 50% | J131: m2 | K131: 32.56 | N131: =ROUND($L$131*$K$131,2) -> 0 | U131: základní | V131: 0.442 | W131: =$V$131*$K$131 -> 14.39152 | X131: 0.02659 | Y131: =$X$131*$K$131 -> 0.8657704 | Z131: 0 | AA131: =$Z$131*$K$131 -> 0 | AR131: 4 | AT131: K | AU131: 2 | AY131: ROZPOCET | BE131: =IF($U$131="základní",$N$131,0) -> 0 | BF131: =IF($U$131="snížená",$N$131,0) -> 0 | BG131: =IF($U$131="zákl. přenesená",$N$131,0) -> 0 | BH131: =IF($U$131="sníž. přenesená",$N$131,0) -> 0 | BI131: =IF($U$131="nulová",$N$131,0) -> 0 | BJ131: 1 | BK131: =ROUND($L$131*$K$131,2) -> 0 | BL131: 4 | BM131: -1401549911
C132: 7 | D132: K | E132: 621531021 | F132: Tenkovrstvá silikonová zrnitá omítka tl. 2,0 mm včetně penetrace vnějších podhledů | J132: m2 | K132: 32.56 | N132: =ROUND($L$132*$K$132,2) -> 0 | U132: základní | V132: 0.285 | W132: =$V$132*$K$132 -> 9.2796 | X132: 0.00348 | Y132: =$X$132*$K$132 -> 0.1133088 | Z132: 0 | AA132: =$Z$132*$K$132 -> 0 | AR132: 4 | AT132: K | AU132: 2 | AY132: ROZPOCET | BE132: =IF($U$132="základní",$N$132,0) -> 0 | BF132: =IF($U$132="snížená",$N$132,0) -> 0 | BG132: =IF($U$132="zákl. přenesená",$N$132,0) -> 0 | BH132: =IF($U$132="sníž. přenesená",$N$132,0) -> 0 | BI132: =IF($U$132="nulová",$N$132,0) -> 0 | BJ132: 1 | BK132: =ROUND($L$132*$K$132,2) -> 0 | BL132: 4 | BM132: 1447394161
C133: 8 | D133: K | E133: 622135001 | F133: Vyrovnání podkladu vnějších stěn maltou vápenocementovou tl do 10 mm | J133: m2 | K133: 82.82 | N133: =ROUND($L$133*$K$133,2) -> 0 | U133: základní | V133: 0.424 | W133: =$V$133*$K$133 -> 35.11568 | X133: 0.02048 | Y133: =$X$133*$K$133 -> 1.6961536 | Z133: 0 | AA133: =$Z$133*$K$133 -> 0 | AR133: 4 | AT133: K | AU133: 2 | AY133: ROZPOCET | BE133: =IF($U$133="základní",$N$133,0) -> 0 | BF133: =IF($U$133="snížená",$N$133,0) -> 0 | BG133: =IF($U$133="zákl. přenesená",$N$133,0) -> 0 | BH133: =IF($U$133="sníž. přenesená",$N$133,0) -> 0 | BI133: =IF($U$133="nulová",$N$133,0) -> 0 | BJ133: 1 | BK133: =ROUND($L$133*$K$133,2) -> 0 | BL133: 4 | BM133: 723640475
C134: 9 | D134: K | E134: 622135091 | F134: Příplatek k vyrovnání vnějších stěn maltou vápenocementovou za každých dalších 5 mm tl | J134: m2 | K134: 82.82 | N134: =ROUND($L$134*$K$134,2) -> 0 | U134: základní | V134: 0.09 | W134: =$V$134*$K$134 -> 7.4538 | X134: 0.0079 | Y134: =$X$134*$K$134 -> 0.654278 | Z134: 0 | AA134: =$Z$134*$K$134 -> 0 | AR134: 4 | AT134: K | AU134: 2 | AY134: ROZPOCET | BE134: =IF($U$134="základní",$N$134,0) -> 0 | BF134: =IF($U$134="snížená",$N$134,0) -> 0 | BG134: =IF($U$134="zákl. přenesená",$N$134,0) -> 0 | BH134: =IF($U$134="sníž. přenesená",$N$134,0) -> 0 | BI134: =IF($U$134="nulová",$N$134,0) -> 0 | BJ134: 1 | BK134: =ROUND($L$134*$K$134,2) -> 0 | BL134: 4 | BM134: -303754975
C135: 10 | D135: K | E135: 622325401 | F135: Oprava vnější vápenné nebo vápenocementové štukové omítky složitosti 3 v rozsahu do 10% | J135: m2 | K135: 82.82 | N135: =ROUND($L$135*$K$135,2) -> 0 | U135: základní | V135: 0.627 | W135: =$V$135*$K$135 -> 51.92814 | X135: 0.00643 | Y135: =$X$135*$K$135 -> 0.5325326 | Z135: 0 | AA135: =$Z$135*$K$135 -> 0 | AR135: 4 | AT135: K | AU135: 2 | AY135: ROZPOCET | BE135: =IF($U$135="základní",$N$135,0) -> 0 | BF135: =IF($U$135="snížená",$N$135,0) -> 0 | BG135: =IF($U$135="zákl. přenesená",$N$135,0) -> 0 | BH135: =IF($U$135="sníž. přenesená",$N$135,0) -> 0 | BI135: =IF($U$135="nulová",$N$135,0) -> 0 | BJ135: 1 | BK135: =ROUND($L$135*$K$135,2) -> 0 | BL135: 4 | BM135: 705455456
C136: 11 | D136: K | E136: 622531021 | F136: Tenkovrstvá silikonová zrnitá omítka tl. 2,0 mm včetně penetrace vnějších stěn | J136: m2 | K136: 82.82 | N136: =ROUND($L$136*$K$136,2) -> 0 | U136: základní | V136: 0.245 | W136: =$V$136*$K$136 -> 20.2909 | X136: 0.00348 | Y136: =$X$136*$K$136 -> 0.2882136 | Z136: 0 | AA136: =$Z$136*$K$136 -> 0 | AR136: 4 | AT136: K | AU136: 2 | AY136: ROZPOCET | BE136: =IF($U$136="základní",$N$136,0) -> 0 | BF136: =IF($U$136="snížená",$N$136,0) -> 0 | BG136: =IF($U$136="zákl. přenesená",$N$136,0) -> 0 | BH136: =IF($U$136="sníž. přenesená",$N$136,0) -> 0 | BI136: =IF($U$136="nulová",$N$136,0) -> 0 | BJ136: 1 | BK136: =ROUND($L$136*$K$136,2) -> 0 | BL136: 4 | BM136: 1353651792
C137: 12 | D137: K | E137: 622613101 | F137: Hydrofobizační nátěr silikonový vnějších stěn z cihel nebo z přírodního kamene ručně | J137: m2 | K137: 9.99 | N137: =ROUND($L$137*$K$137,2) -> 0 | U137: základní | V137: 0.09 | W137: =$V$137*$K$137 -> 0.8991 | X137: 0.00024 | Y137: =$X$137*$K$137 -> 0.0023976 | Z137: 0 | AA137: =$Z$137*$K$137 -> 0 | AR137: 4 | AT137: K | AU137: 2 | AY137: ROZPOCET | BE137: =IF($U$137="základní",$N$137,0) -> 0 | BF137: =IF($U$137="snížená",$N$137,0) -> 0 | BG137: =IF($U$137="zákl. přenesená",$N$137,0) -> 0 | BH137: =IF($U$137="sníž. přenesená",$N$137,0) -> 0 | BI137: =IF($U$137="nulová",$N$137,0) -> 0 | BJ137: 1 | BK137: =ROUND($L$137*$K$137,2) -> 0 | BL137: 4 | BM137: 33162423
C138: 13 | D138: K | E138: 622613301 | F138: Hydrofobizační nátěr silikonový střech z cihel nebo z přírodního kamene strojně | J138: m2 | K138: 99.93 | N138: =ROUND($L$138*$K$138,2) -> 0 | U138: základní | V138: 0.039 | W138: =$V$138*$K$138 -> 3.89727 | X138: 0.00024 | Y138: =$X$138*$K$138 -> 0.0239832 | Z138: 0 | AA138: =$Z$138*$K$138 -> 0 | AR138: 4 | AT138: K | AU138: 2 | AY138: ROZPOCET | BE138: =IF($U$138="základní",$N$138,0) -> 0 | BF138: =IF($U$138="snížená",$N$138,0) -> 0 | BG138: =IF($U$138="zákl. přenesená",$N$138,0) -> 0 | BH138: =IF($U$138="sníž. přenesená",$N$138,0) -> 0 | BI138: =IF($U$138="nulová",$N$138,0) -> 0 | BJ138: 1 | BK138: =ROUND($L$138*$K$138,2) -> 0 | BL138: 4 | BM138: -187403359
C139: 14 | D139: K | E139: 629999022 | F139: Příplatek k omítce za provádění zaoblených ploch poloměru přes 100 mm | J139: m2 | K139: 82.82 | N139: =ROUND($L$139*$K$139,2) -> 0 | U139: základní | V139: 0.25 | W139: =$V$139*$K$139 -> 20.705 | X139: 0 | Y139: =$X$139*$K$139 -> 0 | Z139: 0 | AA139: =$Z$139*$K$139 -> 0 | AR139: 4 | AT139: K | AU139: 2 | AY139: ROZPOCET | BE139: =IF($U$139="základní",$N$139,0) -> 0 | BF139: =IF($U$139="snížená",$N$139,0) -> 0 | BG139: =IF($U$139="zákl. přenesená",$N$139,0) -> 0 | BH139: =IF($U$139="sníž. přenesená",$N$139,0) -> 0 | BI139: =IF($U$139="nulová",$N$139,0) -> 0 | BJ139: 1 | BK139: =ROUND($L$139*$K$139,2) -> 0 | BL139: 4 | BM139: 61958405
D140: 9 - Ostatní konstrukce a práce, bourání | N140: =$BK$140 -> 0 | W140: =SUM($W$141:$W$151) -> 100.55172 | Y140: =SUM($Y$141:$Y$151) -> 0.6001291 | AA140: =SUM($AA$141:$AA$151) -> 6.26986 | AR140: 1 | AT140: D | AU140: 1 | AY140: ROZPOCET | BK140: =SUM($BK$141:$BK$151) -> 0
C141: 15 | D141: K | E141: 941111111 | F141: Montáž lešení řadového trubkového lehkého s podlahami zatížení do 200 kg/m2 š do 0,9 m v do 10 m | J141: m2 | K141: 104 | N141: =ROUND($L$141*$K$141,2) -> 0 | U141: základní | V141: 0.14 | W141: =$V$141*$K$141 -> 14.56 | X141: 0 | Y141: =$X$141*$K$141 -> 0 | Z141: 0 | AA141: =$Z$141*$K$141 -> 0 | AR141: 4 | AT141: K | AU141: 2 | AY141: ROZPOCET | BE141: =IF($U$141="základní",$N$141,0) -> 0 | BF141: =IF($U$141="snížená",$N$141,0) -> 0 | BG141: =IF($U$141="zákl. přenesená",$N$141,0) -> 0 | BH141: =IF($U$141="sníž. přenesená",$N$141,0) -> 0 | BI141: =IF($U$141="nulová",$N$141,0) -> 0 | BJ141: 1 | BK141: =ROUND($L$141*$K$141,2) -> 0 | BL141: 4 | BM141: 806016066
C142: 16 | D142: K | E142: 941111211 | F142: Příplatek k lešení řadovému trubkovému lehkému s podlahami š 0,9 m v 10 m za první a ZKD den použití | J142: m2 | K142: 3120 | N142: =ROUND($L$142*$K$142,2) -> 0 | U142: základní | V142: 0 | W142: =$V$142*$K$142 -> 0 | X142: 0 | Y142: =$X$142*$K$142 -> 0 | Z142: 0 | AA142: =$Z$142*$K$142 -> 0 | AR142: 4 | AT142: K | AU142: 2 | AY142: ROZPOCET | BE142: =IF($U$142="základní",$N$142,0) -> 0 | BF142: =IF($U$142="snížená",$N$142,0) -> 0 | BG142: =IF($U$142="zákl. přenesená",$N$142,0) -> 0 | BH142: =IF($U$142="sníž. přenesená",$N$142,0) -> 0 | BI142: =IF($U$142="nulová",$N$142,0) -> 0 | BJ142: 1 | BK142: =ROUND($L$142*$K$142,2) -> 0 | BL142: 4 | BM142: 398997511
C143: 17 | D143: K | E143: 941111811 | F143: Demontáž lešení řadového trubkového lehkého s podlahami zatížení do 200 kg/m2 š do 0,9 m v do 10 m | J143: m2 | K143: 104 | N143: =ROUND($L$143*$K$143,2) -> 0 | U143: základní | V143: 0.087 | W143: =$V$143*$K$143 -> 9.048 | X143: 0 | Y143: =$X$143*$K$143 -> 0 | Z143: 0 | AA143: =$Z$143*$K$143 -> 0 | AR143: 4 | AT143: K | AU143: 2 | AY143: ROZPOCET | BE143: =IF($U$143="základní",$N$143,0) -> 0 | BF143: =IF($U$143="snížená",$N$143,0) -> 0 | BG143: =IF($U$143="zákl. přenesená",$N$143,0) -> 0 | BH143: =IF($U$143="sníž. přenesená",$N$143,0) -> 0 | BI143: =IF($U$143="nulová",$N$143,0) -> 0 | BJ143: 1 | BK143: =ROUND($L$143*$K$143,2) -> 0 | BL143: 4 | BM143: -55227688
C144: 18 | D144: K | E144: 949101111 | F144: Lešení pomocné pro objekty pozemních staveb s lešeňovou podlahou v do 1,9 m zatížení do 150 kg/m2 | J144: m2 | K144: 34.81 | N144: =ROUND($L$144*$K$144,2) -> 0 | U144: základní | V144: 0.105 | W144: =$V$144*$K$144 -> 3.65505 | X144: 0.00013 | Y144: =$X$144*$K$144 -> 0.0045253 | Z144: 0 | AA144: =$Z$144*$K$144 -> 0 | AR144: 4 | AT144: K | AU144: 2 | AY144: ROZPOCET | BE144: =IF($U$144="základní",$N$144,0) -> 0 | BF144: =IF($U$144="snížená",$N$144,0) -> 0 | BG144: =IF($U$144="zákl. přenesená",$N$144,0) -> 0 | BH144: =IF($U$144="sníž. přenesená",$N$144,0) -> 0 | BI144: =IF($U$144="nulová",$N$144,0) -> 0 | BJ144: 1 | BK144: =ROUND($L$144*$K$144,2) -> 0 | BL144: 4 | BM144: 2014975770
C145: 19 | D145: K | E145: 978011161 | F145: Otlučení vnitřní vápenné nebo vápenocementové omítky stropů v rozsahu do 50 % | J145: m2 | K145: 40.71 | N145: =ROUND($L$145*$K$145,2) -> 0 | U145: základní | V145: 0.17 | W145: =$V$145*$K$145 -> 6.9207 | X145: 0 | Y145: =$X$145*$K$145 -> 0 | Z145: 0.02 | AA145: =$Z$145*$K$145 -> 0.8142 | AR145: 4 | AT145: K | AU145: 2 | AY145: ROZPOCET | BE145: =IF($U$145="základní",$N$145,0) -> 0 | BF145: =IF($U$145="snížená",$N$145,0) -> 0 | BG145: =IF($U$145="zákl. přenesená",$N$145,0) -> 0 | BH145: =IF($U$145="sníž. přenesená",$N$145,0) -> 0 | BI145: =IF($U$145="nulová",$N$145,0) -> 0 | BJ145: 1 | BK145: =ROUND($L$145*$K$145,2) -> 0 | BL145: 4 | BM145: 2103449714
C146: 20 | D146: K | E146: 978013191 | F146: Otlučení vnitřní vápenné nebo vápenocementové omítky stěn stěn v rozsahu do 100 % | J146: m2 | K146: 70.8 | N146: =ROUND($L$146*$K$146,2) -> 0 | U146: základní | V146: 0.26 | W146: =$V$146*$K$146 -> 18.408 | X146: 0 | Y146: =$X$146*$K$146 -> 0 | Z146: 0.046 | AA146: =$Z$146*$K$146 -> 3.2568 | AR146: 4 | AT146: K | AU146: 2 | AY146: ROZPOCET | BE146: =IF($U$146="základní",$N$146,0) -> 0 | BF146: =IF($U$146="snížená",$N$146,0) -> 0 | BG146: =IF($U$146="zákl. přenesená",$N$146,0) -> 0 | BH146: =IF($U$146="sníž. přenesená",$N$146,0) -> 0 | BI146: =IF($U$146="nulová",$N$146,0) -> 0 | BJ146: 1 | BK146: =ROUND($L$146*$K$146,2) -> 0 | BL146: 4 | BM146: 774443649
C147: 21 | D147: K | E147: 978019321 | F147: Otlučení vnější vápenné nebo vápenocementové vnější omítky stupně členitosti 3 až 5 rozsahu do 10% | J147: m2 | K147: 82.82 | N147: =ROUND($L$147*$K$147,2) -> 0 | U147: základní | V147: 0.032 | W147: =$V$147*$K$147 -> 2.65024 | X147: 0 | Y147: =$X$147*$K$147 -> 0 | Z147: 0.007 | AA147: =$Z$147*$K$147 -> 0.57974 | AR147: 4 | AT147: K | AU147: 2 | AY147: ROZPOCET | BE147: =IF($U$147="základní",$N$147,0) -> 0 | BF147: =IF($U$147="snížená",$N$147,0) -> 0 | BG147: =IF($U$147="zákl. přenesená",$N$147,0) -> 0 | BH147: =IF($U$147="sníž. přenesená",$N$147,0) -> 0 | BI147: =IF($U$147="nulová",$N$147,0) -> 0 | BJ147: 1 | BK147: =ROUND($L$147*$K$147,2) -> 0 | BL147: 4 | BM147: -593767435
C148: 22 | D148: K | E148: 978019361 | F148: Otlučení vnější vápenné nebo vápenocementové vnější omítky stupně členitosti 3 až 5 rozsahu do 50% | J148: m2 | K148: 32.56 | N148: =ROUND($L$148*$K$148,2) -> 0 | U148: základní | V148: 0.16 | W148: =$V$148*$K$148 -> 5.2096 | X148: 0 | Y148: =$X$148*$K$148 -> 0 | Z148: 0.035 | AA148: =$Z$148*$K$148 -> 1.1396 | AR148: 4 | AT148: K | AU148: 2 | AY148: ROZPOCET | BE148: =IF($U$148="základní",$N$148,0) -> 0 | BF148: =IF($U$148="snížená",$N$148,0) -> 0 | BG148: =IF($U$148="zákl. přenesená",$N$148,0) -> 0 | BH148: =IF($U$148="sníž. přenesená",$N$148,0) -> 0 | BI148: =IF($U$148="nulová",$N$148,0) -> 0 | BJ148: 1 | BK148: =ROUND($L$148*$K$148,2) -> 0 | BL148: 4 | BM148: -374028730
C149: 23 | D149: K | E149: 985131111 | F149: Očištění ploch stěn, rubu kleneb a podlah tlakovou vodou | J149: m2 | K149: 115.38 | N149: =ROUND($L$149*$K$149,2) -> 0 | U149: základní | V149: 0.273 | W149: =$V$149*$K$149 -> 31.49874 | X149: 0 | Y149: =$X$149*$K$149 -> 0 | Z149: 0 | AA149: =$Z$149*$K$149 -> 0 | AR149: 4 | AT149: K | AU149: 2 | AY149: ROZPOCET | BE149: =IF($U$149="základní",$N$149,0) -> 0 | BF149: =IF($U$149="snížená",$N$149,0) -> 0 | BG149: =IF($U$149="zákl. přenesená",$N$149,0) -> 0 | BH149: =IF($U$149="sníž. přenesená",$N$149,0) -> 0 | BI149: =IF($U$149="nulová",$N$149,0) -> 0 | BJ149: 1 | BK149: =ROUND($L$149*$K$149,2) -> 0 | BL149: 4 | BM149: -1897030984
C150: 24 | D150: K | E150: 985131211 | F150: Očištění ploch stěn, rubu kleneb a podlah sušeným křemičitým pískem | J150: m2 | K150: 9.99 | N150: =ROUND($L$150*$K$150,2) -> 0 | U150: základní | V150: 0.247 | W150: =$V$150*$K$150 -> 2.46753 | X150: 0.048 | Y150: =$X$150*$K$150 -> 0.47952 | Z150: 0.048 | AA150: =$Z$150*$K$150 -> 0.47952 | AR150: 4 | AT150: K | AU150: 2 | AY150: ROZPOCET | BE150: =IF($U$150="základní",$N$150,0) -> 0 | BF150: =IF($U$150="snížená",$N$150,0) -> 0 | BG150: =IF($U$150="zákl. přenesená",$N$150,0) -> 0 | BH150: =IF($U$150="sníž. přenesená",$N$150,0) -> 0 | BI150: =IF($U$150="nulová",$N$150,0) -> 0 | BJ150: 1 | BK150: =ROUND($L$150*$K$150,2) -> 0 | BL150: 4 | BM150: -2104887647
C151: 25 | D151: K | E151: 985231111 | F151: Spárování zdiva aktivovanou maltou spára hl do 40 mm dl do 6 m/m2 | J151: m2 | K151: 9.99 | N151: =ROUND($L$151*$K$151,2) -> 0 | U151: základní | V151: 0.614 | W151: =$V$151*$K$151 -> 6.13386 | X151: 0.01162 | Y151: =$X$151*$K$151 -> 0.1160838 | Z151: 0 | AA151: =$Z$151*$K$151 -> 0 | AR151: 4 | AT151: K | AU151: 2 | AY151: ROZPOCET | BE151: =IF($U$151="základní",$N$151,0) -> 0 | BF151: =IF($U$151="snížená",$N$151,0) -> 0 | BG151: =IF($U$151="zákl. přenesená",$N$151,0) -> 0 | BH151: =IF($U$151="sníž. přenesená",$N$151,0) -> 0 | BI151: =IF($U$151="nulová",$N$151,0) -> 0 | BJ151: 1 | BK151: =ROUND($L$151*$K$151,2) -> 0 | BL151: 4 | BM151: -2084453490
D152: 997 - Přesun sutě | N152: =$BK$152 -> 0 | W152: =SUM($W$153:$W$156) -> 16.2976 | Y152: =SUM($Y$153:$Y$156) -> 0 | AA152: =SUM($AA$153:$AA$156) -> 0 | AR152: 1 | AT152: D | AU152: 1 | AY152: ROZPOCET | BK152: =SUM($BK$153:$BK$156) -> 0
C153: 26 | D153: K | E153: 997013111 | F153: Vnitrostaveništní doprava suti a vybouraných hmot pro budovy v do 6 m s použitím mechanizace | J153: t | K153: 9.26 | N153: =ROUND($L$153*$K$153,2) -> 0 | U153: základní | V153: 1.569 | W153: =$V$153*$K$153 -> 14.52894 | X153: 0 | Y153: =$X$153*$K$153 -> 0 | Z153: 0 | AA153: =$Z$153*$K$153 -> 0 | AR153: 4 | AT153: K | AU153: 2 | AY153: ROZPOCET | BE153: =IF($U$153="základní",$N$153,0) -> 0 | BF153: =IF($U$153="snížená",$N$153,0) -> 0 | BG153: =IF($U$153="zákl. přenesená",$N$153,0) -> 0 | BH153: =IF($U$153="sníž. přenesená",$N$153,0) -> 0 | BI153: =IF($U$153="nulová",$N$153,0) -> 0 | BJ153: 1 | BK153: =ROUND($L$153*$K$153,2) -> 0 | BL153: 4 | BM153: 2027807083
C154: 27 | D154: K | E154: 997013501 | F154: Odvoz suti a vybouraných hmot na skládku nebo meziskládku do 1 km se složením | J154: t | K154: 9.26 | N154: =ROUND($L$154*$K$154,2) -> 0 | U154: základní | V154: 0.125 | W154: =$V$154*$K$154 -> 1.1575 | X154: 0 | Y154: =$X$154*$K$154 -> 0 | Z154: 0 | AA154: =$Z$154*$K$154 -> 0 | AR154: 4 | AT154: K | AU154: 2 | AY154: ROZPOCET | BE154: =IF($U$154="základní",$N$154,0) -> 0 | BF154: =IF($U$154="snížená",$N$154,0) -> 0 | BG154: =IF($U$154="zákl. přenesená",$N$154,0) -> 0 | BH154: =IF($U$154="sníž. přenesená",$N$154,0) -> 0 | BI154: =IF($U$154="nulová",$N$154,0) -> 0 | BJ154: 1 | BK154: =ROUND($L$154*$K$154,2) -> 0 | BL154: 4 | BM154: 495179870
C155: 28 | D155: K | E155: 997013509 | F155: Příplatek k odvozu suti a vybouraných hmot na skládku ZKD 1 km přes 1 km | J155: t | K155: 101.86 | N155: =ROUND($L$155*$K$155,2) -> 0 | U155: základní | V155: 0.006 | W155: =$V$155*$K$155 -> 0.61116 | X155: 0 | Y155: =$X$155*$K$155 -> 0 | Z155: 0 | AA155: =$Z$155*$K$155 -> 0 | AR155: 4 | AT155: K | AU155: 2 | AY155: ROZPOCET | BE155: =IF($U$155="základní",$N$155,0) -> 0 | BF155: =IF($U$155="snížená",$N$155,0) -> 0 | BG155: =IF($U$155="zákl. přenesená",$N$155,0) -> 0 | BH155: =IF($U$155="sníž. přenesená",$N$155,0) -> 0 | BI155: =IF($U$155="nulová",$N$155,0) -> 0 | BJ155: 1 | BK155: =ROUND($L$155*$K$155,2) -> 0 | BL155: 4 | BM155: -173167948
C156: 29 | D156: K | E156: 997013801 | F156: Poplatek za uložení stavebního betonového odpadu na skládce (skládkovné) | J156: t | K156: 9.26 | N156: =ROUND($L$156*$K$156,2) -> 0 | U156: základní | V156: 0 | W156: =$V$156*$K$156 -> 0 | X156: 0 | Y156: =$X$156*$K$156 -> 0 | Z156: 0 | AA156: =$Z$156*$K$156 -> 0 | AR156: 4 | AT156: K | AU156: 2 | AY156: ROZPOCET | BE156: =IF($U$156="základní",$N$156,0) -> 0 | BF156: =IF($U$156="snížená",$N$156,0) -> 0 | BG156: =IF($U$156="zákl. přenesená",$N$156,0) -> 0 | BH156: =IF($U$156="sníž. přenesená",$N$156,0) -> 0 | BI156: =IF($U$156="nulová",$N$156,0) -> 0 | BJ156: 1 | BK156: =ROUND($L$156*$K$156,2) -> 0 | BL156: 4 | BM156: -743538556
D157: 998 - Přesun hmot | N157: =$BK$157 -> 0 | W157: =$W$158 -> 6.012285 | Y157: =$Y$158 -> 0 | AA157: =$AA$158 -> 0 | AR157: 1 | AT157: D | AU157: 1 | AY157: ROZPOCET | BK157: =$BK$158 -> 0
C158: 30 | D158: K | E158: 998011001 | F158: Přesun hmot pro budovy zděné v do 6 m | J158: t | K158: 7.235 | N158: =ROUND($L$158*$K$158,2) -> 0 | U158: základní | V158: 0.831 | W158: =$V$158*$K$158 -> 6.012285 | X158: 0 | Y158: =$X$158*$K$158 -> 0 | Z158: 0 | AA158: =$Z$158*$K$158 -> 0 | AR158: 4 | AT158: K | AU158: 2 | AY158: ROZPOCET | BE158: =IF($U$158="základní",$N$158,0) -> 0 | BF158: =IF($U$158="snížená",$N$158,0) -> 0 | BG158: =IF($U$158="zákl. přenesená",$N$158,0) -> 0 | BH158: =IF($U$158="sníž. přenesená",$N$158,0) -> 0 | BI158: =IF($U$158="nulová",$N$158,0) -> 0 | BJ158: 1 | BK158: =ROUND($L$158*$K$158,2) -> 0 | BL158: 4 | BM158: 589424846
D159: PSV - Práce a dodávky PSV | N159: =$BK$159 -> 0 | W159: =$W$160+$W$165+$W$168+$W$179 -> 183.69443 | Y159: =$Y$160+$Y$165+$Y$168+$Y$179 -> 1.5070169 | AA159: =$AA$160+$AA$165+$AA$168+$AA$179 -> 2.9897563 | AR159: 2 | AT159: D | AU159: 0 | AY159: ROZPOCET | BK159: =$BK$160+$BK$165+$BK$168+$BK$179 -> 0
D160: 762 - Konstrukce tesařské | N160: =$BK$160 -> 0 | W160: =SUM($W$161:$W$164) -> 6.431502 | Y160: =SUM($Y$161:$Y$164) -> 0.0661998 | AA160: =SUM($AA$161:$AA$164) -> 0.13986 | AR160: 2 | AT160: D | AU160: 1 | AY160: ROZPOCET | BK160: =SUM($BK$161:$BK$164) -> 0
C161: 31 | D161: K | E161: 762341914 | F161: Vyřezání části laťování střech průřezu latí do 25 cm2 plochy jednotlivě přes 4 m2 | J161: m2 | K161: 19.98 | N161: =ROUND($L$161*$K$161,2) -> 0 | U161: základní | V161: 0.12 | W161: =$V$161*$K$161 -> 2.3976 | X161: 0 | Y161: =$X$161*$K$161 -> 0 | Z161: 0.007 | AA161: =$Z$161*$K$161 -> 0.13986 | AR161: 16 | AT161: K | AU161: 2 | AY161: ROZPOCET | BE161: =IF($U$161="základní",$N$161,0) -> 0 | BF161: =IF($U$161="snížená",$N$161,0) -> 0 | BG161: =IF($U$161="zákl. přenesená",$N$161,0) -> 0 | BH161: =IF($U$161="sníž. přenesená",$N$161,0) -> 0 | BI161: =IF($U$161="nulová",$N$161,0) -> 0 | BJ161: 1 | BK161: =ROUND($L$161*$K$161,2) -> 0 | BL161: 16 | BM161: -1319665538
...

Sheet kolumbarium2 - SO 05 Kolu...
D1: List obsahuje: | F1: 1) Krycí list rozpočtu | H1: 2) Rekapitulace rozpočtu | L1: 3) Rozpočet | O1: Zpět na list: | S1: Rekapitulace stavby
C2: optimalizováno pro tisk sestav ve formátu A4 - na výšku | S2: >> skryté sloupce << | AT2: {8BE95CF8-83C0-4FFB-8B8C-F92817216FBF}
AT3: 2
C4: KRYCÍ LIST ROZPOČTU | T4: v --- níže se nacházejí doplnkové a pomocné údaje k sestavám --- v | AT4: False
D6: Stavba: | F6: ='Rekapitulace stavby'!K6 -> Údržba a obnova hřbitovních staveb
D7: Objekt: | F7: kolumbarium2 - SO 05 Kolumbárium_2
D8: JKSO: | M8: CC-CZ:
D9: Místo: | F9: Hlízov | M9: Datum:
D11: Objednavatel: | M11: IČ: | O11: IČ:00640336
E12: Obec Hlízov,285 32 Hlízov 164 | M12: DIČ:
D14: Zhotovitel: | M14: IČ:
E15: dosud neurčen | M15: DIČ:
D17: Projektant: | M17: IČ:
E18: Beran Pavel | M18: DIČ:
D20: Zpracovatel: | M20: IČ:
M21: DIČ:
D23: Poznámka:
D27: Náklady z rozpočtu | M27: =$N$88 -> 0
D28: Ostatní náklady | M28: =$N$103 -> 0
D30: Cena bez DPH | M30: =ROUND($M$27+$M$28,2) -> 0
D32: DPH | E32: základní | F32: 0.21 | G32: ze | H32: =ROUND((SUM($BE$103:$BE$104)+SUM($BE$122:$BE$181)),2) -> 0 | M32: =ROUND(ROUND((SUM($BE$103:$BE$104)+SUM($BE$122:$BE$181)),2)*$F$32,2) -> 0
E33: snížená | F33: 0.15 | G33: ze | H33: =ROUND((SUM($BF$103:$BF$104)+SUM($BF$122:$BF$181)),2) -> 0 | M33: =ROUND(ROUND((SUM($BF$103:$BF$104)+SUM($BF$122:$BF$181)),2)*$F$33,2) -> 0
E34: zákl. přenesená | F34: 0.21 | G34: ze | H34: =ROUND((SUM($BG$103:$BG$104)+SUM($BG$122:$BG$181)),2) -> 0 | M34: 0
E35: sníž. přenesená | F35: 0.15 | G35: ze | H35: =ROUND((SUM($BH$103:$BH$104)+SUM($BH$122:$BH$181)),2) -> 0 | M35: 0
E36: nulová | F36: 0 | G36: ze | H36: =ROUND((SUM($BI$103:$BI$104)+SUM($BI$122:$BI$181)),2) -> 0 | M36: 0
D38: Cena s DPH | G38: v | H38: CZK | L38: =SUM($M$30:$M$36) -> 0
D50: Projektant | J50: Zpracovatel
D59: Datum a podpis: | G59: Razítko | J59: Datum a podpis: | N59: Razítko
D61: Objednavatel | J61: Zhotovitel
D70: Datum a podpis: | G70: Razítko | J70: Datum a podpis: | N70: Razítko
C76: REKAPITULACE ROZPOČTU
C78: Stavba: | F78: =$F$6 -> Údržba a obnova hřbitovních staveb
C79: Objekt: | F79: =$F$7 -> kolumbarium2 - SO 05 Kolumbárium_2
C81: Místo: | F81: =$F$9 -> Hlízov | K81: Datum: | M81: =IF($O$9="","",$O$9)
C83: Objednavatel: | F83: =$E$12 -> Obec Hlízov,285 32 Hlízov 164 | K83: Projektant: | M83: =$E$18 -> Beran Pavel
C84: Zhotovitel: | F84: =IF($E$15="","",$E$15) -> dosud neurčen | K84: Zpracovatel: | M84: =$E$21 -> 0
C86: Kód - Popis | N86: Cena celkem [CZK]
C88: 1) Náklady z rozpočtu | N88: =$N$122 -> 0 | AU88: -1
D89: HSV - Práce a dodávky HSV | N89: =$N$123 -> 0
D90: 1 - Zemní práce | N90: =$N$124 -> 0
D91: 6 - Úpravy povrchů, podlahy a osazování výplní | N91: =$N$128 -> 0
D92: 9 - Ostatní konstrukce a práce, bourání | N92: =$N$139 -> 0
D93: 997 - Přesun sutě | N93: =$N$149 -> 0
D94: 998 - Přesun hmot | N94: =$N$154 -> 0
D95: PSV - Práce a dodávky PSV | N95: =$N$156 -> 0
D96: 762 - Konstrukce tesařské | N96: =$N$157 -> 0
D97: 764 - Konstrukce klempířské | N97: =$N$162 -> 0
D98: 765 - Krytina skládaná | N98: =$N$165 -> 0
D99: 784 - Dokončovací práce - malby a tapety | N99: =$N$176 -> 0
D100: VRN - Vedlejší rozpočtové náklady | N100: =$N$179 -> 0
D101: VRN3 - Zařízení staveniště | N101: =$N$180 -> 0
C103: 2) Ostatní náklady | N103: 0 | U103: DPH
C105: Celkové náklady za stavbu 1) + 2) | L105: =ROUND(SUM($N$88+$N$103),2) -> 0
C111: ROZPOČET
C113: Stavba: | F113: =$F$6 -> Údržba a obnova hřbitovních staveb
C114: Objekt: | F114: =$F$7 -> kolumbarium2 - SO 05 Kolumbárium_2
C116: Místo: | F116: =$F$9 -> Hlízov | K116: Datum: | M116: =IF($O$9="","",$O$9)
C118: Objednavatel: | F118: =$E$12 -> Obec Hlízov,285 32 Hlízov 164 | K118: Projektant: | M118: =$E$18 -> Beran Pavel
C119: Zhotovitel: | F119: =IF($E$15="","",$E$15) -> dosud neurčen | K119: Zpracovatel: | M119: =$E$21 -> 0
C121: PČ | D121: Typ | E121: Kód | F121: Popis | J121: MJ | K121: Množství | L121: J.cena [CZK] | N121: Cena celkem [CZK] | T121: Poznámka | U121: DPH | V121: J. Nh [h] | W121: Nh celkem [h] | X121: J. hmotnost [t] | Y121: Hmotnost celkem [t] | Z121: J. suť [t] | AA121: Suť Celkem [t]
C122: Náklady z rozpočtu | N122: =$BK$122 -> 0 | W122: =$W$123+$W$156+$W$179 -> 472.13622 | Y122: =$Y$123+$Y$156+$Y$179 -> 7.4836235 | AA122: =$AA$123+$AA$156+$AA$179 -> 5.8966163 | AT122: D | AU122: -1 | BK122: =$BK$123+$BK$156+$BK$179 -> 0
D123: HSV - Práce a dodávky HSV | N123: =$BK$123 -> 0 | W123: =$W$124+$W$128+$W$139+$W$149+$W$154 -> 288.44179 | Y123: =$Y$124+$Y$128+$Y$139+$Y$149+$Y$154 -> 5.9766066 | AA123: =$AA$124+$AA$128+$AA$139+$AA$149+$AA$154 -> 2.90686 | AR123: 1 | AT123: D | AU123: 0 | AY123: ROZPOCET | BK123: =$BK$124+$BK$128+$BK$139+$BK$149+$BK$154 -> 0
D124: 1 - Zemní práce | N124: =$BK$124 -> 0 | W124: =SUM($W$125:$W$127) -> 7.548 | Y124: =SUM($Y$125:$Y$127) -> 0.000765 | AA124: =SUM($AA$125:$AA$127) -> 0 | AR124: 1 | AT124: D | AU124: 1 | AY124: ROZPOCET | BK124: =SUM($BK$125:$BK$127) -> 0
C125: 1 | D125: K | E125: 181111111 | F125: Plošná úprava terénu do 500 m2 zemina tř 1 až 4 nerovnosti do +/- 100 mm v rovinně a svahu do 1:5 | J125: m2 | K125: 51 | N125: =ROUND($L$125*$K$125,2) -> 0 | U125: základní | V125: 0.09 | W125: =$V$125*$K$125 -> 4.59 | X125: 0 | Y125: =$X$125*$K$125 -> 0 | Z125: 0 | AA125: =$Z$125*$K$125 -> 0 | AR125: 4 | AT125: K | AU125: 2 | AY125: ROZPOCET | BE125: =IF($U$125="základní",$N$125,0) -> 0 | BF125: =IF($U$125="snížená",$N$125,0) -> 0 | BG125: =IF($U$125="zákl. přenesená",$N$125,0) -> 0 | BH125: =IF($U$125="sníž. přenesená",$N$125,0) -> 0 | BI125: =IF($U$125="nulová",$N$125,0) -> 0 | BJ125: 1 | BK125: =ROUND($L$125*$K$125,2) -> 0 | BL125: 4 | BM125: -1119446413
C126: 2 | D126: K | E126: 181411131 | F126: Založení parkového trávníku výsevem plochy do 1000 m2 v rovině a ve svahu do 1:5 | J126: m2 | K126: 51 | N126: =ROUND($L$126*$K$126,2) -> 0 | U126: základní | V126: 0.058 | W126: =$V$126*$K$126 -> 2.958 | X126: 0 | Y126: =$X$126*$K$126 -> 0 | Z126: 0 | AA126: =$Z$126*$K$126 -> 0 | AR126: 4 | AT126: K | AU126: 2 | AY126: ROZPOCET | BE126: =IF($U$126="základní",$N$126,0) -> 0 | BF126: =IF($U$126="snížená",$N$126,0) -> 0 | BG126: =IF($U$126="zákl. přenesená",$N$126,0) -> 0 | BH126: =IF($U$126="sníž. přenesená",$N$126,0) -> 0 | BI126: =IF($U$126="nulová",$N$126,0) -> 0 | BJ126: 1 | BK126: =ROUND($L$126*$K$126,2) -> 0 | BL126: 4 | BM126: -1541947265
C127: 3 | D127: M | E127: 005724100 | F127: osivo směs travní parková | J127: kg | K127: 0.765 | N127: =ROUND($L$127*$K$127,2) -> 0 | U127: základní | V127: 0 | W127: =$V$127*$K$127 -> 0 | X127: 0.001 | Y127: =$X$127*$K$127 -> 0.000765 | Z127: 0 | AA127: =$Z$127*$K$127 -> 0 | AR127: 8 | AT127: M | AU127: 2 | AY127: ROZPOCET | BE127: =IF($U$127="základní",$N$127,0) -> 0 | BF127: =IF($U$127="snížená",$N$127,0) -> 0 | BG127: =IF($U$127="zákl. přenesená",$N$127,0) -> 0 | BH127: =IF($U$127="sníž. přenesená",$N$127,0) -> 0 | BI127: =IF($U$127="nulová",$N$127,0) -> 0 | BJ127: 1 | BK127: =ROUND($L$127*$K$127,2) -> 0 | BL127: 4 | BM127: -373545268
D128: 6 - Úpravy povrchů, podlahy a osazování výplní | N128: =$BK$128 -> 0 | W128: =SUM($W$129:$W$138) -> 188.31621 | Y128: =SUM($Y$129:$Y$138) -> 5.3802378 | AA128: =SUM($AA$129:$AA$138) -> 0 | AR128: 1 | AT128: D | AU128: 1 | AY128: ROZPOCET | BK128: =SUM($BK$129:$BK$138) -> 0
C129: 4 | D129: K | E129: 612325422 | F129: Oprava vnitřní vápenocementové štukové omítky stěn v rozsahu plochy do 30% | J129: m2 | K129: 70.8 | N129: =ROUND($L$129*$K$129,2) -> 0 | U129: základní | V129: 0.344 | W129: =$V$129*$K$129 -> 24.3552 | X129: 0.017 | Y129: =$X$129*$K$129 -> 1.2036 | Z129: 0 | AA129: =$Z$129*$K$129 -> 0 | AR129: 4 | AT129: K | AU129: 2 | AY129: ROZPOCET | BE129: =IF($U$129="základní",$N$129,0) -> 0 | BF129: =IF($U$129="snížená",$N$129,0) -> 0 | BG129: =IF($U$129="zákl. přenesená",$N$129,0) -> 0 | BH129: =IF($U$129="sníž. přenesená",$N$129,0) -> 0 | BI129: =IF($U$129="nulová",$N$129,0) -> 0 | BJ129: 1 | BK129: =ROUND($L$129*$K$129,2) -> 0 | BL129: 4 | BM129: -1417362573
C130: 5 | D130: K | E130: 621335113 | F130: Oprava cementové štukové omítky vnějších podhledů v rozsahu do 50% | J130: m2 | K130: 32.56 | N130: =ROUND($L$130*$K$130,2) -> 0 | U130: základní | V130: 0.442 | W130: =$V$130*$K$130 -> 14.39152 | X130: 0.02659 | Y130: =$X$130*$K$130 -> 0.8657704 | Z130: 0 | AA130: =$Z$130*$K$130 -> 0 | AR130: 4 | AT130: K | AU130: 2 | AY130: ROZPOCET | BE130: =IF($U$130="základní",$N$130,0) -> 0 | BF130: =IF($U$130="snížená",$N$130,0) -> 0 | BG130: =IF($U$130="zákl. přenesená",$N$130,0) -> 0 | BH130: =IF($U$130="sníž. přenesená",$N$130,0) -> 0 | BI130: =IF($U$130="nulová",$N$130,0) -> 0 | BJ130: 1 | BK130: =ROUND($L$130*$K$130,2) -> 0 | BL130: 4 | BM130: -1401549911
C131: 6 | D131: K | E131: 621531021 | F131: Tenkovrstvá silikonová zrnitá omítka tl. 2,0 mm včetně penetrace vnějších podhledů | J131: m2 | K131: 32.56 | N131: =ROUND($L$131*$K$131,2) -> 0 | U131: základní | V131: 0.285 | W131: =$V$131*$K$131 -> 9.2796 | X131: 0.00348 | Y131: =$X$131*$K$131 -> 0.1133088 | Z131: 0 | AA131: =$Z$131*$K$131 -> 0 | AR131: 4 | AT131: K | AU131: 2 | AY131: ROZPOCET | BE131: =IF($U$131="základní",$N$131,0) -> 0 | BF131: =IF($U$131="snížená",$N$131,0) -> 0 | BG131: =IF($U$131="zákl. přenesená",$N$131,0) -> 0 | BH131: =IF($U$131="sníž. přenesená",$N$131,0) -> 0 | BI131: =IF($U$131="nulová",$N$131,0) -> 0 | BJ131: 1 | BK131: =ROUND($L$131*$K$131,2) -> 0 | BL131: 4 | BM131: 1447394161
C132: 7 | D132: K | E132: 622135001 | F132: Vyrovnání podkladu vnějších stěn maltou vápenocementovou tl do 10 mm | J132: m2 | K132: 82.82 | N132: =ROUND($L$132*$K$132,2) -> 0 | U132: základní | V132: 0.424 | W132: =$V$132*$K$132 -> 35.11568 | X132: 0.02048 | Y132: =$X$132*$K$132 -> 1.6961536 | Z132: 0 | AA132: =$Z$132*$K$132 -> 0 | AR132: 4 | AT132: K | AU132: 2 | AY132: ROZPOCET | BE132: =IF($U$132="základní",$N$132,0) -> 0 | BF132: =IF($U$132="snížená",$N$132,0) -> 0 | BG132: =IF($U$132="zákl. přenesená",$N$132,0) -> 0 | BH132: =IF($U$132="sníž. přenesená",$N$132,0) -> 0 | BI132: =IF($U$132="nulová",$N$132,0) -> 0 | BJ132: 1 | BK132: =ROUND($L$132*$K$132,2) -> 0 | BL132: 4 | BM132: 723640475
C133: 8 | D133: K | E133: 622135091 | F133: Příplatek k vyrovnání vnějších stěn maltou vápenocementovou za každých dalších 5 mm tl | J133: m2 | K133: 82.82 | N133: =ROUND($L$133*$K$133,2) -> 0 | U133: základní | V133: 0.09 | W133: =$V$133*$K$133 -> 7.4538 | X133: 0.0079 | Y133: =$X$133*$K$133 -> 0.654278 | Z133: 0 | AA133: =$Z$133*$K$133 -> 0 | AR133: 4 | AT133: K | AU133: 2 | AY133: ROZPOCET | BE133: =IF($U$133="základní",$N$133,0) -> 0 | BF133: =IF($U$133="snížená",$N$133,0) -> 0 | BG133: =IF($U$133="zákl. přenesená",$N$133,0) -> 0 | BH133: =IF($U$133="sníž. přenesená",$N$133,0) -> 0 | BI133: =IF($U$133="nulová",$N$133,0) -> 0 | BJ133: 1 | BK133: =ROUND($L$133*$K$133,2) -> 0 | BL133: 4 | BM133: -303754975
C134: 9 | D134: K | E134: 622325401 | F134: Oprava vnější vápenné nebo vápenocementové štukové omítky složitosti 3 v rozsahu do 10% | J134: m2 | K134: 82.82 | N134: =ROUND($L$134*$K$134,2) -> 0 | U134: základní | V134: 0.627 | W134: =$V$134*$K$134 -> 51.92814 | X134: 0.00643 | Y134: =$X$134*$K$134 -> 0.5325326 | Z134: 0 | AA134: =$Z$134*$K$134 -> 0 | AR134: 4 | AT134: K | AU134: 2 | AY134: ROZPOCET | BE134: =IF($U$134="základní",$N$134,0) -> 0 | BF134: =IF($U$134="snížená",$N$134,0) -> 0 | BG134: =IF($U$134="zákl. přenesená",$N$134,0) -> 0 | BH134: =IF($U$134="sníž. přenesená",$N$134,0) -> 0 | BI134: =IF($U$134="nulová",$N$134,0) -> 0 | BJ134: 1 | BK134: =ROUND($L$134*$K$134,2) -> 0 | BL134: 4 | BM134: 705455456
C135: 10 | D135: K | E135: 622531021 | F135: Tenkovrstvá silikonová zrnitá omítka tl. 2,0 mm včetně penetrace vnějších stěn | J135: m2 | K135: 82.82 | N135: =ROUND($L$135*$K$135,2) -> 0 | U135: základní | V135: 0.245 | W135: =$V$135*$K$135 -> 20.2909 | X135: 0.00348 | Y135: =$X$135*$K$135 -> 0.2882136 | Z135: 0 | AA135: =$Z$135*$K$135 -> 0 | AR135: 4 | AT135: K | AU135: 2 | AY135: ROZPOCET | BE135: =IF($U$135="základní",$N$135,0) -> 0 | BF135: =IF($U$135="snížená",$N$135,0) -> 0 | BG135: =IF($U$135="zákl. přenesená",$N$135,0) -> 0 | BH135: =IF($U$135="sníž. přenesená",$N$135,0) -> 0 | BI135: =IF($U$135="nulová",$N$135,0) -> 0 | BJ135: 1 | BK135: =ROUND($L$135*$K$135,2) -> 0 | BL135: 4 | BM135: 1353651792
C136: 11 | D136: K | E136: 622613101 | F136: Hydrofobizační nátěr silikonový vnějších stěn z cihel nebo z přírodního kamene ručně | J136: m2 | K136: 9.99 | N136: =ROUND($L$136*$K$136,2) -> 0 | U136: základní | V136: 0.09 | W136: =$V$136*$K$136 -> 0.8991 | X136: 0.00024 | Y136: =$X$136*$K$136 -> 0.0023976 | Z136: 0 | AA136: =$Z$136*$K$136 -> 0 | AR136: 4 | AT136: K | AU136: 2 | AY136: ROZPOCET | BE136: =IF($U$136="základní",$N$136,0) -> 0 | BF136: =IF($U$136="snížená",$N$136,0) -> 0 | BG136: =IF($U$136="zákl. přenesená",$N$136,0) -> 0 | BH136: =IF($U$136="sníž. přenesená",$N$136,0) -> 0 | BI136: =IF($U$136="nulová",$N$136,0) -> 0 | BJ136: 1 | BK136: =ROUND($L$136*$K$136,2) -> 0 | BL136: 4 | BM136: 33162423
C137: 12 | D137: K | E137: 622613301 | F137: Hydrofobizační nátěr silikonový střech z cihel nebo z přírodního kamene strojně | J137: m2 | K137: 99.93 | N137: =ROUND($L$137*$K$137,2) -> 0 | U137: základní | V137: 0.039 | W137: =$V$137*$K$137 -> 3.89727 | X137: 0.00024 | Y137: =$X$137*$K$137 -> 0.0239832 | Z137: 0 | AA137: =$Z$137*$K$137 -> 0 | AR137: 4 | AT137: K | AU137: 2 | AY137: ROZPOCET | BE137: =IF($U$137="základní",$N$137,0) -> 0 | BF137: =IF($U$137="snížená",$N$137,0) -> 0 | BG137: =IF($U$137="zákl. přenesená",$N$137,0) -> 0 | BH137: =IF($U$137="sníž. přenesená",$N$137,0) -> 0 | BI137: =IF($U$137="nulová",$N$137,0) -> 0 | BJ137: 1 | BK137: =ROUND($L$137*$K$137,2) -> 0 | BL137: 4 | BM137: -187403359
C138: 13 | D138: K | E138: 629999022 | F138: Příplatek k omítce za provádění zaoblených ploch poloměru přes 100 mm | J138: m2 | K138: 82.82 | N138: =ROUND($L$138*$K$138,2) -> 0 | U138: základní | V138: 0.25 | W138: =$V$138*$K$138 -> 20.705 | X138: 0 | Y138: =$X$138*$K$138 -> 0 | Z138: 0 | AA138: =$Z$138*$K$138 -> 0 | AR138: 4 | AT138: K | AU138: 2 | AY138: ROZPOCET | BE138: =IF($U$138="základní",$N$138,0) -> 0 | BF138: =IF($U$138="snížená",$N$138,0) -> 0 | BG138: =IF($U$138="zákl. přenesená",$N$138,0) -> 0 | BH138: =IF($U$138="sníž. přenesená",$N$138,0) -> 0 | BI138: =IF($U$138="nulová",$N$138,0) -> 0 | BJ138: 1 | BK138: =ROUND($L$138*$K$138,2) -> 0 | BL138: 4 | BM138: 61958405
D139: 9 - Ostatní konstrukce a práce, bourání | N139: =$BK$139 -> 0 | W139: =SUM($W$140:$W$148) -> 77.23197 | Y139: =SUM($Y$140:$Y$148) -> 0.5956038 | AA139: =SUM($AA$140:$AA$148) -> 2.90686 | AR139: 1 | AT139: D | AU139: 1 | AY139: ROZPOCET | BK139: =SUM($BK$140:$BK$148) -> 0
C140: 14 | D140: K | E140: 941111111 | F140: Montáž lešení řadového trubkového lehkého s podlahami zatížení do 200 kg/m2 š do 0,9 m v do 10 m | J140: m2 | K140: 104 | N140: =ROUND($L$140*$K$140,2) -> 0 | U140: základní | V140: 0.14 | W140: =$V$140*$K$140 -> 14.56 | X140: 0 | Y140: =$X$140*$K$140 -> 0 | Z140: 0 | AA140: =$Z$140*$K$140 -> 0 | AR140: 4 | AT140: K | AU140: 2 | AY140: ROZPOCET | BE140: =IF($U$140="základní",$N$140,0) -> 0 | BF140: =IF($U$140="snížená",$N$140,0) -> 0 | BG140: =IF($U$140="zákl. přenesená",$N$140,0) -> 0 | BH140: =IF($U$140="sníž. přenesená",$N$140,0) -> 0 | BI140: =IF($U$140="nulová",$N$140,0) -> 0 | BJ140: 1 | BK140: =ROUND($L$140*$K$140,2) -> 0 | BL140: 4 | BM140: 806016066
C141: 15 | D141: K | E141: 941111211 | F141: Příplatek k lešení řadovému trubkovému lehkému s podlahami š 0,9 m v 10 m za první a ZKD den použití | J141: m2 | K141: 3120 | N141: =ROUND($L$141*$K$141,2) -> 0 | U141: základní | V141: 0 | W141: =$V$141*$K$141 -> 0 | X141: 0 | Y141: =$X$141*$K$141 -> 0 | Z141: 0 | AA141: =$Z$141*$K$141 -> 0 | AR141: 4 | AT141: K | AU141: 2 | AY141: ROZPOCET | BE141: =IF($U$141="základní",$N$141,0) -> 0 | BF141: =IF($U$141="snížená",$N$141,0) -> 0 | BG141: =IF($U$141="zákl. přenesená",$N$141,0) -> 0 | BH141: =IF($U$141="sníž. přenesená",$N$141,0) -> 0 | BI141: =IF($U$141="nulová",$N$141,0) -> 0 | BJ141: 1 | BK141: =ROUND($L$141*$K$141,2) -> 0 | BL141: 4 | BM141: 398997511
C142: 16 | D142: K | E142: 941111811 | F142: Demontáž lešení řadového trubkového lehkého s podlahami zatížení do 200 kg/m2 š do 0,9 m v do 10 m | J142: m2 | K142: 104 | N142: =ROUND($L$142*$K$142,2) -> 0 | U142: základní | V142: 0.087 | W142: =$V$142*$K$142 -> 9.048 | X142: 0 | Y142: =$X$142*$K$142 -> 0 | Z142: 0 | AA142: =$Z$142*$K$142 -> 0 | AR142: 4 | AT142: K | AU142: 2 | AY142: ROZPOCET | BE142: =IF($U$142="základní",$N$142,0) -> 0 | BF142: =IF($U$142="snížená",$N$142,0) -> 0 | BG142: =IF($U$142="zákl. přenesená",$N$142,0) -> 0 | BH142: =IF($U$142="sníž. přenesená",$N$142,0) -> 0 | BI142: =IF($U$142="nulová",$N$142,0) -> 0 | BJ142: 1 | BK142: =ROUND($L$142*$K$142,2) -> 0 | BL142: 4 | BM142: -55227688
C143: 17 | D143: K | E143: 978013141 | F143: Otlučení vnitřní vápenné nebo vápenocementové omítky stěn stěn v rozsahu do 30 % | J143: m2 | K143: 70.8 | N143: =ROUND($L$143*$K$143,2) -> 0 | U143: základní | V143: 0.08 | W143: =$V$143*$K$143 -> 5.664 | X143: 0 | Y143: =$X$143*$K$143 -> 0 | Z143: 0.01 | AA143: =$Z$143*$K$143 -> 0.708 | AR143: 4 | AT143: K | AU143: 2 | AY143: ROZPOCET | BE143: =IF($U$143="základní",$N$143,0) -> 0 | BF143: =IF($U$143="snížená",$N$143,0) -> 0 | BG143: =IF($U$143="zákl. přenesená",$N$143,0) -> 0 | BH143: =IF($U$143="sníž. přenesená",$N$143,0) -> 0 | BI143: =IF($U$143="nulová",$N$143,0) -> 0 | BJ143: 1 | BK143: =ROUND($L$143*$K$143,2) -> 0 | BL143: 4 | BM143: -1107008493
C144: 18 | D144: K | E144: 978019321 | F144: Otlučení vnější vápenné nebo vápenocementové vnější omítky stupně členitosti 3 až 5 rozsahu do 10% | J144: m2 | K144: 82.82 | N144: =ROUND($L$144*$K$144,2) -> 0 | U144: základní | V144: 0.032 | W144: =$V$144*$K$144 -> 2.65024 | X144: 0 | Y144: =$X$144*$K$144 -> 0 | Z144: 0.007 | AA144: =$Z$144*$K$144 -> 0.57974 | AR144: 4 | AT144: K | AU144: 2 | AY144: ROZPOCET | BE144: =IF($U$144="základní",$N$144,0) -> 0 | BF144: =IF($U$144="snížená",$N$144,0) -> 0 | BG144: =IF($U$144="zákl. přenesená",$N$144,0) -> 0 | BH144: =IF($U$144="sníž. přenesená",$N$144,0) -> 0 | BI144: =IF($U$144="nulová",$N$144,0) -> 0 | BJ144: 1 | BK144: =ROUND($L$144*$K$144,2) -> 0 | BL144: 4 | BM144: -593767435
C145: 19 | D145: K | E145: 978019361 | F145: Otlučení vnější vápenné nebo vápenocementové vnější omítky stupně členitosti 3 až 5 rozsahu do 50% | J145: m2 | K145: 32.56 | N145: =ROUND($L$145*$K$145,2) -> 0 | U145: základní | V145: 0.16 | W145: =$V$145*$K$145 -> 5.2096 | X145: 0 | Y145: =$X$145*$K$145 -> 0 | Z145: 0.035 | AA145: =$Z$145*$K$145 -> 1.1396 | AR145: 4 | AT145: K | AU145: 2 | AY145: ROZPOCET | BE145: =IF($U$145="základní",$N$145,0) -> 0 | BF145: =IF($U$145="snížená",$N$145,0) -> 0 | BG145: =IF($U$145="zákl. přenesená",$N$145,0) -> 0 | BH145: =IF($U$145="sníž. přenesená",$N$145,0) -> 0 | BI145: =IF($U$145="nulová",$N$145,0) -> 0 | BJ145: 1 | BK145: =ROUND($L$145*$K$145,2) -> 0 | BL145: 4 | BM145: -374028730
C146: 20 | D146: K | E146: 985131111 | F146: Očištění ploch stěn, rubu kleneb a podlah tlakovou vodou | J146: m2 | K146: 115.38 | N146: =ROUND($L$146*$K$146,2) -> 0 | U146: základní | V146: 0.273 | W146: =$V$146*$K$146 -> 31.49874 | X146: 0 | Y146: =$X$146*$K$146 -> 0 | Z146: 0 | AA146: =$Z$146*$K$146 -> 0 | AR146: 4 | AT146: K | AU146: 2 | AY146: ROZPOCET | BE146: =IF($U$146="základní",$N$146,0) -> 0 | BF146: =IF($U$146="snížená",$N$146,0) -> 0 | BG146: =IF($U$146="zákl. přenesená",$N$146,0) -> 0 | BH146: =IF($U$146="sníž. přenesená",$N$146,0) -> 0 | BI146: =IF($U$146="nulová",$N$146,0) -> 0 | BJ146: 1 | BK146: =ROUND($L$146*$K$146,2) -> 0 | BL146: 4 | BM146: -1897030984
C147: 21 | D147: K | E147: 985131211 | F147: Očištění ploch stěn, rubu kleneb a podlah sušeným křemičitým pískem | J147: m2 | K147: 9.99 | N147: =ROUND($L$147*$K$147,2) -> 0 | U147: základní | V147: 0.247 | W147: =$V$147*$K$147 -> 2.46753 | X147: 0.048 | Y147: =$X$147*$K$147 -> 0.47952 | Z147: 0.048 | AA147: =$Z$147*$K$147 -> 0.47952 | AR147: 4 | AT147: K | AU147: 2 | AY147: ROZPOCET | BE147: =IF($U$147="základní",$N$147,0) -> 0 | BF147: =IF($U$147="snížená",$N$147,0) -> 0 | BG147: =IF($U$147="zákl. přenesená",$N$147,0) -> 0 | BH147: =IF($U$147="sníž. přenesená",$N$147,0) -> 0 | BI147: =IF($U$147="nulová",$N$147,0) -> 0 | BJ147: 1 | BK147: =ROUND($L$147*$K$147,2) -> 0 | BL147: 4 | BM147: -2104887647
C148: 22 | D148: K | E148: 985231111 | F148: Spárování zdiva aktivovanou maltou spára hl do 40 mm dl do 6 m/m2 | J148: m2 | K148: 9.99 | N148: =ROUND($L$148*$K$148,2) -> 0 | U148: základní | V148: 0.614 | W148: =$V$148*$K$148 -> 6.13386 | X148: 0.01162 | Y148: =$X$148*$K$148 -> 0.1160838 | Z148: 0 | AA148: =$Z$148*$K$148 -> 0 | AR148: 4 | AT148: K | AU148: 2 | AY148: ROZPOCET | BE148: =IF($U$148="základní",$N$148,0) -> 0 | BF148: =IF($U$148="snížená",$N$148,0) -> 0 | BG148: =IF($U$148="zákl. přenesená",$N$148,0) -> 0 | BH148: =IF($U$148="sníž. přenesená",$N$148,0) -> 0 | BI148: =IF($U$148="nulová",$N$148,0) -> 0 | BJ148: 1 | BK148: =ROUND($L$148*$K$148,2) -> 0 | BL148: 4 | BM148: -2084453490
D149: 997 - Přesun sutě | N149: =$BK$149 -> 0 | W149: =SUM($W$150:$W$153) -> 10.37872 | Y149: =SUM($Y$150:$Y$153) -> 0 | AA149: =SUM($AA$150:$AA$153) -> 0 | AR149: 1 | AT149: D | AU149: 1 | AY149: ROZPOCET | BK149: =SUM($BK$150:$BK$153) -> 0
C150: 23 | D150: K | E150: 997013111 | F150: Vnitrostaveništní doprava suti a vybouraných hmot pro budovy v do 6 m s použitím mechanizace | J150: t | K150: 5.897 | N150: =ROUND($L$150*$K$150,2) -> 0 | U150: základní | V150: 1.569 | W150: =$V$150*$K$150 -> 9.252393 | X150: 0 | Y150: =$X$150*$K$150 -> 0 | Z150: 0 | AA150: =$Z$150*$K$150 -> 0 | AR150: 4 | AT150: K | AU150: 2 | AY150: ROZPOCET | BE150: =IF($U$150="základní",$N$150,0) -> 0 | BF150: =IF($U$150="snížená",$N$150,0) -> 0 | BG150: =IF($U$150="zákl. přenesená",$N$150,0) -> 0 | BH150: =IF($U$150="sníž. přenesená",$N$150,0) -> 0 | BI150: =IF($U$150="nulová",$N$150,0) -> 0 | BJ150: 1 | BK150: =ROUND($L$150*$K$150,2) -> 0 | BL150: 4 | BM150: 2027807083
C151: 24 | D151: K | E151: 997013501 | F151: Odvoz suti a vybouraných hmot na skládku nebo meziskládku do 1 km se složením | J151: t | K151: 5.897 | N151: =ROUND($L$151*$K$151,2) -> 0 | U151: základní | V151: 0.125 | W151: =$V$151*$K$151 -> 0.737125 | X151: 0 | Y151: =$X$151*$K$151 -> 0 | Z151: 0 | AA151: =$Z$151*$K$151 -> 0 | AR151: 4 | AT151: K | AU151: 2 | AY151: ROZPOCET | BE151: =IF($U$151="základní",$N$151,0) -> 0 | BF151: =IF($U$151="snížená",$N$151,0) -> 0 | BG151: =IF($U$151="zákl. přenesená",$N$151,0) -> 0 | BH151: =IF($U$151="sníž. přenesená",$N$151,0) -> 0 | BI151: =IF($U$151="nulová",$N$151,0) -> 0 | BJ151: 1 | BK151: =ROUND($L$151*$K$151,2) -> 0 | BL151: 4 | BM151: 495179870
C152: 25 | D152: K | E152: 997013509 | F152: Příplatek k odvozu suti a vybouraných hmot na skládku ZKD 1 km přes 1 km | J152: t | K152: 64.867 | N152: =ROUND($L$152*$K$152,2) -> 0 | U152: základní | V152: 0.006 | W152: =$V$152*$K$152 -> 0.389202 | X152: 0 | Y152: =$X$152*$K$152 -> 0 | Z152: 0 | AA152: =$Z$152*$K$152 -> 0 | AR152: 4 | AT152: K | AU152: 2 | AY152: ROZPOCET | BE152: =IF($U$152="základní",$N$152,0) -> 0 | BF152: =IF($U$152="snížená",$N$152,0) -> 0 | BG152: =IF($U$152="zákl. přenesená",$N$152,0) -> 0 | BH152: =IF($U$152="sníž. přenesená",$N$152,0) -> 0 | BI152: =IF($U$152="nulová",$N$152,0) -> 0 | BJ152: 1 | BK152: =ROUND($L$152*$K$152,2) -> 0 | BL152: 4 | BM152: -173167948
C153: 26 | D153: K | E153: 997013801 | F153: Poplatek za uložení stavebního betonového odpadu na skládce (skládkovné) | J153: t | K153: 5.897 | N153: =ROUND($L$153*$K$153,2) -> 0 | U153: základní | V153: 0 | W153: =$V$153*$K$153 -> 0 | X153: 0 | Y153: =$X$153*$K$153 -> 0 | Z153: 0 | AA153: =$Z$153*$K$153 -> 0 | AR153: 4 | AT153: K | AU153: 2 | AY153: ROZPOCET | BE153: =IF($U$153="základní",$N$153,0) -> 0 | BF153: =IF($U$153="snížená",$N$153,0) -> 0 | BG153: =IF($U$153="zákl. přenesená",$N$153,0) -> 0 | BH153: =IF($U$153="sníž. přenesená",$N$153,0) -> 0 | BI153: =IF($U$153="nulová",$N$153,0) -> 0 | BJ153: 1 | BK153: =ROUND($L$153*$K$153,2) -> 0 | BL153: 4 | BM153: -743538556
D154: 998 - Přesun hmot | N154: =$BK$154 -> 0 | W154: =$W$155 -> 4.966887 | Y154: =$Y$155 -> 0 | AA154: =$AA$155 -> 0 | AR154: 1 | AT154: D | AU154: 1 | AY154: ROZPOCET | BK154: =$BK$155 -> 0
C155: 27 | D155: K | E155: 998011001 | F155: Přesun hmot pro budovy zděné v do 6 m | J155: t | K155: 5.977 | N155: =ROUND($L$155*$K$155,2) -> 0 | U155: základní | V155: 0.831 | W155: =$V$155*$K$155 -> 4.966887 | X155: 0 | Y155: =$X$155*$K$155 -> 0 | Z155: 0 | AA155: =$Z$155*$K$155 -> 0 | AR155: 4 | AT155: K | AU155: 2 | AY155: ROZPOCET | BE155: =IF($U$155="základní",$N$155,0) -> 0 | BF155: =IF($U$155="snížená",$N$155,0) -> 0 | BG155: =IF($U$155="zákl. přenesená",$N$155,0) -> 0 | BH155: =IF($U$155="sníž. přenesená",$N$155,0) -> 0 | BI155: =IF($U$155="nulová",$N$155,0) -> 0 | BJ155: 1 | BK155: =ROUND($L$155*$K$155,2) -> 0 | BL155: 4 | BM155: 589424846
D156: PSV - Práce a dodávky PSV | N156: =$BK$156 -> 0 | W156: =$W$157+$W$162+$W$165+$W$176 -> 183.69443 | Y156: =$Y$157+$Y$162+$Y$165+$Y$176 -> 1.5070169 | AA156: =$AA$157+$AA$162+$AA$165+$AA$176 -> 2.9897563 | AR156: 2 | AT156: D | AU156: 0 | AY156: ROZPOCET | BK156: =$BK$157+$BK$162+$BK$165+$BK$176 -> 0
D157: 762 - Konstrukce tesařské | N157: =$BK$157 -> 0 | W157: =SUM($W$158:$W$161) -> 6.431502 | Y157: =SUM($Y$158:$Y$161) -> 0.0661998 | AA157: =SUM($AA$158:$AA$161) -> 0.13986 | AR157: 2 | AT157: D | AU157: 1 | AY157: ROZPOCET | BK157: =SUM($BK$158:$BK$161) -> 0
C158: 28 | D158: K | E158: 762341914 | F158: Vyřezání části laťování střech průřezu latí do 25 cm2 plochy jednotlivě přes 4 m2 | J158: m2 | K158: 19.98 | N158: =ROUND($L$158*$K$158,2) -> 0 | U158: základní | V158: 0.12 | W158: =$V$158*$K$158 -> 2.3976 | X158: 0 | Y158: =$X$158*$K$158 -> 0 | Z158: 0.007 | AA158: =$Z$158*$K$158 -> 0.13986 | AR158: 16 | AT158: K | AU158: 2 | AY158: ROZPOCET | BE158: =IF($U$158="základní",$N$158,0) -> 0 | BF158: =IF($U$158="snížená",$N$158,0) -> 0 | BG158: =IF($U$158="zákl. přenesená",$N$158,0) -> 0 | BH158: =IF($U$158="sníž. přenesená",$N$158,0) -> 0 | BI158: =IF($U$158="nulová",$N$158,0) -> 0 | BJ158: 1 | BK158: =ROUND($L$158*$K$158,2) -> 0 | BL158: 16 | BM158: -1319665538
C159: 29 | D159: K | E159: 762342914 | F159: Zalaťování otvorů ve střeše latěmi na vzdálenost do 0,22 m plochy jednotlivě do 8 m2 | J159: m2 | K159: 19.98 | N159: =ROUND($L$159*$K$159,2) -> 0 | U159: základní | V159: 0.188 | W159: =$V$159*$K$159 -> 3.75624 | X159: 1e-05 | Y159: =$X$159*$K$159 -> 0.0001998 | Z159: 0 | AA159: =$Z$159*$K$159 -> 0 | AR159: 16 | AT159: K | AU159: 2 | AY159: ROZPOCET | BE159: =IF($U$159="základní",$N$159,0) -> 0 | BF159: =IF($U$159="snížená",$N$159,0) -> 0 | BG159: =IF($U$159="zákl. přenesená",$N$159,0) -> 0 | BH159: =IF($U$159="sníž. přenesená",$N$159,0) -> 0 | BI159: =IF($U$159="nulová",$N$159,0) -> 0 | BJ159: 1 | BK159: =ROUND($L$159*$K$159,2) -> 0 | BL159: 16 | BM159: -1164790560
C160: 30 | D160: M | E160: 605141130 | F160: řezivo jehličnaté,střešní latě impregnované dl 2 - 3,5 m | J160: m3 | K160: 0.12 | N160: =ROUND($L$160*$K$160,2) -> 0 | U160: základní | V160: 0 | W160: =$V$160*$K$160 -> 0 | X160: 0.55 | Y160: =$X$160*$K$160 -> 0.066 | Z160: 0 | AA160: =$Z$160*$K$160 -> 0 | AR160: 32 | AT160: M | AU160: 2 | AY160: ROZPOCET | BE160: =IF($U$160="základní",$N$160,0) -> 0 | BF160: =IF($U$160="snížená",$N$160,0) -> 0 | BG160: =IF($U$160="zákl. přenesená",$N$160,0) -> 0 | BH160: =IF($U$160="sníž. přenesená",$N$160,0) -> 0 | BI160: =IF($U$160="nulová",$N$160,0) -> 0 | BJ160: 1 | BK160: =ROUND($L$160*$K$160,2) -> 0 | BL160: 16 | BM160: 2051109056
C161: 31 | D161: K | E161: 998762101 | F161: Přesun hmot tonážní pro kce tesařské v objektech v do 6 m | J161: t | K161: 0.066 | N161: =ROUND($L$161*$K$161,2) -> 0 | U161: základní | V161: 4.207 | W161: =$V$161*$K$161 -> 0.277662 | X161: 0 | Y161: =$X$161*$K$161 -> 0 | Z161: 0 | AA161: =$Z$161*$K$161 -> 0 | AR161: 16 | AT161: K | AU161: 2 | AY161: ROZPOCET | BE161: =IF($U$161="základní",$N$161,0) -> 0 | BF161: =IF($U$161="snížená",$N$161,0) -> 0 | BG161: =IF($U$161="zákl. přenesená",$N$161,0) -> 0 | BH161: =IF($U$161="sníž. přenesená",$N$161,0) -> 0 | BI161: =IF($U$161="nulová",$N$161,0) -> 0 | BJ161: 1 | BK161: =ROUND($L$161*$K$161,2) -> 0 | BL161: 16 | BM161: 572310817
...
