Workbook

Sheet Rekapitulace stavby
A1: 2012 | D1: List obsahuje: | K1: 1) Souhrnný list stavby | W1: 2) Rekapitulace objektů | BA1: 2.0 | BB1: ZAMOK | BT1: False | BU1: False
C2: optimalizováno pro tisk sestav ve formátu A4 - na výšku | AR2: >> skryté sloupce << | BS2: 0,01 | BT2: 21
BS3: 0,01 | BT3: 15
C4: SOUHRNNÝ LIST STAVBY | AS4: v --- níže se nacházejí doplnkové a pomocné údaje k sestavám --- v | BS4: 0,001
D5: Kód: | K5: hlizov2 | BS5: 0,01
D6: Stavba: | K6: Údržba a obnova hřbitovních staveb | BS6: 0,1
D7: JKSO: | AK7: CC-CZ: | BS7: 1
D8: Místo: | K8: Hlízov | AK8: Datum: | BS8: 10
BS9: 100
D10: Objednavatel: | AK10: IČ: | AN10: IČ:00640336 | BS10: 0,1
E11: Obec Hlízov,285 32 Hlízov 164 | AK11: DIČ: | BS11: 0,1
BS12: 0,1
D13: Zhotovitel: | AK13: IČ: | BS13: 0,1
E14: dosud neurčen | AK14: DIČ: | BS14: 0,1
BS15: False
D16: Projektant: | AK16: IČ: | BS16: False
E17: Beran Pavel | AK17: DIČ: | BS17: True
BS18: 0,01
D19: Zpracovatel: | AK19: IČ: | BS19: 0,01
E20: Beran Pavel | AK20: DIČ:
D22: Poznámka:
D26: Náklady z rozpočtů | AK26: =AG98 -> 0
D29: Cena bez DPH | AK29: =ROUND($AK$26+$AK$27,2) -> 0
D31: DPH | F31: základní | L31: 0.21 | T31: ze | W31: =AK26 -> 0 | AK31: =W31/100*21 -> 0
F32: snížená | L32: 0.15 | T32: ze | W32: 0 | AK32: 0
F33: zákl. přenesená | L33: 0.21 | T33: ze | W33: =ROUND($BB$87+SUM($CF$100:$CF$100),2) -> #REF! | AK33: 0
F34: sníž. přenesená | L34: 0.15 | T34: ze | W34: =ROUND($BC$87+SUM($CG$100:$CG$100),2) -> #REF! | AK34: 0
F35: nulová | L35: 0 | T35: ze | W35: =ROUND($BD$87+SUM($CH$100:$CH$100),2) -> #REF! | AK35: 0
D37: Cena s DPH | T37: v | X37: CZK | AK37: =AN98 -> 0
D49: Projektant | AC49: Zpracovatel
D58: Datum a podpis: | R58: Razítko | AC58: Datum a podpis: | AM58: Razítko
D60: Objednavatel | AC60: Zhotovitel
D69: Datum a podpis: | R69: Razítko | AC69: Datum a podpis: | AM69: Razítko
C76: REKAPITULACE OBJEKTŮ STAVBY
C77: Kód: | L77: =$K$5 -> hlizov2
C78: Stavba: | L78: Údržba a obnova hřbitovních staveb
C80: Místo: | L80: =IF($K$8="","",$K$8) -> Hlízov | AI80: Datum: | AM80: =IF($AN$8="","",$AN$8)
C82: Objednavatel: | L82: =IF($E$11="","",$E$11) -> Obec Hlízov,285 32 Hlízov 164 | AI82: Projektant: | AM82: =IF($E$17="","",$E$17) -> Beran Pavel | AS82: Informatívní údaje z listů zakázek
C83: Zhotovitel: | L83: =IF($E$14="","",$E$14) -> dosud neurčen | AI83: Zpracovatel: | AM83: =IF($E$20="","",$E$20) -> Beran Pavel
C85: Kód | I85: Objekt | AG85: Cena bez DPH [CZK] | AN85: Cena s DPH [CZK] | AS85: z toho Ostat. náklady [CZK] | AT85: DPH [CZK] | AU85: Normohodiny [h] | AV85: DPH základní [CZK] | AW85: DPH snížená [CZK] | AX85: DPH základní přenesená [CZK] | AY85: DPH snížená přenesená [CZK] | AZ85: Základna DPH základní | BA85: Základna DPH snížená | BB85: Základna DPH zákl. přenesená | BC85: Základna DPH sníž. přenesená | BD85: Základna DPH nulová
...

Sheet kaple - SO 01 Kaple - uzn.
D1: List obsahuje: | F1: 1) Krycí list rozpočtu | H1: 2) Rekapitulace rozpočtu | L1: 3) Rozpočet | O1: Zpět na list: | S1: Rekapitulace stavby
C2: optimalizováno pro tisk sestav ve formátu A4 - na výšku | S2: >> skryté sloupce << | AT2: {6629CC38-DF07-43F4-85A4-1B0CCEE4C40F}
AT3: 2
C4: KRYCÍ LIST ROZPOČTU | T4: v --- níže se nacházejí doplnkové a pomocné údaje k sestavám --- v | AT4: False
D6: Stavba: | F6: ='Rekapitulace stavby'!K6 -> Údržba a obnova hřbitovních staveb
D7: Objekt: | F7: kaple - SO 01 Kaple
D8: JKSO: | M8: CC-CZ:
D9: Místo: | F9: Hlízov | M9: Datum:
D11: Objednavatel: | M11: IČ: | O11: IČ:00640336
E12: Obec Hlízov,285 32 Hlízov 164 | M12: DIČ:
D14: Zhotovitel: | M14: IČ:
E15: dosud neurčen | M15: DIČ:
D17: Projektant: | M17: IČ:
E18: Beran Pavel | M18: DIČ:
D20: Zpracovatel: | M20: IČ:
E21: Beran Pavel | M21: DIČ:
D23: Poznámka:
D27: Náklady z rozpočtu | M27: =$N$88 -> 0
D28: Ostatní náklady | M28: =$N$101 -> 0
D30: Cena bez DPH | M30: =ROUND($M$27+$M$28,2) -> 0
D32: DPH | E32: základní | F32: 0.21 | G32: ze | H32: =ROUND((SUM($BE$101:$BE$102)+SUM($BE$120:$BE$169)),2) -> 0 | M32: =ROUND(ROUND((SUM($BE$101:$BE$102)+SUM($BE$120:$BE$169)),2)*$F$32,2) -> 0
E33: snížená | F33: 0.15 | G33: ze | H33: =ROUND((SUM($BF$101:$BF$102)+SUM($BF$120:$BF$169)),2) -> 0 | M33: =ROUND(ROUND((SUM($BF$101:$BF$102)+SUM($BF$120:$BF$169)),2)*$F$33,2) -> 0
E34: zákl. přenesená | F34: 0.21 | G34: ze | H34: =ROUND((SUM($BG$101:$BG$102)+SUM($BG$120:$BG$169)),2) -> 0 | M34: 0
E35: sníž. přenesená | F35: 0.15 | G35: ze | H35: =ROUND((SUM($BH$101:$BH$102)+SUM($BH$120:$BH$169)),2) -> 0 | M35: 0
E36: nulová | F36: 0 | G36: ze | H36: =ROUND((SUM($BI$101:$BI$102)+SUM($BI$120:$BI$169)),2) -> 0 | M36: 0
D38: Cena s DPH | G38: v | H38: CZK | L38: =SUM($M$30:$M$36) -> 0
D50: Projektant | J50: Zpracovatel
D59: Datum a podpis: | G59: Razítko | J59: Datum a podpis: | N59: Razítko
D61: Objednavatel | J61: Zhotovitel
D70: Datum a podpis: | G70: Razítko | J70: Datum a podpis: | N70: Razítko
C76: REKAPITULACE ROZPOČTU
C78: Stavba: | F78: =$F$6 -> Údržba a obnova hřbitovních staveb
C79: Objekt: | F79: =$F$7 -> kaple - SO 01 Kaple
C81: Místo: | F81: =$F$9 -> Hlízov | K81: Datum: | M81: =IF($O$9="","",$O$9)
C83: Objednavatel: | F83: =$E$12 -> Obec Hlízov,285 32 Hlízov 164 | K83: Projektant: | M83: =$E$18 -> Beran Pavel
C84: Zhotovitel: | F84: =IF($E$15="","",$E$15) -> dosud neurčen | K84: Zpracovatel: | M84: =$E$21 -> Beran Pavel
C86: Kód - Popis | N86: Cena celkem [CZK]
C88: 1) Náklady z rozpočtu | N88: =$N$120 -> 0 | AU88: -1
D89: HSV - Práce a dodávky HSV | N89: =$N$121 -> 0
D90: 1 - Zemní práce | N90: =$N$122 -> 0
...

Sheet kaple - SO 01 Kaple - neuz.
D1: List obsahuje: | F1: 1) Krycí list rozpočtu | H1: 2) Rekapitulace rozpočtu | L1: 3) Rozpočet | O1: Zpět na list: | S1: Rekapitulace stavby
C2: optimalizováno pro tisk sestav ve formátu A4 - na výšku | S2: >> skryté sloupce << | AT2: {FCA85B61-BE78-4A94-845D-4117161C93A8}
AT3: 2
C4: KRYCÍ LIST ROZPOČTU | T4: v --- níže se nacházejí doplnkové a pomocné údaje k sestavám --- v | AT4: False
D6: Stavba: | F6: ='Rekapitulace stavby'!K6 -> Údržba a obnova hřbitovních staveb
D7: Objekt: | F7: kaple - SO 01 Kaple
D8: JKSO: | M8: CC-CZ:
D9: Místo: | F9: Hlízov | M9: Datum:
D11: Objednavatel: | M11: IČ: | O11: IČ:00640336
E12: Obec Hlízov,285 32 Hlízov 164 | M12: DIČ:
D14: Zhotovitel: | M14: IČ:
E15: dosud neurčen | M15: DIČ:
D17: Projektant: | M17: IČ:
E18: Beran Pavel | M18: DIČ:
D20: Zpracovatel: | M20: IČ:
E21: Beran Pavel | M21: DIČ:
D23: Poznámka:
D27: Náklady z rozpočtu | M27: =$N$88 -> 0
D28: Ostatní náklady | M28: =$N$92 -> 0
D30: Cena bez DPH | M30: =ROUND($M$27+$M$28,2) -> 0
D32: DPH | E32: základní | F32: 0.21 | G32: ze | H32: =ROUND((SUM($BE$92:$BE$93)+SUM($BE$111:$BE$117)),2) -> 0 | M32: =ROUND(ROUND((SUM($BE$92:$BE$93)+SUM($BE$111:$BE$117)),2)*$F$32,2) -> 0
E33: snížená | F33: 0.15 | G33: ze | H33: =ROUND((SUM($BF$92:$BF$93)+SUM($BF$111:$BF$117)),2) -> 0 | M33: =ROUND(ROUND((SUM($BF$92:$BF$93)+SUM($BF$111:$BF$117)),2)*$F$33,2) -> 0
E34: zákl. přenesená | F34: 0.21 | G34: ze | H34: =ROUND((SUM($BG$92:$BG$93)+SUM($BG$111:$BG$117)),2) -> 0 | M34: 0
E35: sníž. přenesená | F35: 0.15 | G35: ze | H35: =ROUND((SUM($BH$92:$BH$93)+SUM($BH$111:$BH$117)),2) -> 0 | M35: 0
E36: nulová | F36: 0 | G36: ze | H36: =ROUND((SUM($BI$92:$BI$93)+SUM($BI$111:$BI$117)),2) -> 0 | M36: 0
D38: Cena s DPH | G38: v | H38: CZK | L38: =SUM($M$30:$M$36) -> 0
D50: Projektant | J50: Zpracovatel
D59: Datum a podpis: | G59: Razítko | J59: Datum a podpis: | N59: Razítko
D61: Objednavatel | J61: Zhotovitel
D70: Datum a podpis: | G70: Razítko | J70: Datum a podpis: | N70: Razítko
C76: REKAPITULACE ROZPOČTU
C78: Stavba: | F78: =$F$6 -> Údržba a obnova hřbitovních staveb
C79: Objekt: | F79: =$F$7 -> kaple - SO 01 Kaple
C81: Místo: | F81: =$F$9 -> Hlízov | K81: Datum: | M81: =IF($O$9="","",$O$9)
C83: Objednavatel: | F83: =$E$12 -> Obec Hlízov,285 32 Hlízov 164 | K83: Projektant: | M83: =$E$18 -> Beran Pavel
C84: Zhotovitel: | F84: =IF($E$15="","",$E$15) -> dosud neurčen | K84: Zpracovatel: | M84: =$E$21 -> Beran Pavel
C86: Kód - Popis | N86: Cena celkem [CZK]
C88: 1) Náklady z rozpočtu | N88: =$N$111 -> 0 | AU88: -1
D89: HSV - Práce a dodávky HSV | N89: =$N$112 -> 0
D90: 997 - Přesun sutě | N90: =$N$113 -> 0
...

Sheet marnice - SO 02 Márnice - uzn.
D1: List obsahuje: | F1: 1) Krycí list rozpočtu | H1: 2) Rekapitulace rozpočtu | L1: 3) Rozpočet | O1: Zpět na list: | S1: Rekapitulace stavby
C2: optimalizováno pro tisk sestav ve formátu A4 - na výšku | S2: >> skryté sloupce << | AT2: {C848594C-378B-4F79-9218-12803BE178B1}
AT3: 2
C4: KRYCÍ LIST ROZPOČTU | T4: v --- níže se nacházejí doplnkové a pomocné údaje k sestavám --- v | AT4: False
D6: Stavba: | F6: ='Rekapitulace stavby'!K6 -> Údržba a obnova hřbitovních staveb
D7: Objekt: | F7: marnice - SO 02 Márnice
D8: JKSO: | M8: CC-CZ:
D9: Místo: | F9: Hlízov | M9: Datum:
D11: Objednavatel: | M11: IČ: | O11: IČ:00640336
E12: Obec Hlízov,285 32 Hlízov 164 | M12: DIČ:
D14: Zhotovitel: | M14: IČ:
E15: dosud neurčen | M15: DIČ:
D17: Projektant: | M17: IČ:
E18: Beran Pavel | M18: DIČ:
D20: Zpracovatel: | M20: IČ:
E21: Beran Pavel | M21: DIČ:
D23: Poznámka:
D27: Náklady z rozpočtu | M27: =$N$88 -> 0
D28: Ostatní náklady | M28: =$N$102 -> 0
D30: Cena bez DPH | M30: =ROUND($M$27+$M$28,2) -> 0
D32: DPH | E32: základní | F32: 0.21 | G32: ze | H32: =ROUND((SUM($BE$102:$BE$103)+SUM($BE$121:$BE$175)),2) -> 0 | M32: =ROUND(ROUND((SUM($BE$102:$BE$103)+SUM($BE$121:$BE$175)),2)*$F$32,2) -> 0
E33: snížená | F33: 0.15 | G33: ze | H33: =ROUND((SUM($BF$102:$BF$103)+SUM($BF$121:$BF$175)),2) -> 0 | M33: =ROUND(ROUND((SUM($BF$102:$BF$103)+SUM($BF$121:$BF$175)),2)*$F$33,2) -> 0
E34: zákl. přenesená | F34: 0.21 | G34: ze | H34: =ROUND((SUM($BG$102:$BG$103)+SUM($BG$121:$BG$175)),2) -> 0 | M34: 0
E35: sníž. přenesená | F35: 0.15 | G35: ze | H35: =ROUND((SUM($BH$102:$BH$103)+SUM($BH$121:$BH$175)),2) -> 0 | M35: 0
E36: nulová | F36: 0 | G36: ze | H36: =ROUND((SUM($BI$102:$BI$103)+SUM($BI$121:$BI$175)),2) -> 0 | M36: 0
D38: Cena s DPH | G38: v | H38: CZK | L38: =SUM($M$30:$M$36) -> 0
D50: Projektant | J50: Zpracovatel
D59: Datum a podpis: | G59: Razítko | J59: Datum a podpis: | N59: Razítko
D61: Objednavatel | J61: Zhotovitel
D70: Datum a podpis: | G70: Razítko | J70: Datum a podpis: | N70: Razítko
C76: REKAPITULACE ROZPOČTU
C78: Stavba: | F78: =$F$6 -> Údržba a obnova hřbitovních staveb
C79: Objekt: | F79: =$F$7 -> marnice - SO 02 Márnice
C81: Místo: | F81: =$F$9 -> Hlízov | K81: Datum: | M81: =IF($O$9="","",$O$9)
C83: Objednavatel: | F83: =$E$12 -> Obec Hlízov,285 32 Hlízov 164 | K83: Projektant: | M83: =$E$18 -> Beran Pavel
C84: Zhotovitel: | F84: =IF($E$15="","",$E$15) -> dosud neurčen | K84: Zpracovatel: | M84: =$E$21 -> Beran Pavel
C86: Kód - Popis | N86: Cena celkem [CZK]
C88: 1) Náklady z rozpočtu | N88: =$N$121 -> 0 | AU88: -1
D89: HSV - Práce a dodávky HSV | N89: =$N$122 -> 0
D90: 1 - Zemní práce | N90: =$N$123 -> 0
...

Sheet marnice - SO 02 Márnice - neuz.
D1: List obsahuje: | F1: 1) Krycí list rozpočtu | H1: 2) Rekapitulace rozpočtu | L1: 3) Rozpočet | O1: Zpět na list: | S1: Rekapitulace stavby
C2: optimalizováno pro tisk sestav ve formátu A4 - na výšku | S2: >> skryté sloupce << | AT2: {CE762D09-F09F-4608-ACD4-05696435777D}
AT3: 2
C4: KRYCÍ LIST ROZPOČTU | T4: v --- níže se nacházejí doplnkové a pomocné údaje k sestavám --- v | AT4: False
D6: Stavba: | F6: ='Rekapitulace stavby'!K6 -> Údržba a obnova hřbitovních staveb
D7: Objekt: | F7: marnice - SO 02 Márnice
D8: JKSO: | M8: CC-CZ:
D9: Místo: | F9: Hlízov | M9: Datum:
D11: Objednavatel: | M11: IČ: | O11: IČ:00640336
E12: Obec Hlízov,285 32 Hlízov 164 | M12: DIČ:
D14: Zhotovitel: | M14: IČ:
E15: dosud neurčen | M15: DIČ:
D17: Projektant: | M17: IČ:
E18: Beran Pavel | M18: DIČ:
D20: Zpracovatel: | M20: IČ:
E21: Beran Pavel | M21: DIČ:
D23: Poznámka:
D27: Náklady z rozpočtu | M27: =$N$88 -> 0
D28: Ostatní náklady | M28: =$N$92 -> 0
D30: Cena bez DPH | M30: =ROUND($M$27+$M$28,2) -> 0
D32: DPH | E32: základní | F32: 0.21 | G32: ze | H32: =ROUND((SUM($BE$92:$BE$93)+SUM($BE$111:$BE$117)),2) -> 0 | M32: =ROUND(ROUND((SUM($BE$92:$BE$93)+SUM($BE$111:$BE$117)),2)*$F$32,2) -> 0
E33: snížená | F33: 0.15 | G33: ze | H33: =ROUND((SUM($BF$92:$BF$93)+SUM($BF$111:$BF$117)),2) -> 0 | M33: =ROUND(ROUND((SUM($BF$92:$BF$93)+SUM($BF$111:$BF$117)),2)*$F$33,2) -> 0
E34: zákl. přenesená | F34: 0.21 | G34: ze | H34: =ROUND((SUM($BG$92:$BG$93)+SUM($BG$111:$BG$117)),2) -> 0 | M34: 0
E35: sníž. přenesená | F35: 0.15 | G35: ze | H35: =ROUND((SUM($BH$92:$BH$93)+SUM($BH$111:$BH$117)),2) -> 0 | M35: 0
E36: nulová | F36: 0 | G36: ze | H36: =ROUND((SUM($BI$92:$BI$93)+SUM($BI$111:$BI$117)),2) -> 0 | M36: 0
D38: Cena s DPH | G38: v | H38: CZK | L38: =SUM($M$30:$M$36) -> 0
D50: Projektant | J50: Zpracovatel
D59: Datum a podpis: | G59: Razítko | J59: Datum a podpis: | N59: Razítko
D61: Objednavatel | J61: Zhotovitel
D70: Datum a podpis: | G70: Razítko | J70: Datum a podpis: | N70: Razítko
C76: REKAPITULACE ROZPOČTU
C78: Stavba: | F78: =$F$6 -> Údržba a obnova hřbitovních staveb
C79: Objekt: | F79: =$F$7 -> marnice - SO 02 Márnice
C81: Místo: | F81: =$F$9 -> Hlízov | K81: Datum: | M81: =IF($O$9="","",$O$9)
C83: Objednavatel: | F83: =$E$12 -> Obec Hlízov,285 32 Hlízov 164 | K83: Projektant: | M83: =$E$18 -> Beran Pavel
C84: Zhotovitel: | F84: =IF($E$15="","",$E$15) -> dosud neurčen | K84: Zpracovatel: | M84: =$E$21 -> Beran Pavel
C86: Kód - Popis | N86: Cena celkem [CZK]
C88: 1) Náklady z rozpočtu | N88: =$N$111 -> 0 | AU88: -1
D89: HSV - Práce a dodávky HSV | N89: =$N$112 -> 0
D90: 997 - Přesun sutě | N90: =$N$113 -> 0
...

Sheet sklad - SO 03 Sklad
D1: List obsahuje: | F1: 1) Krycí list rozpočtu | H1: 2) Rekapitulace rozpočtu | L1: 3) Rozpočet | O1: Zpět na list: | S1: Rekapitulace stavby
C2: optimalizováno pro tisk sestav ve formátu A4 - na výšku | S2: >> skryté sloupce << | AT2: {0666B8E1-AFC8-458E-9371-C98E14235B05}
AT3: 2
C4: KRYCÍ LIST ROZPOČTU | T4: v --- níže se nacházejí doplnkové a pomocné údaje k sestavám --- v | AT4: False
D6: Stavba: | F6: ='Rekapitulace stavby'!K6 -> Údržba a obnova hřbitovních staveb
D7: Objekt: | F7: sklad - SO 03 Sklad
D8: JKSO: | M8: CC-CZ:
D9: Místo: | F9: Hlízov | M9: Datum:
D11: Objednavatel: | M11: IČ: | O11: IČ:00640336
E12: Obec Hlízov,285 32 Hlízov 164 | M12: DIČ:
D14: Zhotovitel: | M14: IČ:
E15: dosud neurčen | M15: DIČ:
D17: Projektant: | M17: IČ:
E18: Beran Pavel | M18: DIČ:
D20: Zpracovatel: | M20: IČ:
E21: Beran Pavel | M21: DIČ:
D23: Poznámka:
D27: Náklady z rozpočtu | M27: =$N$88 -> 0
D28: Ostatní náklady | M28: =$N$103 -> 0
D30: Cena bez DPH | M30: =ROUND($M$27+$M$28,2) -> 0
D32: DPH | E32: základní | F32: 0.21 | G32: ze | H32: =ROUND((SUM($BE$103:$BE$104)+SUM($BE$122:$BE$181)),2) -> 0 | M32: =ROUND(ROUND((SUM($BE$103:$BE$104)+SUM($BE$122:$BE$181)),2)*$F$32,2) -> 0
E33: snížená | F33: 0.15 | G33: ze | H33: =ROUND((SUM($BF$103:$BF$104)+SUM($BF$122:$BF$181)),2) -> 0 | M33: =ROUND(ROUND((SUM($BF$103:$BF$104)+SUM($BF$122:$BF$181)),2)*$F$33,2) -> 0
E34: zákl. přenesená | F34: 0.21 | G34: ze | H34: =ROUND((SUM($BG$103:$BG$104)+SUM($BG$122:$BG$181)),2) -> 0 | M34: 0
E35: sníž. přenesená | F35: 0.15 | G35: ze | H35: =ROUND((SUM($BH$103:$BH$104)+SUM($BH$122:$BH$181)),2) -> 0 | M35: 0
E36: nulová | F36: 0 | G36: ze | H36: =ROUND((SUM($BI$103:$BI$104)+SUM($BI$122:$BI$181)),2) -> 0 | M36: 0
D38: Cena s DPH | G38: v | H38: CZK | L38: =SUM($M$30:$M$36) -> 0
D50: Projektant | J50: Zpracovatel
D59: Datum a podpis: | G59: Razítko | J59: Datum a podpis: | N59: Razítko
D61: Objednavatel | J61: Zhotovitel
D70: Datum a podpis: | G70: Razítko | J70: Datum a podpis: | N70: Razítko
C76: REKAPITULACE ROZPOČTU
C78: Stavba: | F78: =$F$6 -> Údržba a obnova hřbitovních staveb
C79: Objekt: | F79: =$F$7 -> sklad - SO 03 Sklad
C81: Místo: | F81: =$F$9 -> Hlízov | K81: Datum: | M81: =IF($O$9="","",$O$9)
C83: Objednavatel: | F83: =$E$12 -> Obec Hlízov,285 32 Hlízov 164 | K83: Projektant: | M83: =$E$18 -> Beran Pavel
C84: Zhotovitel: | F84: =IF($E$15="","",$E$15) -> dosud neurčen | K84: Zpracovatel: | M84: =$E$21 -> Beran Pavel
C86: Kód - Popis | N86: Cena celkem [CZK]
C88: 1) Náklady z rozpočtu | N88: =$N$122 -> 0 | AU88: -1
D89: HSV - Práce a dodávky HSV | N89: =$N$123 -> 0
D90: 1 - Zemní práce | N90: =$N$124 -> 0
...

Sheet kolumbarium - SO 04 Kolum...
D1: List obsahuje: | F1: 1) Krycí list rozpočtu | H1: 2) Rekapitulace rozpočtu | L1: 3) Rozpočet | O1: Zpět na list: | S1: Rekapitulace stavby
C2: optimalizováno pro tisk sestav ve formátu A4 - na výšku | S2: >> skryté sloupce << | AT2: {27103560-14AE-4569-A58D-95D2F881EB00}
AT3: 2
C4: KRYCÍ LIST ROZPOČTU | T4: v --- níže se nacházejí doplnkové a pomocné údaje k sestavám --- v | AT4: False
D6: Stavba: | F6: ='Rekapitulace stavby'!K6 -> Údržba a obnova hřbitovních staveb
D7: Objekt: | F7: kolumbarium - SO 04 Kolumbárium_1
D8: JKSO: | M8: CC-CZ:
D9: Místo: | F9: Hlízov | M9: Datum:
D11: Objednavatel: | M11: IČ: | O11: IČ:00640336
E12: Obec Hlízov,285 32 Hlízov 164 | M12: DIČ:
D14: Zhotovitel: | M14: IČ:
E15: dosud neurčen | M15: DIČ:
D17: Projektant: | M17: IČ:
E18: Beran Pavel | M18: DIČ:
D20: Zpracovatel: | M20: IČ:
E21: Beran Pavel | M21: DIČ:
D23: Poznámka:
D27: Náklady z rozpočtu | M27: =$N$88 -> 0
D28: Ostatní náklady | M28: =$N$103 -> 0
D30: Cena bez DPH | M30: =ROUND($M$27+$M$28,2) -> 0
D32: DPH | E32: základní | F32: 0.21 | G32: ze | H32: =ROUND((SUM($BE$103:$BE$104)+SUM($BE$122:$BE$184)),2) -> 0 | M32: =ROUND(ROUND((SUM($BE$103:$BE$104)+SUM($BE$122:$BE$184)),2)*$F$32,2) -> 0
E33: snížená | F33: 0.15 | G33: ze | H33: =ROUND((SUM($BF$103:$BF$104)+SUM($BF$122:$BF$184)),2) -> 0 | M33: =ROUND(ROUND((SUM($BF$103:$BF$104)+SUM($BF$122:$BF$184)),2)*$F$33,2) -> 0
E34: zákl. přenesená | F34: 0.21 | G34: ze | H34: =ROUND((SUM($BG$103:$BG$104)+SUM($BG$122:$BG$184)),2) -> 0 | M34: 0
E35: sníž. přenesená | F35: 0.15 | G35: ze | H35: =ROUND((SUM($BH$103:$BH$104)+SUM($BH$122:$BH$184)),2) -> 0 | M35: 0
E36: nulová | F36: 0 | G36: ze | H36: =ROUND((SUM($BI$103:$BI$104)+SUM($BI$122:$BI$184)),2) -> 0 | M36: 0
D38: Cena s DPH | G38: v | H38: CZK | L38: =SUM($M$30:$M$36) -> 0
D50: Projektant | J50: Zpracovatel
D59: Datum a podpis: | G59: Razítko | J59: Datum a podpis: | N59: Razítko
D61: Objednavatel | J61: Zhotovitel
D70: Datum a podpis: | G70: Razítko | J70: Datum a podpis: | N70: Razítko
C76: REKAPITULACE ROZPOČTU
C78: Stavba: | F78: =$F$6 -> Údržba a obnova hřbitovních staveb
C79: Objekt: | F79: =$F$7 -> kolumbarium - SO 04 Kolumbárium_1
C81: Místo: | F81: =$F$9 -> Hlízov | K81: Datum: | M81: =IF($O$9="","",$O$9)
C83: Objednavatel: | F83: =$E$12 -> Obec Hlízov,285 32 Hlízov 164 | K83: Projektant: | M83: =$E$18 -> Beran Pavel
C84: Zhotovitel: | F84: =IF($E$15="","",$E$15) -> dosud neurčen | K84: Zpracovatel: | M84: =$E$21 -> Beran Pavel
C86: Kód - Popis | N86: Cena celkem [CZK]
C88: 1) Náklady z rozpočtu | N88: =$N$122 -> 0 | AU88: -1
D89: HSV - Práce a dodávky HSV | N89: =$N$123 -> 0
D90: 1 - Zemní práce | N90: =$N$124 -> 0
...

Sheet kolumbarium2 - SO 05 Kolu...
D1: List obsahuje: | F1: 1) Krycí list rozpočtu | H1: 2) Rekapitulace rozpočtu | L1: 3) Rozpočet | O1: Zpět na list: | S1: Rekapitulace stavby
C2: optimalizováno pro tisk sestav ve formátu A4 - na výšku | S2: >> skryté sloupce << | AT2: {8BE95CF8-83C0-4FFB-8B8C-F92817216FBF}
AT3: 2
C4: KRYCÍ LIST ROZPOČTU | T4: v --- níže se nacházejí doplnkové a pomocné údaje k sestavám --- v | AT4: False
D6: Stavba: | F6: ='Rekapitulace stavby'!K6 -> Údržba a obnova hřbitovních staveb
D7: Objekt: | F7: kolumbarium2 - SO 05 Kolumbárium_2
D8: JKSO: | M8: CC-CZ:
D9: Místo: | F9: Hlízov | M9: Datum:
D11: Objednavatel: | M11: IČ: | O11: IČ:00640336
E12: Obec Hlízov,285 32 Hlízov 164 | M12: DIČ:
D14: Zhotovitel: | M14: IČ:
E15: dosud neurčen | M15: DIČ:
D17: Projektant: | M17: IČ:
E18: Beran Pavel | M18: DIČ:
D20: Zpracovatel: | M20: IČ:
M21: DIČ:
D23: Poznámka:
D27: Náklady z rozpočtu | M27: =$N$88 -> 0
D28: Ostatní náklady | M28: =$N$103 -> 0
D30: Cena bez DPH | M30: =ROUND($M$27+$M$28,2) -> 0
D32: DPH | E32: základní | F32: 0.21 | G32: ze | H32: =ROUND((SUM($BE$103:$BE$104)+SUM($BE$122:$BE$181)),2) -> 0 | M32: =ROUND(ROUND((SUM($BE$103:$BE$104)+SUM($BE$122:$BE$181)),2)*$F$32,2) -> 0
E33: snížená | F33: 0.15 | G33: ze | H33: =ROUND((SUM($BF$103:$BF$104)+SUM($BF$122:$BF$181)),2) -> 0 | M33: =ROUND(ROUND((SUM($BF$103:$BF$104)+SUM($BF$122:$BF$181)),2)*$F$33,2) -> 0
E34: zákl. přenesená | F34: 0.21 | G34: ze | H34: =ROUND((SUM($BG$103:$BG$104)+SUM($BG$122:$BG$181)),2) -> 0 | M34: 0
E35: sníž. přenesená | F35: 0.15 | G35: ze | H35: =ROUND((SUM($BH$103:$BH$104)+SUM($BH$122:$BH$181)),2) -> 0 | M35: 0
E36: nulová | F36: 0 | G36: ze | H36: =ROUND((SUM($BI$103:$BI$104)+SUM($BI$122:$BI$181)),2) -> 0 | M36: 0
D38: Cena s DPH | G38: v | H38: CZK | L38: =SUM($M$30:$M$36) -> 0
D50: Projektant | J50: Zpracovatel
D59: Datum a podpis: | G59: Razítko | J59: Datum a podpis: | N59: Razítko
D61: Objednavatel | J61: Zhotovitel
D70: Datum a podpis: | G70: Razítko | J70: Datum a podpis: | N70: Razítko
C76: REKAPITULACE ROZPOČTU
C78: Stavba: | F78: =$F$6 -> Údržba a obnova hřbitovních staveb
C79: Objekt: | F79: =$F$7 -> kolumbarium2 - SO 05 Kolumbárium_2
C81: Místo: | F81: =$F$9 -> Hlízov | K81: Datum: | M81: =IF($O$9="","",$O$9)
C83: Objednavatel: | F83: =$E$12 -> Obec Hlízov,285 32 Hlízov 164 | K83: Projektant: | M83: =$E$18 -> Beran Pavel
C84: Zhotovitel: | F84: =IF($E$15="","",$E$15) -> dosud neurčen | K84: Zpracovatel: | M84: =$E$21 -> 0
C86: Kód - Popis | N86: Cena celkem [CZK]
C88: 1) Náklady z rozpočtu | N88: =$N$122 -> 0 | AU88: -1
D89: HSV - Práce a dodávky HSV | N89: =$N$123 -> 0
D90: 1 - Zemní práce | N90: =$N$124 -> 0
...
